Workbook

Sheet Master
A1: Player Name | B1: Jersey # | C1: Display Name
A2: Player 1 | C2: =A2&" (#"&B2&")" -> Player 1 (#)
A3: Player 2 | C3: =A3&" (#"&B3&")" -> Player 2 (#)
A4: Player 3 | C4: =A4&" (#"&B4&")" -> Player 3 (#)
A5: Player 4 | C5: =A5&" (#"&B5&")" -> Player 4 (#)
A6: Player 5 | C6: =A6&" (#"&B6&")" -> Player 5 (#)
A7: Player 6 | C7: =A7&" (#"&B7&")" -> Player 6 (#)
A8: Player 7 | C8: =A8&" (#"&B8&")" -> Player 7 (#)
A9: Player 8 | C9: =A9&" (#"&B9&")" -> Player 8 (#)
A10: Player 9 | C10: =A10&" (#"&B10&")" -> Player 9 (#)
A11: Player 10 | C11: =A11&" (#"&B11&")" -> Player 10 (#)
A12: Player 11 | C12: =A12&" (#"&B12&")" -> Player 11 (#)
A13: Player 12 | C13: =A13&" (#"&B13&")" -> Player 12 (#)
A14: Player 13 | C14: =A14&" (#"&B14&")" -> Player 13 (#)
A16: Tracking Summary
B17: Pitcher | C17: Catcher | D17: First Base | E17: Second Base | F17: Shortstop | G17: Third Base | H17: Left Field | I17: Center Field | J17: Right Field | K17: Bench | M17: Infield Total | N17: Outfield Total | O17: Bench Total | P17: Total Innings | Q17: Infield % | R17: Outfield % | S17: Bench % | U17: Avg Innings Team | V17: Games Absent | W17: Player of Game
A18: =A2 -> Player 1 | B18: =COUNTIF('Game 1'!$B$12:$G$12,"*"&$A18&"*")+COUNTIF('Game 2'!$B$12:$G$12,"*"&$A18&"*")+COUNTIF('Game 3'!$B$12:$G$12,"*"&$A18&"*")+COUNTIF('Game 4'!$B$12:$G$12,"*"&$A18&"*")+COUNTIF('Game 5'!$B$12:$G$12,"*"&$A18&"*")+COUNTIF('Game 6'!$B$12:$G$12,"*"&$A18&"*")+COUNTIF('Game 7'!$B$12:$G$12,"*"&$A18&"*")+COUNTIF('Game 8'!$B$12:$G$12,"*"&$A18&"*")+COUNTIF('Game 9'!$B$12:$G$12,"*"&$A18&"*")+COUNTIF('Game 10'!$B$12:$G$12,"*"&$A18&"*")+COUNTIF('Game 11'!$B$12:$G$12,"*"&$A18&"*")+COUNTIF('Game 12'!$B$12:$G$12,"*"&$A18&"*")+COUNTIF('Game 13'!$B$12:$G$12,"*"&$A18&"*")+COUNTIF('Game 14'!$B$12:$G$12,"*"&$A18&"*")+COUNTIF('Game 15'!$B$12:$G$12,"*"&$A18&"*")+COUNTIF('Game 16'!$B$12:$G$12,"*"&$A18&"*") -> 0 | C18: =COUNTIF('Game 1'!$B$11:$G$11,"*"&$A18&"*")+COUNTIF('Game 2'!$B$11:$G$11,"*"&$A18&"*")+COUNTIF('Game 3'!$B$11:$G$11,"*"&$A18&"*")+COUNTIF('Game 4'!$B$11:$G$11,"*"&$A18&"*")+COUNTIF('Game 5'!$B$11:$G$11,"*"&$A18&"*")+COUNTIF('Game 6'!$B$11:$G$11,"*"&$A18&"*")+COUNTIF('Game 7'!$B$11:$G$11,"*"&$A18&"*")+COUNTIF('Game 8'!$B$11:$G$11,"*"&$A18&"*")+COUNTIF('Game 9'!$B$11:$G$11,"*"&$A18&"*")+COUNTIF('Game 10'!$B$11:$G$11,"*"&$A18&"*")+COUNTIF('Game 11'!$B$11:$G$11,"*"&$A18&"*")+COUNTIF('Game 12'!$B$11:$G$11,"*"&$A18&"*")+COUNTIF('Game 13'!$B$11:$G$11,"*"&$A18&"*")+COUNTIF('Game 14'!$B$11:$G$11,"*"&$A18&"*")+COUNTIF('Game 15'!$B$11:$G$11,"*"&$A18&"*")+COUNTIF('Game 16'!$B$11:$G$11,"*"&$A18&"*") -> 0 | D18: =COUNTIF('Game 1'!$B$10:$G$10,"*"&$A18&"*")+COUNTIF('Game 2'!$B$10:$G$10,"*"&$A18&"*")+COUNTIF('Game 3'!$B$10:$G$10,"*"&$A18&"*")+COUNTIF('Game 4'!$B$10:$G$10,"*"&$A18&"*")+COUNTIF('Game 5'!$B$10:$G$10,"*"&$A18&"*")+COUNTIF('Game 6'!$B$10:$G$10,"*"&$A18&"*")+COUNTIF('Game 7'!$B$10:$G$10,"*"&$A18&"*")+COUNTIF('Game 8'!$B$10:$G$10,"*"&$A18&"*")+COUNTIF('Game 9'!$B$10:$G$10,"*"&$A18&"*")+COUNTIF('Game 10'!$B$10:$G$10,"*"&$A18&"*")+COUNTIF('Game 11'!$B$10:$G$10,"*"&$A18&"*")+COUNTIF('Game 12'!$B$10:$G$10,"*"&$A18&"*")+COUNTIF('Game 13'!$B$10:$G$10,"*"&$A18&"*")+COUNTIF('Game 14'!$B$10:$G$10,"*"&$A18&"*")+COUNTIF('Game 15'!$B$10:$G$10,"*"&$A18&"*")+COUNTIF('Game 16'!$B$10:$G$10,"*"&$A18&"*") -> 0 | E18: =COUNTIF('Game 1'!$B$9:$G$9,"*"&$A18&"*")+COUNTIF('Game 2'!$B$9:$G$9,"*"&$A18&"*")+COUNTIF('Game 3'!$B$9:$G$9,"*"&$A18&"*")+COUNTIF('Game 4'!$B$9:$G$9,"*"&$A18&"*")+COUNTIF('Game 5'!$B$9:$G$9,"*"&$A18&"*")+COUNTIF('Game 6'!$B$9:$G$9,"*"&$A18&"*")+COUNTIF('Game 7'!$B$9:$G$9,"*"&$A18&"*")+COUNTIF('Game 8'!$B$9:$G$9,"*"&$A18&"*")+COUNTIF('Game 9'!$B$9:$G$9,"*"&$A18&"*")+COUNTIF('Game 10'!$B$9:$G$9,"*"&$A18&"*")+COUNTIF('Game 11'!$B$9:$G$9,"*"&$A18&"*")+COUNTIF('Game 12'!$B$9:$G$9,"*"&$A18&"*")+COUNTIF('Game 13'!$B$9:$G$9,"*"&$A18&"*")+COUNTIF('Game 14'!$B$9:$G$9,"*"&$A18&"*")+COUNTIF('Game 15'!$B$9:$G$9,"*"&$A18&"*")+COUNTIF('Game 16'!$B$9:$G$9,"*"&$A18&"*") -> 0 | F18: =COUNTIF('Game 1'!$B$8:$G$8,"*"&$A18&"*")+COUNTIF('Game 2'!$B$8:$G$8,"*"&$A18&"*")+COUNTIF('Game 3'!$B$8:$G$8,"*"&$A18&"*")+COUNTIF('Game 4'!$B$8:$G$8,"*"&$A18&"*")+COUNTIF('Game 5'!$B$8:$G$8,"*"&$A18&"*")+COUNTIF('Game 6'!$B$8:$G$8,"*"&$A18&"*")+COUNTIF('Game 7'!$B$8:$G$8,"*"&$A18&"*")+COUNTIF('Game 8'!$B$8:$G$8,"*"&$A18&"*")+COUNTIF('Game 9'!$B$8:$G$8,"*"&$A18&"*")+COUNTIF('Game 10'!$B$8:$G$8,"*"&$A18&"*")+COUNTIF('Game 11'!$B$8:$G$8,"*"&$A18&"*")+COUNTIF('Game 12'!$B$8:$G$8,"*"&$A18&"*")+COUNTIF('Game 13'!$B$8:$G$8,"*"&$A18&"*")+COUNTIF('Game 14'!$B$8:$G$8,"*"&$A18&"*")+COUNTIF('Game 15'!$B$8:$G$8,"*"&$A18&"*")+COUNTIF('Game 16'!$B$8:$G$8,"*"&$A18&"*") -> 0 | G18: =COUNTIF('Game 1'!$B$7:$G$7,"*"&$A18&"*")+COUNTIF('Game 2'!$B$7:$G$7,"*"&$A18&"*")+COUNTIF('Game 3'!$B$7:$G$7,"*"&$A18&"*")+COUNTIF('Game 4'!$B$7:$G$7,"*"&$A18&"*")+COUNTIF('Game 5'!$B$7:$G$7,"*"&$A18&"*")+COUNTIF('Game 6'!$B$7:$G$7,"*"&$A18&"*")+COUNTIF('Game 7'!$B$7:$G$7,"*"&$A18&"*")+COUNTIF('Game 8'!$B$7:$G$7,"*"&$A18&"*")+COUNTIF('Game 9'!$B$7:$G$7,"*"&$A18&"*")+COUNTIF('Game 10'!$B$7:$G$7,"*"&$A18&"*")+COUNTIF('Game 11'!$B$7:$G$7,"*"&$A18&"*")+COUNTIF('Game 12'!$B$7:$G$7,"*"&$A18&"*")+COUNTIF('Game 13'!$B$7:$G$7,"*"&$A18&"*")+COUNTIF('Game 14'!$B$7:$G$7,"*"&$A18&"*")+COUNTIF('Game 15'!$B$7:$G$7,"*"&$A18&"*")+COUNTIF('Game 16'!$B$7:$G$7,"*"&$A18&"*") -> 0 | H18: =COUNTIF('Game 1'!$B$4:$G$4,"*"&$A18&"*")+COUNTIF('Game 2'!$B$4:$G$4,"*"&$A18&"*")+COUNTIF('Game 3'!$B$4:$G$4,"*"&$A18&"*")+COUNTIF('Game 4'!$B$4:$G$4,"*"&$A18&"*")+COUNTIF('Game 5'!$B$4:$G$4,"*"&$A18&"*")+COUNTIF('Game 6'!$B$4:$G$4,"*"&$A18&"*")+COUNTIF('Game 7'!$B$4:$G$4,"*"&$A18&"*")+COUNTIF('Game 8'!$B$4:$G$4,"*"&$A18&"*")+COUNTIF('Game 9'!$B$4:$G$4,"*"&$A18&"*")+COUNTIF('Game 10'!$B$4:$G$4,"*"&$A18&"*")+COUNTIF('Game 11'!$B$4:$G$4,"*"&$A18&"*")+COUNTIF('Game 12'!$B$4:$G$4,"*"&$A18&"*")+COUNTIF('Game 13'!$B$4:$G$4,"*"&$A18&"*")+COUNTIF('Game 14'!$B$4:$G$4,"*"&$A18&"*")+COUNTIF('Game 15'!$B$4:$G$4,"*"&$A18&"*")+COUNTIF('Game 16'!$B$4:$G$4,"*"&$A18&"*") -> 0 | I18: =COUNTIF('Game 1'!$B$5:$G$5,"*"&$A18&"*")+COUNTIF('Game 2'!$B$5:$G$5,"*"&$A18&"*")+COUNTIF('Game 3'!$B$5:$G$5,"*"&$A18&"*")+COUNTIF('Game 4'!$B$5:$G$5,"*"&$A18&"*")+COUNTIF('Game 5'!$B$5:$G$5,"*"&$A18&"*")+COUNTIF('Game 6'!$B$5:$G$5,"*"&$A18&"*")+COUNTIF('Game 7'!$B$5:$G$5,"*"&$A18&"*")+COUNTIF('Game 8'!$B$5:$G$5,"*"&$A18&"*")+COUNTIF('Game 9'!$B$5:$G$5,"*"&$A18&"*")+COUNTIF('Game 10'!$B$5:$G$5,"*"&$A18&"*")+COUNTIF('Game 11'!$B$5:$G$5,"*"&$A18&"*")+COUNTIF('Game 12'!$B$5:$G$5,"*"&$A18&"*")+COUNTIF('Game 13'!$B$5:$G$5,"*"&$A18&"*")+COUNTIF('Game 14'!$B$5:$G$5,"*"&$A18&"*")+COUNTIF('Game 15'!$B$5:$G$5,"*"&$A18&"*")+COUNTIF('Game 16'!$B$5:$G$5,"*"&$A18&"*") -> 0 | J18: =COUNTIF('Game 1'!$B$6:$G$6,"*"&$A18&"*")+COUNTIF('Game 2'!$B$6:$G$6,"*"&$A18&"*")+COUNTIF('Game 3'!$B$6:$G$6,"*"&$A18&"*")+COUNTIF('Game 4'!$B$6:$G$6,"*"&$A18&"*")+COUNTIF('Game 5'!$B$6:$G$6,"*"&$A18&"*")+COUNTIF('Game 6'!$B$6:$G$6,"*"&$A18&"*")+COUNTIF('Game 7'!$B$6:$G$6,"*"&$A18&"*")+COUNTIF('Game 8'!$B$6:$G$6,"*"&$A18&"*")+COUNTIF('Game 9'!$B$6:$G$6,"*"&$A18&"*")+COUNTIF('Game 10'!$B$6:$G$6,"*"&$A18&"*")+COUNTIF('Game 11'!$B$6:$G$6,"*"&$A18&"*")+COUNTIF('Game 12'!$B$6:$G$6,"*"&$A18&"*")+COUNTIF('Game 13'!$B$6:$G$6,"*"&$A18&"*")+COUNTIF('Game 14'!$B$6:$G$6,"*"&$A18&"*")+COUNTIF('Game 15'!$B$6:$G$6,"*"&$A18&"*")+COUNTIF('Game 16'!$B$6:$G$6,"*"&$A18&"*") -> 0 | K18: =COUNTIF('Game 1'!$B$13:$G$13,"*"&$A18&"*")+COUNTIF('Game 1'!$B$14:$G$14,"*"&$A18&"*")+COUNTIF('Game 1'!$B$15:$G$15,"*"&$A18&"*")+COUNTIF('Game 1'!$B$16:$G$16,"*"&$A18&"*")+COUNTIF('Game 2'!$B$13:$G$13,"*"&$A18&"*")+COUNTIF('Game 2'!$B$14:$G$14,"*"&$A18&"*")+COUNTIF('Game 2'!$B$15:$G$15,"*"&$A18&"*")+COUNTIF('Game 2'!$B$16:$G$16,"*"&$A18&"*")+COUNTIF('Game 3'!$B$13:$G$13,"*"&$A18&"*")+COUNTIF('Game 3'!$B$14:$G$14,"*"&$A18&"*")+COUNTIF('Game 3'!$B$15:$G$15,"*"&$A18&"*")+COUNTIF('Game 3'!$B$16:$G$16,"*"&$A18&"*")+COUNTIF('Game 4'!$B$13:$G$13,"*"&$A18&"*")+COUNTIF('Game 4'!$B$14:$G$14,"*"&$A18&"*")+COUNTIF('Game 4'!$B$15:$G$15,"*"&$A18&"*")+COUNTIF('Game 4'!$B$16:$G$16,"*"&$A18&"*")+COUNTIF('Game 5'!$B$13:$G$13,"*"&$A18&"*")+COUNTIF('Game 5'!$B$14:$G$14,"*"&$A18&"*")+COUNTIF('Game 5'!$B$15:$G$15,"*"&$A18&"*")+COUNTIF('Game 5'!$B$16:$G$16,"*"&$A18&"*")+COUNTIF('Game 6'!$B$13:$G$13,"*"&$A18&"*")+COUNTIF('Game 6'!$B$14:$G$14,"*"&$A18&"*")+COUNTIF('Game 6'!$B$15:$G$15,"*"&$A18&"*")+COUNTIF('Game 6'!$B$16:$G$16,"*"&$A18&"*")+COUNTIF('Game 7'!$B$13:$G$13,"*"&$A18&"*")+COUNTIF('Game 7'!$B$14:$G$14,"*"&$A18&"*")+COUNTIF('Game 7'!$B$15:$G$15,"*"&$A18&"*")+COUNTIF('Game 7'!$B$16:$G$16,"*"&$A18&"*")+COUNTIF('Game 8'!$B$13:$G$13,"*"&$A18&"*")+COUNTIF('Game 8'!$B$14:$G$14,"*"&$A18&"*")+COUNTIF('Game 8'!$B$15:$G$15,"*"&$A18&"*")+COUNTIF('Game 8'!$B$16:$G$16,"*"&$A18&"*")+COUNTIF('Game 9'!$B$13:$G$13,"*"&$A18&"*")+COUNTIF('Game 9'!$B$14:$G$14,"*"&$A18&"*")+COUNTIF('Game 9'!$B$15:$G$15,"*"&$A18&"*")+COUNTIF('Game 9'!$B$16:$G$16,"*"&$A18&"*")+COUNTIF('Game 10'!$B$13:$G$13,"*"&$A18&"*")+COUNTIF('Game 10'!$B$14:$G$14,"*"&$A18&"*")+COUNTIF('Game 10'!$B$15:$G$15,"*"&$A18&"*")+COUNTIF('Game 10'!$B$16:$G$16,"*"&$A18&"*")+COUNTIF('Game 11'!$B$13:$G$13,"*"&$A18&"*")+COUNTIF('Game 11'!$B$14:$G$14,"*"&$A18&"*")+COUNTIF('Game 11'!$B$15:$G$15,"*"&$A18&"*")+COUNTIF('Game 11'!$B$16:$G$16,"*"&$A18&"*")+COUNTIF('Game 12'!$B$13:$G$13,"*"&$A18&"*")+COUNTIF('Game 12'!$B$14:$G$14,"*"&$A18&"*")+COUNTIF('Game 12'!$B$15:$G$15,"*"&$A18&"*")+COUNTIF('Game 12'!$B$16:$G$16,"*"&$A18&"*")+COUNTIF('Game 13'!$B$13:$G$13,"*"&$A18&"*")+COUNTIF('Game 13'!$B$14:$G$14,"*"&$A18&"*")+COUNTIF('Game 13'!$B$15:$G$15,"*"&$A18&"*")+COUNTIF('Game 13'!$B$16:$G$16,"*"&$A18&"*")+COUNTIF('Game 14'!$B$13:$G$13,"*"&$A18&"*")+COUNTIF('Game 14'!$B$14:$G$14,"*"&$A18&"*")+COUNTIF('Game 14'!$B$15:$G$15,"*"&$A18&"*")+COUNTIF('Game 14'!$B$16:$G$16,"*"&$A18&"*")+COUNTIF('Game 15'!$B$13:$G$13,"*"&$A18&"*")+COUNTIF('Game 15'!$B$14:$G$14,"*"&$A18&"*")+COUNTIF('Game 15'!$B$15:$G$15,"*"&$A18&"*")+COUNTIF('Game 15'!$B$16:$G$16,"*"&$A18&"*")+COUNTIF('Game 16'!$B$13:$G$13,"*"&$A18&"*")+COUNTIF('Game 16'!$B$14:$G$14,"*"&$A18&"*")+COUNTIF('Game 16'!$B$15:$G$15,"*"&$A18&"*")+COUNTIF('Game 16'!$B$16:$G$16,"*"&$A18&"*") -> 0 | L18: =A18 -> Player 1 | M18: =SUM(B18:G18) -> 0 | N18: =SUM(H18:J18) -> 0 | O18: =K18 -> 0 | P18: =SUM(M18:O18) -> 0 | Q18: =IF(P18=0,0,M18/P18) -> 0 | R18: =IF(P18=0,0,N18/P18) -> 0 | S18: =IF(P18=0,0,O18/P18) -> 0 | U18: =AVERAGE(P18:P30) -> 0 | V18: ='Game 1'!Z2+'Game 2'!Z2+'Game 3'!Z2+'Game 4'!Z2+'Game 5'!Z2+'Game 6'!Z2+'Game 7'!Z2+'Game 8'!Z2+'Game 9'!Z2+'Game 10'!Z2+'Game 11'!Z2+'Game 12'!Z2+'Game 13'!Z2+'Game 14'!Z2+'Game 15'!Z2+'Game 16'!Z2 -> 0 | W18: =COUNTIF('Game 1'!$L$15,"*"&$A18&"*")+COUNTIF('Game 2'!$L$15,"*"&$A18&"*")+COUNTIF('Game 3'!$L$15,"*"&$A18&"*")+COUNTIF('Game 4'!$L$15,"*"&$A18&"*")+COUNTIF('Game 5'!$L$15,"*"&$A18&"*")+COUNTIF('Game 6'!$L$15,"*"&$A18&"*")+COUNTIF('Game 7'!$L$15,"*"&$A18&"*")+COUNTIF('Game 8'!$L$15,"*"&$A18&"*")+COUNTIF('Game 9'!$L$15,"*"&$A18&"*")+COUNTIF('Game 10'!$L$15,"*"&$A18&"*")+COUNTIF('Game 11'!$L$15,"*"&$A18&"*")+COUNTIF('Game 12'!$L$15,"*"&$A18&"*")+COUNTIF('Game 13'!$L$15,"*"&$A18&"*")+COUNTIF('Game 14'!$L$15,"*"&$A18&"*")+COUNTIF('Game 15'!$L$15,"*"&$A18&"*")+COUNTIF('Game 16'!$L$15,"*"&$A18&"*") -> 0
A19: =A3 -> Player 2 | B19: =COUNTIF('Game 1'!$B$12:$G$12,"*"&$A19&"*")+COUNTIF('Game 2'!$B$12:$G$12,"*"&$A19&"*")+COUNTIF('Game 3'!$B$12:$G$12,"*"&$A19&"*")+COUNTIF('Game 4'!$B$12:$G$12,"*"&$A19&"*")+COUNTIF('Game 5'!$B$12:$G$12,"*"&$A19&"*")+COUNTIF('Game 6'!$B$12:$G$12,"*"&$A19&"*")+COUNTIF('Game 7'!$B$12:$G$12,"*"&$A19&"*")+COUNTIF('Game 8'!$B$12:$G$12,"*"&$A19&"*")+COUNTIF('Game 9'!$B$12:$G$12,"*"&$A19&"*")+COUNTIF('Game 10'!$B$12:$G$12,"*"&$A19&"*")+COUNTIF('Game 11'!$B$12:$G$12,"*"&$A19&"*")+COUNTIF('Game 12'!$B$12:$G$12,"*"&$A19&"*")+COUNTIF('Game 13'!$B$12:$G$12,"*"&$A19&"*")+COUNTIF('Game 14'!$B$12:$G$12,"*"&$A19&"*")+COUNTIF('Game 15'!$B$12:$G$12,"*"&$A19&"*")+COUNTIF('Game 16'!$B$12:$G$12,"*"&$A19&"*") -> 0 | C19: =COUNTIF('Game 1'!$B$11:$G$11,"*"&$A19&"*")+COUNTIF('Game 2'!$B$11:$G$11,"*"&$A19&"*")+COUNTIF('Game 3'!$B$11:$G$11,"*"&$A19&"*")+COUNTIF('Game 4'!$B$11:$G$11,"*"&$A19&"*")+COUNTIF('Game 5'!$B$11:$G$11,"*"&$A19&"*")+COUNTIF('Game 6'!$B$11:$G$11,"*"&$A19&"*")+COUNTIF('Game 7'!$B$11:$G$11,"*"&$A19&"*")+COUNTIF('Game 8'!$B$11:$G$11,"*"&$A19&"*")+COUNTIF('Game 9'!$B$11:$G$11,"*"&$A19&"*")+COUNTIF('Game 10'!$B$11:$G$11,"*"&$A19&"*")+COUNTIF('Game 11'!$B$11:$G$11,"*"&$A19&"*")+COUNTIF('Game 12'!$B$11:$G$11,"*"&$A19&"*")+COUNTIF('Game 13'!$B$11:$G$11,"*"&$A19&"*")+COUNTIF('Game 14'!$B$11:$G$11,"*"&$A19&"*")+COUNTIF('Game 15'!$B$11:$G$11,"*"&$A19&"*")+COUNTIF('Game 16'!$B$11:$G$11,"*"&$A19&"*") -> 0 | D19: =COUNTIF('Game 1'!$B$10:$G$10,"*"&$A19&"*")+COUNTIF('Game 2'!$B$10:$G$10,"*"&$A19&"*")+COUNTIF('Game 3'!$B$10:$G$10,"*"&$A19&"*")+COUNTIF('Game 4'!$B$10:$G$10,"*"&$A19&"*")+COUNTIF('Game 5'!$B$10:$G$10,"*"&$A19&"*")+COUNTIF('Game 6'!$B$10:$G$10,"*"&$A19&"*")+COUNTIF('Game 7'!$B$10:$G$10,"*"&$A19&"*")+COUNTIF('Game 8'!$B$10:$G$10,"*"&$A19&"*")+COUNTIF('Game 9'!$B$10:$G$10,"*"&$A19&"*")+COUNTIF('Game 10'!$B$10:$G$10,"*"&$A19&"*")+COUNTIF('Game 11'!$B$10:$G$10,"*"&$A19&"*")+COUNTIF('Game 12'!$B$10:$G$10,"*"&$A19&"*")+COUNTIF('Game 13'!$B$10:$G$10,"*"&$A19&"*")+COUNTIF('Game 14'!$B$10:$G$10,"*"&$A19&"*")+COUNTIF('Game 15'!$B$10:$G$10,"*"&$A19&"*")+COUNTIF('Game 16'!$B$10:$G$10,"*"&$A19&"*") -> 0 | E19: =COUNTIF('Game 1'!$B$9:$G$9,"*"&$A19&"*")+COUNTIF('Game 2'!$B$9:$G$9,"*"&$A19&"*")+COUNTIF('Game 3'!$B$9:$G$9,"*"&$A19&"*")+COUNTIF('Game 4'!$B$9:$G$9,"*"&$A19&"*")+COUNTIF('Game 5'!$B$9:$G$9,"*"&$A19&"*")+COUNTIF('Game 6'!$B$9:$G$9,"*"&$A19&"*")+COUNTIF('Game 7'!$B$9:$G$9,"*"&$A19&"*")+COUNTIF('Game 8'!$B$9:$G$9,"*"&$A19&"*")+COUNTIF('Game 9'!$B$9:$G$9,"*"&$A19&"*")+COUNTIF('Game 10'!$B$9:$G$9,"*"&$A19&"*")+COUNTIF('Game 11'!$B$9:$G$9,"*"&$A19&"*")+COUNTIF('Game 12'!$B$9:$G$9,"*"&$A19&"*")+COUNTIF('Game 13'!$B$9:$G$9,"*"&$A19&"*")+COUNTIF('Game 14'!$B$9:$G$9,"*"&$A19&"*")+COUNTIF('Game 15'!$B$9:$G$9,"*"&$A19&"*")+COUNTIF('Game 16'!$B$9:$G$9,"*"&$A19&"*") -> 0 | F19: =COUNTIF('Game 1'!$B$8:$G$8,"*"&$A19&"*")+COUNTIF('Game 2'!$B$8:$G$8,"*"&$A19&"*")+COUNTIF('Game 3'!$B$8:$G$8,"*"&$A19&"*")+COUNTIF('Game 4'!$B$8:$G$8,"*"&$A19&"*")+COUNTIF('Game 5'!$B$8:$G$8,"*"&$A19&"*")+COUNTIF('Game 6'!$B$8:$G$8,"*"&$A19&"*")+COUNTIF('Game 7'!$B$8:$G$8,"*"&$A19&"*")+COUNTIF('Game 8'!$B$8:$G$8,"*"&$A19&"*")+COUNTIF('Game 9'!$B$8:$G$8,"*"&$A19&"*")+COUNTIF('Game 10'!$B$8:$G$8,"*"&$A19&"*")+COUNTIF('Game 11'!$B$8:$G$8,"*"&$A19&"*")+COUNTIF('Game 12'!$B$8:$G$8,"*"&$A19&"*")+COUNTIF('Game 13'!$B$8:$G$8,"*"&$A19&"*")+COUNTIF('Game 14'!$B$8:$G$8,"*"&$A19&"*")+COUNTIF('Game 15'!$B$8:$G$8,"*"&$A19&"*")+COUNTIF('Game 16'!$B$8:$G$8,"*"&$A19&"*") -> 0 | G19: =COUNTIF('Game 1'!$B$7:$G$7,"*"&$A19&"*")+COUNTIF('Game 2'!$B$7:$G$7,"*"&$A19&"*")+COUNTIF('Game 3'!$B$7:$G$7,"*"&$A19&"*")+COUNTIF('Game 4'!$B$7:$G$7,"*"&$A19&"*")+COUNTIF('Game 5'!$B$7:$G$7,"*"&$A19&"*")+COUNTIF('Game 6'!$B$7:$G$7,"*"&$A19&"*")+COUNTIF('Game 7'!$B$7:$G$7,"*"&$A19&"*")+COUNTIF('Game 8'!$B$7:$G$7,"*"&$A19&"*")+COUNTIF('Game 9'!$B$7:$G$7,"*"&$A19&"*")+COUNTIF('Game 10'!$B$7:$G$7,"*"&$A19&"*")+COUNTIF('Game 11'!$B$7:$G$7,"*"&$A19&"*")+COUNTIF('Game 12'!$B$7:$G$7,"*"&$A19&"*")+COUNTIF('Game 13'!$B$7:$G$7,"*"&$A19&"*")+COUNTIF('Game 14'!$B$7:$G$7,"*"&$A19&"*")+COUNTIF('Game 15'!$B$7:$G$7,"*"&$A19&"*")+COUNTIF('Game 16'!$B$7:$G$7,"*"&$A19&"*") -> 0 | H19: =COUNTIF('Game 1'!$B$4:$G$4,"*"&$A19&"*")+COUNTIF('Game 2'!$B$4:$G$4,"*"&$A19&"*")+COUNTIF('Game 3'!$B$4:$G$4,"*"&$A19&"*")+COUNTIF('Game 4'!$B$4:$G$4,"*"&$A19&"*")+COUNTIF('Game 5'!$B$4:$G$4,"*"&$A19&"*")+COUNTIF('Game 6'!$B$4:$G$4,"*"&$A19&"*")+COUNTIF('Game 7'!$B$4:$G$4,"*"&$A19&"*")+COUNTIF('Game 8'!$B$4:$G$4,"*"&$A19&"*")+COUNTIF('Game 9'!$B$4:$G$4,"*"&$A19&"*")+COUNTIF('Game 10'!$B$4:$G$4,"*"&$A19&"*")+COUNTIF('Game 11'!$B$4:$G$4,"*"&$A19&"*")+COUNTIF('Game 12'!$B$4:$G$4,"*"&$A19&"*")+COUNTIF('Game 13'!$B$4:$G$4,"*"&$A19&"*")+COUNTIF('Game 14'!$B$4:$G$4,"*"&$A19&"*")+COUNTIF('Game 15'!$B$4:$G$4,"*"&$A19&"*")+COUNTIF('Game 16'!$B$4:$G$4,"*"&$A19&"*") -> 0 | I19: =COUNTIF('Game 1'!$B$5:$G$5,"*"&$A19&"*")+COUNTIF('Game 2'!$B$5:$G$5,"*"&$A19&"*")+COUNTIF('Game 3'!$B$5:$G$5,"*"&$A19&"*")+COUNTIF('Game 4'!$B$5:$G$5,"*"&$A19&"*")+COUNTIF('Game 5'!$B$5:$G$5,"*"&$A19&"*")+COUNTIF('Game 6'!$B$5:$G$5,"*"&$A19&"*")+COUNTIF('Game 7'!$B$5:$G$5,"*"&$A19&"*")+COUNTIF('Game 8'!$B$5:$G$5,"*"&$A19&"*")+COUNTIF('Game 9'!$B$5:$G$5,"*"&$A19&"*")+COUNTIF('Game 10'!$B$5:$G$5,"*"&$A19&"*")+COUNTIF('Game 11'!$B$5:$G$5,"*"&$A19&"*")+COUNTIF('Game 12'!$B$5:$G$5,"*"&$A19&"*")+COUNTIF('Game 13'!$B$5:$G$5,"*"&$A19&"*")+COUNTIF('Game 14'!$B$5:$G$5,"*"&$A19&"*")+COUNTIF('Game 15'!$B$5:$G$5,"*"&$A19&"*")+COUNTIF('Game 16'!$B$5:$G$5,"*"&$A19&"*") -> 0 | J19: =COUNTIF('Game 1'!$B$6:$G$6,"*"&$A19&"*")+COUNTIF('Game 2'!$B$6:$G$6,"*"&$A19&"*")+COUNTIF('Game 3'!$B$6:$G$6,"*"&$A19&"*")+COUNTIF('Game 4'!$B$6:$G$6,"*"&$A19&"*")+COUNTIF('Game 5'!$B$6:$G$6,"*"&$A19&"*")+COUNTIF('Game 6'!$B$6:$G$6,"*"&$A19&"*")+COUNTIF('Game 7'!$B$6:$G$6,"*"&$A19&"*")+COUNTIF('Game 8'!$B$6:$G$6,"*"&$A19&"*")+COUNTIF('Game 9'!$B$6:$G$6,"*"&$A19&"*")+COUNTIF('Game 10'!$B$6:$G$6,"*"&$A19&"*")+COUNTIF('Game 11'!$B$6:$G$6,"*"&$A19&"*")+COUNTIF('Game 12'!$B$6:$G$6,"*"&$A19&"*")+COUNTIF('Game 13'!$B$6:$G$6,"*"&$A19&"*")+COUNTIF('Game 14'!$B$6:$G$6,"*"&$A19&"*")+COUNTIF('Game 15'!$B$6:$G$6,"*"&$A19&"*")+COUNTIF('Game 16'!$B$6:$G$6,"*"&$A19&"*") -> 0 | K19: =COUNTIF('Game 1'!$B$13:$G$13,"*"&$A19&"*")+COUNTIF('Game 1'!$B$14:$G$14,"*"&$A19&"*")+COUNTIF('Game 1'!$B$15:$G$15,"*"&$A19&"*")+COUNTIF('Game 1'!$B$16:$G$16,"*"&$A19&"*")+COUNTIF('Game 2'!$B$13:$G$13,"*"&$A19&"*")+COUNTIF('Game 2'!$B$14:$G$14,"*"&$A19&"*")+COUNTIF('Game 2'!$B$15:$G$15,"*"&$A19&"*")+COUNTIF('Game 2'!$B$16:$G$16,"*"&$A19&"*")+COUNTIF('Game 3'!$B$13:$G$13,"*"&$A19&"*")+COUNTIF('Game 3'!$B$14:$G$14,"*"&$A19&"*")+COUNTIF('Game 3'!$B$15:$G$15,"*"&$A19&"*")+COUNTIF('Game 3'!$B$16:$G$16,"*"&$A19&"*")+COUNTIF('Game 4'!$B$13:$G$13,"*"&$A19&"*")+COUNTIF('Game 4'!$B$14:$G$14,"*"&$A19&"*")+COUNTIF('Game 4'!$B$15:$G$15,"*"&$A19&"*")+COUNTIF('Game 4'!$B$16:$G$16,"*"&$A19&"*")+COUNTIF('Game 5'!$B$13:$G$13,"*"&$A19&"*")+COUNTIF('Game 5'!$B$14:$G$14,"*"&$A19&"*")+COUNTIF('Game 5'!$B$15:$G$15,"*"&$A19&"*")+COUNTIF('Game 5'!$B$16:$G$16,"*"&$A19&"*")+COUNTIF('Game 6'!$B$13:$G$13,"*"&$A19&"*")+COUNTIF('Game 6'!$B$14:$G$14,"*"&$A19&"*")+COUNTIF('Game 6'!$B$15:$G$15,"*"&$A19&"*")+COUNTIF('Game 6'!$B$16:$G$16,"*"&$A19&"*")+COUNTIF('Game 7'!$B$13:$G$13,"*"&$A19&"*")+COUNTIF('Game 7'!$B$14:$G$14,"*"&$A19&"*")+COUNTIF('Game 7'!$B$15:$G$15,"*"&$A19&"*")+COUNTIF('Game 7'!$B$16:$G$16,"*"&$A19&"*")+COUNTIF('Game 8'!$B$13:$G$13,"*"&$A19&"*")+COUNTIF('Game 8'!$B$14:$G$14,"*"&$A19&"*")+COUNTIF('Game 8'!$B$15:$G$15,"*"&$A19&"*")+COUNTIF('Game 8'!$B$16:$G$16,"*"&$A19&"*")+COUNTIF('Game 9'!$B$13:$G$13,"*"&$A19&"*")+COUNTIF('Game 9'!$B$14:$G$14,"*"&$A19&"*")+COUNTIF('Game 9'!$B$15:$G$15,"*"&$A19&"*")+COUNTIF('Game 9'!$B$16:$G$16,"*"&$A19&"*")+COUNTIF('Game 10'!$B$13:$G$13,"*"&$A19&"*")+COUNTIF('Game 10'!$B$14:$G$14,"*"&$A19&"*")+COUNTIF('Game 10'!$B$15:$G$15,"*"&$A19&"*")+COUNTIF('Game 10'!$B$16:$G$16,"*"&$A19&"*")+COUNTIF('Game 11'!$B$13:$G$13,"*"&$A19&"*")+COUNTIF('Game 11'!$B$14:$G$14,"*"&$A19&"*")+COUNTIF('Game 11'!$B$15:$G$15,"*"&$A19&"*")+COUNTIF('Game 11'!$B$16:$G$16,"*"&$A19&"*")+COUNTIF('Game 12'!$B$13:$G$13,"*"&$A19&"*")+COUNTIF('Game 12'!$B$14:$G$14,"*"&$A19&"*")+COUNTIF('Game 12'!$B$15:$G$15,"*"&$A19&"*")+COUNTIF('Game 12'!$B$16:$G$16,"*"&$A19&"*")+COUNTIF('Game 13'!$B$13:$G$13,"*"&$A19&"*")+COUNTIF('Game 13'!$B$14:$G$14,"*"&$A19&"*")+COUNTIF('Game 13'!$B$15:$G$15,"*"&$A19&"*")+COUNTIF('Game 13'!$B$16:$G$16,"*"&$A19&"*")+COUNTIF('Game 14'!$B$13:$G$13,"*"&$A19&"*")+COUNTIF('Game 14'!$B$14:$G$14,"*"&$A19&"*")+COUNTIF('Game 14'!$B$15:$G$15,"*"&$A19&"*")+COUNTIF('Game 14'!$B$16:$G$16,"*"&$A19&"*")+COUNTIF('Game 15'!$B$13:$G$13,"*"&$A19&"*")+COUNTIF('Game 15'!$B$14:$G$14,"*"&$A19&"*")+COUNTIF('Game 15'!$B$15:$G$15,"*"&$A19&"*")+COUNTIF('Game 15'!$B$16:$G$16,"*"&$A19&"*")+COUNTIF('Game 16'!$B$13:$G$13,"*"&$A19&"*")+COUNTIF('Game 16'!$B$14:$G$14,"*"&$A19&"*")+COUNTIF('Game 16'!$B$15:$G$15,"*"&$A19&"*")+COUNTIF('Game 16'!$B$16:$G$16,"*"&$A19&"*") -> 0 | L19: =A19 -> Player 2 | M19: =SUM(B19:G19) -> 0 | N19: =SUM(H19:J19) -> 0 | O19: =K19 -> 0 | P19: =SUM(M19:O19) -> 0 | Q19: =IF(P19=0,0,M19/P19) -> 0 | R19: =IF(P19=0,0,N19/P19) -> 0 | S19: =IF(P19=0,0,O19/P19) -> 0 | V19: ='Game 1'!Z3+'Game 2'!Z3+'Game 3'!Z3+'Game 4'!Z3+'Game 5'!Z3+'Game 6'!Z3+'Game 7'!Z3+'Game 8'!Z3+'Game 9'!Z3+'Game 10'!Z3+'Game 11'!Z3+'Game 12'!Z3+'Game 13'!Z3+'Game 14'!Z3+'Game 15'!Z3+'Game 16'!Z3 -> 0 | W19: =COUNTIF('Game 1'!$L$15,"*"&$A19&"*")+COUNTIF('Game 2'!$L$15,"*"&$A19&"*")+COUNTIF('Game 3'!$L$15,"*"&$A19&"*")+COUNTIF('Game 4'!$L$15,"*"&$A19&"*")+COUNTIF('Game 5'!$L$15,"*"&$A19&"*")+COUNTIF('Game 6'!$L$15,"*"&$A19&"*")+COUNTIF('Game 7'!$L$15,"*"&$A19&"*")+COUNTIF('Game 8'!$L$15,"*"&$A19&"*")+COUNTIF('Game 9'!$L$15,"*"&$A19&"*")+COUNTIF('Game 10'!$L$15,"*"&$A19&"*")+COUNTIF('Game 11'!$L$15,"*"&$A19&"*")+COUNTIF('Game 12'!$L$15,"*"&$A19&"*")+COUNTIF('Game 13'!$L$15,"*"&$A19&"*")+COUNTIF('Game 14'!$L$15,"*"&$A19&"*")+COUNTIF('Game 15'!$L$15,"*"&$A19&"*")+COUNTIF('Game 16'!$L$15,"*"&$A19&"*") -> 0
A20: =A4 -> Player 3 | B20: =COUNTIF('Game 1'!$B$12:$G$12,"*"&$A20&"*")+COUNTIF('Game 2'!$B$12:$G$12,"*"&$A20&"*")+COUNTIF('Game 3'!$B$12:$G$12,"*"&$A20&"*")+COUNTIF('Game 4'!$B$12:$G$12,"*"&$A20&"*")+COUNTIF('Game 5'!$B$12:$G$12,"*"&$A20&"*")+COUNTIF('Game 6'!$B$12:$G$12,"*"&$A20&"*")+COUNTIF('Game 7'!$B$12:$G$12,"*"&$A20&"*")+COUNTIF('Game 8'!$B$12:$G$12,"*"&$A20&"*")+COUNTIF('Game 9'!$B$12:$G$12,"*"&$A20&"*")+COUNTIF('Game 10'!$B$12:$G$12,"*"&$A20&"*")+COUNTIF('Game 11'!$B$12:$G$12,"*"&$A20&"*")+COUNTIF('Game 12'!$B$12:$G$12,"*"&$A20&"*")+COUNTIF('Game 13'!$B$12:$G$12,"*"&$A20&"*")+COUNTIF('Game 14'!$B$12:$G$12,"*"&$A20&"*")+COUNTIF('Game 15'!$B$12:$G$12,"*"&$A20&"*")+COUNTIF('Game 16'!$B$12:$G$12,"*"&$A20&"*") -> 0 | C20: =COUNTIF('Game 1'!$B$11:$G$11,"*"&$A20&"*")+COUNTIF('Game 2'!$B$11:$G$11,"*"&$A20&"*")+COUNTIF('Game 3'!$B$11:$G$11,"*"&$A20&"*")+COUNTIF('Game 4'!$B$11:$G$11,"*"&$A20&"*")+COUNTIF('Game 5'!$B$11:$G$11,"*"&$A20&"*")+COUNTIF('Game 6'!$B$11:$G$11,"*"&$A20&"*")+COUNTIF('Game 7'!$B$11:$G$11,"*"&$A20&"*")+COUNTIF('Game 8'!$B$11:$G$11,"*"&$A20&"*")+COUNTIF('Game 9'!$B$11:$G$11,"*"&$A20&"*")+COUNTIF('Game 10'!$B$11:$G$11,"*"&$A20&"*")+COUNTIF('Game 11'!$B$11:$G$11,"*"&$A20&"*")+COUNTIF('Game 12'!$B$11:$G$11,"*"&$A20&"*")+COUNTIF('Game 13'!$B$11:$G$11,"*"&$A20&"*")+COUNTIF('Game 14'!$B$11:$G$11,"*"&$A20&"*")+COUNTIF('Game 15'!$B$11:$G$11,"*"&$A20&"*")+COUNTIF('Game 16'!$B$11:$G$11,"*"&$A20&"*") -> 0 | D20: =COUNTIF('Game 1'!$B$10:$G$10,"*"&$A20&"*")+COUNTIF('Game 2'!$B$10:$G$10,"*"&$A20&"*")+COUNTIF('Game 3'!$B$10:$G$10,"*"&$A20&"*")+COUNTIF('Game 4'!$B$10:$G$10,"*"&$A20&"*")+COUNTIF('Game 5'!$B$10:$G$10,"*"&$A20&"*")+COUNTIF('Game 6'!$B$10:$G$10,"*"&$A20&"*")+COUNTIF('Game 7'!$B$10:$G$10,"*"&$A20&"*")+COUNTIF('Game 8'!$B$10:$G$10,"*"&$A20&"*")+COUNTIF('Game 9'!$B$10:$G$10,"*"&$A20&"*")+COUNTIF('Game 10'!$B$10:$G$10,"*"&$A20&"*")+COUNTIF('Game 11'!$B$10:$G$10,"*"&$A20&"*")+COUNTIF('Game 12'!$B$10:$G$10,"*"&$A20&"*")+COUNTIF('Game 13'!$B$10:$G$10,"*"&$A20&"*")+COUNTIF('Game 14'!$B$10:$G$10,"*"&$A20&"*")+COUNTIF('Game 15'!$B$10:$G$10,"*"&$A20&"*")+COUNTIF('Game 16'!$B$10:$G$10,"*"&$A20&"*") -> 0 | E20: =COUNTIF('Game 1'!$B$9:$G$9,"*"&$A20&"*")+COUNTIF('Game 2'!$B$9:$G$9,"*"&$A20&"*")+COUNTIF('Game 3'!$B$9:$G$9,"*"&$A20&"*")+COUNTIF('Game 4'!$B$9:$G$9,"*"&$A20&"*")+COUNTIF('Game 5'!$B$9:$G$9,"*"&$A20&"*")+COUNTIF('Game 6'!$B$9:$G$9,"*"&$A20&"*")+COUNTIF('Game 7'!$B$9:$G$9,"*"&$A20&"*")+COUNTIF('Game 8'!$B$9:$G$9,"*"&$A20&"*")+COUNTIF('Game 9'!$B$9:$G$9,"*"&$A20&"*")+COUNTIF('Game 10'!$B$9:$G$9,"*"&$A20&"*")+COUNTIF('Game 11'!$B$9:$G$9,"*"&$A20&"*")+COUNTIF('Game 12'!$B$9:$G$9,"*"&$A20&"*")+COUNTIF('Game 13'!$B$9:$G$9,"*"&$A20&"*")+COUNTIF('Game 14'!$B$9:$G$9,"*"&$A20&"*")+COUNTIF('Game 15'!$B$9:$G$9,"*"&$A20&"*")+COUNTIF('Game 16'!$B$9:$G$9,"*"&$A20&"*") -> 0 | F20: =COUNTIF('Game 1'!$B$8:$G$8,"*"&$A20&"*")+COUNTIF('Game 2'!$B$8:$G$8,"*"&$A20&"*")+COUNTIF('Game 3'!$B$8:$G$8,"*"&$A20&"*")+COUNTIF('Game 4'!$B$8:$G$8,"*"&$A20&"*")+COUNTIF('Game 5'!$B$8:$G$8,"*"&$A20&"*")+COUNTIF('Game 6'!$B$8:$G$8,"*"&$A20&"*")+COUNTIF('Game 7'!$B$8:$G$8,"*"&$A20&"*")+COUNTIF('Game 8'!$B$8:$G$8,"*"&$A20&"*")+COUNTIF('Game 9'!$B$8:$G$8,"*"&$A20&"*")+COUNTIF('Game 10'!$B$8:$G$8,"*"&$A20&"*")+COUNTIF('Game 11'!$B$8:$G$8,"*"&$A20&"*")+COUNTIF('Game 12'!$B$8:$G$8,"*"&$A20&"*")+COUNTIF('Game 13'!$B$8:$G$8,"*"&$A20&"*")+COUNTIF('Game 14'!$B$8:$G$8,"*"&$A20&"*")+COUNTIF('Game 15'!$B$8:$G$8,"*"&$A20&"*")+COUNTIF('Game 16'!$B$8:$G$8,"*"&$A20&"*") -> 0 | G20: =COUNTIF('Game 1'!$B$7:$G$7,"*"&$A20&"*")+COUNTIF('Game 2'!$B$7:$G$7,"*"&$A20&"*")+COUNTIF('Game 3'!$B$7:$G$7,"*"&$A20&"*")+COUNTIF('Game 4'!$B$7:$G$7,"*"&$A20&"*")+COUNTIF('Game 5'!$B$7:$G$7,"*"&$A20&"*")+COUNTIF('Game 6'!$B$7:$G$7,"*"&$A20&"*")+COUNTIF('Game 7'!$B$7:$G$7,"*"&$A20&"*")+COUNTIF('Game 8'!$B$7:$G$7,"*"&$A20&"*")+COUNTIF('Game 9'!$B$7:$G$7,"*"&$A20&"*")+COUNTIF('Game 10'!$B$7:$G$7,"*"&$A20&"*")+COUNTIF('Game 11'!$B$7:$G$7,"*"&$A20&"*")+COUNTIF('Game 12'!$B$7:$G$7,"*"&$A20&"*")+COUNTIF('Game 13'!$B$7:$G$7,"*"&$A20&"*")+COUNTIF('Game 14'!$B$7:$G$7,"*"&$A20&"*")+COUNTIF('Game 15'!$B$7:$G$7,"*"&$A20&"*")+COUNTIF('Game 16'!$B$7:$G$7,"*"&$A20&"*") -> 0 | H20: =COUNTIF('Game 1'!$B$4:$G$4,"*"&$A20&"*")+COUNTIF('Game 2'!$B$4:$G$4,"*"&$A20&"*")+COUNTIF('Game 3'!$B$4:$G$4,"*"&$A20&"*")+COUNTIF('Game 4'!$B$4:$G$4,"*"&$A20&"*")+COUNTIF('Game 5'!$B$4:$G$4,"*"&$A20&"*")+COUNTIF('Game 6'!$B$4:$G$4,"*"&$A20&"*")+COUNTIF('Game 7'!$B$4:$G$4,"*"&$A20&"*")+COUNTIF('Game 8'!$B$4:$G$4,"*"&$A20&"*")+COUNTIF('Game 9'!$B$4:$G$4,"*"&$A20&"*")+COUNTIF('Game 10'!$B$4:$G$4,"*"&$A20&"*")+COUNTIF('Game 11'!$B$4:$G$4,"*"&$A20&"*")+COUNTIF('Game 12'!$B$4:$G$4,"*"&$A20&"*")+COUNTIF('Game 13'!$B$4:$G$4,"*"&$A20&"*")+COUNTIF('Game 14'!$B$4:$G$4,"*"&$A20&"*")+COUNTIF('Game 15'!$B$4:$G$4,"*"&$A20&"*")+COUNTIF('Game 16'!$B$4:$G$4,"*"&$A20&"*") -> 0 | I20: =COUNTIF('Game 1'!$B$5:$G$5,"*"&$A20&"*")+COUNTIF('Game 2'!$B$5:$G$5,"*"&$A20&"*")+COUNTIF('Game 3'!$B$5:$G$5,"*"&$A20&"*")+COUNTIF('Game 4'!$B$5:$G$5,"*"&$A20&"*")+COUNTIF('Game 5'!$B$5:$G$5,"*"&$A20&"*")+COUNTIF('Game 6'!$B$5:$G$5,"*"&$A20&"*")+COUNTIF('Game 7'!$B$5:$G$5,"*"&$A20&"*")+COUNTIF('Game 8'!$B$5:$G$5,"*"&$A20&"*")+COUNTIF('Game 9'!$B$5:$G$5,"*"&$A20&"*")+COUNTIF('Game 10'!$B$5:$G$5,"*"&$A20&"*")+COUNTIF('Game 11'!$B$5:$G$5,"*"&$A20&"*")+COUNTIF('Game 12'!$B$5:$G$5,"*"&$A20&"*")+COUNTIF('Game 13'!$B$5:$G$5,"*"&$A20&"*")+COUNTIF('Game 14'!$B$5:$G$5,"*"&$A20&"*")+COUNTIF('Game 15'!$B$5:$G$5,"*"&$A20&"*")+COUNTIF('Game 16'!$B$5:$G$5,"*"&$A20&"*") -> 0 | J20: =COUNTIF('Game 1'!$B$6:$G$6,"*"&$A20&"*")+COUNTIF('Game 2'!$B$6:$G$6,"*"&$A20&"*")+COUNTIF('Game 3'!$B$6:$G$6,"*"&$A20&"*")+COUNTIF('Game 4'!$B$6:$G$6,"*"&$A20&"*")+COUNTIF('Game 5'!$B$6:$G$6,"*"&$A20&"*")+COUNTIF('Game 6'!$B$6:$G$6,"*"&$A20&"*")+COUNTIF('Game 7'!$B$6:$G$6,"*"&$A20&"*")+COUNTIF('Game 8'!$B$6:$G$6,"*"&$A20&"*")+COUNTIF('Game 9'!$B$6:$G$6,"*"&$A20&"*")+COUNTIF('Game 10'!$B$6:$G$6,"*"&$A20&"*")+COUNTIF('Game 11'!$B$6:$G$6,"*"&$A20&"*")+COUNTIF('Game 12'!$B$6:$G$6,"*"&$A20&"*")+COUNTIF('Game 13'!$B$6:$G$6,"*"&$A20&"*")+COUNTIF('Game 14'!$B$6:$G$6,"*"&$A20&"*")+COUNTIF('Game 15'!$B$6:$G$6,"*"&$A20&"*")+COUNTIF('Game 16'!$B$6:$G$6,"*"&$A20&"*") -> 0 | K20: =COUNTIF('Game 1'!$B$13:$G$13,"*"&$A20&"*")+COUNTIF('Game 1'!$B$14:$G$14,"*"&$A20&"*")+COUNTIF('Game 1'!$B$15:$G$15,"*"&$A20&"*")+COUNTIF('Game 1'!$B$16:$G$16,"*"&$A20&"*")+COUNTIF('Game 2'!$B$13:$G$13,"*"&$A20&"*")+COUNTIF('Game 2'!$B$14:$G$14,"*"&$A20&"*")+COUNTIF('Game 2'!$B$15:$G$15,"*"&$A20&"*")+COUNTIF('Game 2'!$B$16:$G$16,"*"&$A20&"*")+COUNTIF('Game 3'!$B$13:$G$13,"*"&$A20&"*")+COUNTIF('Game 3'!$B$14:$G$14,"*"&$A20&"*")+COUNTIF('Game 3'!$B$15:$G$15,"*"&$A20&"*")+COUNTIF('Game 3'!$B$16:$G$16,"*"&$A20&"*")+COUNTIF('Game 4'!$B$13:$G$13,"*"&$A20&"*")+COUNTIF('Game 4'!$B$14:$G$14,"*"&$A20&"*")+COUNTIF('Game 4'!$B$15:$G$15,"*"&$A20&"*")+COUNTIF('Game 4'!$B$16:$G$16,"*"&$A20&"*")+COUNTIF('Game 5'!$B$13:$G$13,"*"&$A20&"*")+COUNTIF('Game 5'!$B$14:$G$14,"*"&$A20&"*")+COUNTIF('Game 5'!$B$15:$G$15,"*"&$A20&"*")+COUNTIF('Game 5'!$B$16:$G$16,"*"&$A20&"*")+COUNTIF('Game 6'!$B$13:$G$13,"*"&$A20&"*")+COUNTIF('Game 6'!$B$14:$G$14,"*"&$A20&"*")+COUNTIF('Game 6'!$B$15:$G$15,"*"&$A20&"*")+COUNTIF('Game 6'!$B$16:$G$16,"*"&$A20&"*")+COUNTIF('Game 7'!$B$13:$G$13,"*"&$A20&"*")+COUNTIF('Game 7'!$B$14:$G$14,"*"&$A20&"*")+COUNTIF('Game 7'!$B$15:$G$15,"*"&$A20&"*")+COUNTIF('Game 7'!$B$16:$G$16,"*"&$A20&"*")+COUNTIF('Game 8'!$B$13:$G$13,"*"&$A20&"*")+COUNTIF('Game 8'!$B$14:$G$14,"*"&$A20&"*")+COUNTIF('Game 8'!$B$15:$G$15,"*"&$A20&"*")+COUNTIF('Game 8'!$B$16:$G$16,"*"&$A20&"*")+COUNTIF('Game 9'!$B$13:$G$13,"*"&$A20&"*")+COUNTIF('Game 9'!$B$14:$G$14,"*"&$A20&"*")+COUNTIF('Game 9'!$B$15:$G$15,"*"&$A20&"*")+COUNTIF('Game 9'!$B$16:$G$16,"*"&$A20&"*")+COUNTIF('Game 10'!$B$13:$G$13,"*"&$A20&"*")+COUNTIF('Game 10'!$B$14:$G$14,"*"&$A20&"*")+COUNTIF('Game 10'!$B$15:$G$15,"*"&$A20&"*")+COUNTIF('Game 10'!$B$16:$G$16,"*"&$A20&"*")+COUNTIF('Game 11'!$B$13:$G$13,"*"&$A20&"*")+COUNTIF('Game 11'!$B$14:$G$14,"*"&$A20&"*")+COUNTIF('Game 11'!$B$15:$G$15,"*"&$A20&"*")+COUNTIF('Game 11'!$B$16:$G$16,"*"&$A20&"*")+COUNTIF('Game 12'!$B$13:$G$13,"*"&$A20&"*")+COUNTIF('Game 12'!$B$14:$G$14,"*"&$A20&"*")+COUNTIF('Game 12'!$B$15:$G$15,"*"&$A20&"*")+COUNTIF('Game 12'!$B$16:$G$16,"*"&$A20&"*")+COUNTIF('Game 13'!$B$13:$G$13,"*"&$A20&"*")+COUNTIF('Game 13'!$B$14:$G$14,"*"&$A20&"*")+COUNTIF('Game 13'!$B$15:$G$15,"*"&$A20&"*")+COUNTIF('Game 13'!$B$16:$G$16,"*"&$A20&"*")+COUNTIF('Game 14'!$B$13:$G$13,"*"&$A20&"*")+COUNTIF('Game 14'!$B$14:$G$14,"*"&$A20&"*")+COUNTIF('Game 14'!$B$15:$G$15,"*"&$A20&"*")+COUNTIF('Game 14'!$B$16:$G$16,"*"&$A20&"*")+COUNTIF('Game 15'!$B$13:$G$13,"*"&$A20&"*")+COUNTIF('Game 15'!$B$14:$G$14,"*"&$A20&"*")+COUNTIF('Game 15'!$B$15:$G$15,"*"&$A20&"*")+COUNTIF('Game 15'!$B$16:$G$16,"*"&$A20&"*")+COUNTIF('Game 16'!$B$13:$G$13,"*"&$A20&"*")+COUNTIF('Game 16'!$B$14:$G$14,"*"&$A20&"*")+COUNTIF('Game 16'!$B$15:$G$15,"*"&$A20&"*")+COUNTIF('Game 16'!$B$16:$G$16,"*"&$A20&"*") -> 0 | L20: =A20 -> Player 3 | M20: =SUM(B20:G20) -> 0 | N20: =SUM(H20:J20) -> 0 | O20: =K20 -> 0 | P20: =SUM(M20:O20) -> 0 | Q20: =IF(P20=0,0,M20/P20) -> 0 | R20: =IF(P20=0,0,N20/P20) -> 0 | S20: =IF(P20=0,0,O20/P20) -> 0 | V20: ='Game 1'!Z4+'Game 2'!Z4+'Game 3'!Z4+'Game 4'!Z4+'Game 5'!Z4+'Game 6'!Z4+'Game 7'!Z4+'Game 8'!Z4+'Game 9'!Z4+'Game 10'!Z4+'Game 11'!Z4+'Game 12'!Z4+'Game 13'!Z4+'Game 14'!Z4+'Game 15'!Z4+'Game 16'!Z4 -> 0 | W20: =COUNTIF('Game 1'!$L$15,"*"&$A20&"*")+COUNTIF('Game 2'!$L$15,"*"&$A20&"*")+COUNTIF('Game 3'!$L$15,"*"&$A20&"*")+COUNTIF('Game 4'!$L$15,"*"&$A20&"*")+COUNTIF('Game 5'!$L$15,"*"&$A20&"*")+COUNTIF('Game 6'!$L$15,"*"&$A20&"*")+COUNTIF('Game 7'!$L$15,"*"&$A20&"*")+COUNTIF('Game 8'!$L$15,"*"&$A20&"*")+COUNTIF('Game 9'!$L$15,"*"&$A20&"*")+COUNTIF('Game 10'!$L$15,"*"&$A20&"*")+COUNTIF('Game 11'!$L$15,"*"&$A20&"*")+COUNTIF('Game 12'!$L$15,"*"&$A20&"*")+COUNTIF('Game 13'!$L$15,"*"&$A20&"*")+COUNTIF('Game 14'!$L$15,"*"&$A20&"*")+COUNTIF('Game 15'!$L$15,"*"&$A20&"*")+COUNTIF('Game 16'!$L$15,"*"&$A20&"*") -> 0
A21: =A5 -> Player 4 | B21: =COUNTIF('Game 1'!$B$12:$G$12,"*"&$A21&"*")+COUNTIF('Game 2'!$B$12:$G$12,"*"&$A21&"*")+COUNTIF('Game 3'!$B$12:$G$12,"*"&$A21&"*")+COUNTIF('Game 4'!$B$12:$G$12,"*"&$A21&"*")+COUNTIF('Game 5'!$B$12:$G$12,"*"&$A21&"*")+COUNTIF('Game 6'!$B$12:$G$12,"*"&$A21&"*")+COUNTIF('Game 7'!$B$12:$G$12,"*"&$A21&"*")+COUNTIF('Game 8'!$B$12:$G$12,"*"&$A21&"*")+COUNTIF('Game 9'!$B$12:$G$12,"*"&$A21&"*")+COUNTIF('Game 10'!$B$12:$G$12,"*"&$A21&"*")+COUNTIF('Game 11'!$B$12:$G$12,"*"&$A21&"*")+COUNTIF('Game 12'!$B$12:$G$12,"*"&$A21&"*")+COUNTIF('Game 13'!$B$12:$G$12,"*"&$A21&"*")+COUNTIF('Game 14'!$B$12:$G$12,"*"&$A21&"*")+COUNTIF('Game 15'!$B$12:$G$12,"*"&$A21&"*")+COUNTIF('Game 16'!$B$12:$G$12,"*"&$A21&"*") -> 0 | C21: =COUNTIF('Game 1'!$B$11:$G$11,"*"&$A21&"*")+COUNTIF('Game 2'!$B$11:$G$11,"*"&$A21&"*")+COUNTIF('Game 3'!$B$11:$G$11,"*"&$A21&"*")+COUNTIF('Game 4'!$B$11:$G$11,"*"&$A21&"*")+COUNTIF('Game 5'!$B$11:$G$11,"*"&$A21&"*")+COUNTIF('Game 6'!$B$11:$G$11,"*"&$A21&"*")+COUNTIF('Game 7'!$B$11:$G$11,"*"&$A21&"*")+COUNTIF('Game 8'!$B$11:$G$11,"*"&$A21&"*")+COUNTIF('Game 9'!$B$11:$G$11,"*"&$A21&"*")+COUNTIF('Game 10'!$B$11:$G$11,"*"&$A21&"*")+COUNTIF('Game 11'!$B$11:$G$11,"*"&$A21&"*")+COUNTIF('Game 12'!$B$11:$G$11,"*"&$A21&"*")+COUNTIF('Game 13'!$B$11:$G$11,"*"&$A21&"*")+COUNTIF('Game 14'!$B$11:$G$11,"*"&$A21&"*")+COUNTIF('Game 15'!$B$11:$G$11,"*"&$A21&"*")+COUNTIF('Game 16'!$B$11:$G$11,"*"&$A21&"*") -> 0 | D21: =COUNTIF('Game 1'!$B$10:$G$10,"*"&$A21&"*")+COUNTIF('Game 2'!$B$10:$G$10,"*"&$A21&"*")+COUNTIF('Game 3'!$B$10:$G$10,"*"&$A21&"*")+COUNTIF('Game 4'!$B$10:$G$10,"*"&$A21&"*")+COUNTIF('Game 5'!$B$10:$G$10,"*"&$A21&"*")+COUNTIF('Game 6'!$B$10:$G$10,"*"&$A21&"*")+COUNTIF('Game 7'!$B$10:$G$10,"*"&$A21&"*")+COUNTIF('Game 8'!$B$10:$G$10,"*"&$A21&"*")+COUNTIF('Game 9'!$B$10:$G$10,"*"&$A21&"*")+COUNTIF('Game 10'!$B$10:$G$10,"*"&$A21&"*")+COUNTIF('Game 11'!$B$10:$G$10,"*"&$A21&"*")+COUNTIF('Game 12'!$B$10:$G$10,"*"&$A21&"*")+COUNTIF('Game 13'!$B$10:$G$10,"*"&$A21&"*")+COUNTIF('Game 14'!$B$10:$G$10,"*"&$A21&"*")+COUNTIF('Game 15'!$B$10:$G$10,"*"&$A21&"*")+COUNTIF('Game 16'!$B$10:$G$10,"*"&$A21&"*") -> 0 | E21: =COUNTIF('Game 1'!$B$9:$G$9,"*"&$A21&"*")+COUNTIF('Game 2'!$B$9:$G$9,"*"&$A21&"*")+COUNTIF('Game 3'!$B$9:$G$9,"*"&$A21&"*")+COUNTIF('Game 4'!$B$9:$G$9,"*"&$A21&"*")+COUNTIF('Game 5'!$B$9:$G$9,"*"&$A21&"*")+COUNTIF('Game 6'!$B$9:$G$9,"*"&$A21&"*")+COUNTIF('Game 7'!$B$9:$G$9,"*"&$A21&"*")+COUNTIF('Game 8'!$B$9:$G$9,"*"&$A21&"*")+COUNTIF('Game 9'!$B$9:$G$9,"*"&$A21&"*")+COUNTIF('Game 10'!$B$9:$G$9,"*"&$A21&"*")+COUNTIF('Game 11'!$B$9:$G$9,"*"&$A21&"*")+COUNTIF('Game 12'!$B$9:$G$9,"*"&$A21&"*")+COUNTIF('Game 13'!$B$9:$G$9,"*"&$A21&"*")+COUNTIF('Game 14'!$B$9:$G$9,"*"&$A21&"*")+COUNTIF('Game 15'!$B$9:$G$9,"*"&$A21&"*")+COUNTIF('Game 16'!$B$9:$G$9,"*"&$A21&"*") -> 0 | F21: =COUNTIF('Game 1'!$B$8:$G$8,"*"&$A21&"*")+COUNTIF('Game 2'!$B$8:$G$8,"*"&$A21&"*")+COUNTIF('Game 3'!$B$8:$G$8,"*"&$A21&"*")+COUNTIF('Game 4'!$B$8:$G$8,"*"&$A21&"*")+COUNTIF('Game 5'!$B$8:$G$8,"*"&$A21&"*")+COUNTIF('Game 6'!$B$8:$G$8,"*"&$A21&"*")+COUNTIF('Game 7'!$B$8:$G$8,"*"&$A21&"*")+COUNTIF('Game 8'!$B$8:$G$8,"*"&$A21&"*")+COUNTIF('Game 9'!$B$8:$G$8,"*"&$A21&"*")+COUNTIF('Game 10'!$B$8:$G$8,"*"&$A21&"*")+COUNTIF('Game 11'!$B$8:$G$8,"*"&$A21&"*")+COUNTIF('Game 12'!$B$8:$G$8,"*"&$A21&"*")+COUNTIF('Game 13'!$B$8:$G$8,"*"&$A21&"*")+COUNTIF('Game 14'!$B$8:$G$8,"*"&$A21&"*")+COUNTIF('Game 15'!$B$8:$G$8,"*"&$A21&"*")+COUNTIF('Game 16'!$B$8:$G$8,"*"&$A21&"*") -> 0 | G21: =COUNTIF('Game 1'!$B$7:$G$7,"*"&$A21&"*")+COUNTIF('Game 2'!$B$7:$G$7,"*"&$A21&"*")+COUNTIF('Game 3'!$B$7:$G$7,"*"&$A21&"*")+COUNTIF('Game 4'!$B$7:$G$7,"*"&$A21&"*")+COUNTIF('Game 5'!$B$7:$G$7,"*"&$A21&"*")+COUNTIF('Game 6'!$B$7:$G$7,"*"&$A21&"*")+COUNTIF('Game 7'!$B$7:$G$7,"*"&$A21&"*")+COUNTIF('Game 8'!$B$7:$G$7,"*"&$A21&"*")+COUNTIF('Game 9'!$B$7:$G$7,"*"&$A21&"*")+COUNTIF('Game 10'!$B$7:$G$7,"*"&$A21&"*")+COUNTIF('Game 11'!$B$7:$G$7,"*"&$A21&"*")+COUNTIF('Game 12'!$B$7:$G$7,"*"&$A21&"*")+COUNTIF('Game 13'!$B$7:$G$7,"*"&$A21&"*")+COUNTIF('Game 14'!$B$7:$G$7,"*"&$A21&"*")+COUNTIF('Game 15'!$B$7:$G$7,"*"&$A21&"*")+COUNTIF('Game 16'!$B$7:$G$7,"*"&$A21&"*") -> 0 | H21: =COUNTIF('Game 1'!$B$4:$G$4,"*"&$A21&"*")+COUNTIF('Game 2'!$B$4:$G$4,"*"&$A21&"*")+COUNTIF('Game 3'!$B$4:$G$4,"*"&$A21&"*")+COUNTIF('Game 4'!$B$4:$G$4,"*"&$A21&"*")+COUNTIF('Game 5'!$B$4:$G$4,"*"&$A21&"*")+COUNTIF('Game 6'!$B$4:$G$4,"*"&$A21&"*")+COUNTIF('Game 7'!$B$4:$G$4,"*"&$A21&"*")+COUNTIF('Game 8'!$B$4:$G$4,"*"&$A21&"*")+COUNTIF('Game 9'!$B$4:$G$4,"*"&$A21&"*")+COUNTIF('Game 10'!$B$4:$G$4,"*"&$A21&"*")+COUNTIF('Game 11'!$B$4:$G$4,"*"&$A21&"*")+COUNTIF('Game 12'!$B$4:$G$4,"*"&$A21&"*")+COUNTIF('Game 13'!$B$4:$G$4,"*"&$A21&"*")+COUNTIF('Game 14'!$B$4:$G$4,"*"&$A21&"*")+COUNTIF('Game 15'!$B$4:$G$4,"*"&$A21&"*")+COUNTIF('Game 16'!$B$4:$G$4,"*"&$A21&"*") -> 0 | I21: =COUNTIF('Game 1'!$B$5:$G$5,"*"&$A21&"*")+COUNTIF('Game 2'!$B$5:$G$5,"*"&$A21&"*")+COUNTIF('Game 3'!$B$5:$G$5,"*"&$A21&"*")+COUNTIF('Game 4'!$B$5:$G$5,"*"&$A21&"*")+COUNTIF('Game 5'!$B$5:$G$5,"*"&$A21&"*")+COUNTIF('Game 6'!$B$5:$G$5,"*"&$A21&"*")+COUNTIF('Game 7'!$B$5:$G$5,"*"&$A21&"*")+COUNTIF('Game 8'!$B$5:$G$5,"*"&$A21&"*")+COUNTIF('Game 9'!$B$5:$G$5,"*"&$A21&"*")+COUNTIF('Game 10'!$B$5:$G$5,"*"&$A21&"*")+COUNTIF('Game 11'!$B$5:$G$5,"*"&$A21&"*")+COUNTIF('Game 12'!$B$5:$G$5,"*"&$A21&"*")+COUNTIF('Game 13'!$B$5:$G$5,"*"&$A21&"*")+COUNTIF('Game 14'!$B$5:$G$5,"*"&$A21&"*")+COUNTIF('Game 15'!$B$5:$G$5,"*"&$A21&"*")+COUNTIF('Game 16'!$B$5:$G$5,"*"&$A21&"*") -> 0 | J21: =COUNTIF('Game 1'!$B$6:$G$6,"*"&$A21&"*")+COUNTIF('Game 2'!$B$6:$G$6,"*"&$A21&"*")+COUNTIF('Game 3'!$B$6:$G$6,"*"&$A21&"*")+COUNTIF('Game 4'!$B$6:$G$6,"*"&$A21&"*")+COUNTIF('Game 5'!$B$6:$G$6,"*"&$A21&"*")+COUNTIF('Game 6'!$B$6:$G$6,"*"&$A21&"*")+COUNTIF('Game 7'!$B$6:$G$6,"*"&$A21&"*")+COUNTIF('Game 8'!$B$6:$G$6,"*"&$A21&"*")+COUNTIF('Game 9'!$B$6:$G$6,"*"&$A21&"*")+COUNTIF('Game 10'!$B$6:$G$6,"*"&$A21&"*")+COUNTIF('Game 11'!$B$6:$G$6,"*"&$A21&"*")+COUNTIF('Game 12'!$B$6:$G$6,"*"&$A21&"*")+COUNTIF('Game 13'!$B$6:$G$6,"*"&$A21&"*")+COUNTIF('Game 14'!$B$6:$G$6,"*"&$A21&"*")+COUNTIF('Game 15'!$B$6:$G$6,"*"&$A21&"*")+COUNTIF('Game 16'!$B$6:$G$6,"*"&$A21&"*") -> 0 | K21: =COUNTIF('Game 1'!$B$13:$G$13,"*"&$A21&"*")+COUNTIF('Game 1'!$B$14:$G$14,"*"&$A21&"*")+COUNTIF('Game 1'!$B$15:$G$15,"*"&$A21&"*")+COUNTIF('Game 1'!$B$16:$G$16,"*"&$A21&"*")+COUNTIF('Game 2'!$B$13:$G$13,"*"&$A21&"*")+COUNTIF('Game 2'!$B$14:$G$14,"*"&$A21&"*")+COUNTIF('Game 2'!$B$15:$G$15,"*"&$A21&"*")+COUNTIF('Game 2'!$B$16:$G$16,"*"&$A21&"*")+COUNTIF('Game 3'!$B$13:$G$13,"*"&$A21&"*")+COUNTIF('Game 3'!$B$14:$G$14,"*"&$A21&"*")+COUNTIF('Game 3'!$B$15:$G$15,"*"&$A21&"*")+COUNTIF('Game 3'!$B$16:$G$16,"*"&$A21&"*")+COUNTIF('Game 4'!$B$13:$G$13,"*"&$A21&"*")+COUNTIF('Game 4'!$B$14:$G$14,"*"&$A21&"*")+COUNTIF('Game 4'!$B$15:$G$15,"*"&$A21&"*")+COUNTIF('Game 4'!$B$16:$G$16,"*"&$A21&"*")+COUNTIF('Game 5'!$B$13:$G$13,"*"&$A21&"*")+COUNTIF('Game 5'!$B$14:$G$14,"*"&$A21&"*")+COUNTIF('Game 5'!$B$15:$G$15,"*"&$A21&"*")+COUNTIF('Game 5'!$B$16:$G$16,"*"&$A21&"*")+COUNTIF('Game 6'!$B$13:$G$13,"*"&$A21&"*")+COUNTIF('Game 6'!$B$14:$G$14,"*"&$A21&"*")+COUNTIF('Game 6'!$B$15:$G$15,"*"&$A21&"*")+COUNTIF('Game 6'!$B$16:$G$16,"*"&$A21&"*")+COUNTIF('Game 7'!$B$13:$G$13,"*"&$A21&"*")+COUNTIF('Game 7'!$B$14:$G$14,"*"&$A21&"*")+COUNTIF('Game 7'!$B$15:$G$15,"*"&$A21&"*")+COUNTIF('Game 7'!$B$16:$G$16,"*"&$A21&"*")+COUNTIF('Game 8'!$B$13:$G$13,"*"&$A21&"*")+COUNTIF('Game 8'!$B$14:$G$14,"*"&$A21&"*")+COUNTIF('Game 8'!$B$15:$G$15,"*"&$A21&"*")+COUNTIF('Game 8'!$B$16:$G$16,"*"&$A21&"*")+COUNTIF('Game 9'!$B$13:$G$13,"*"&$A21&"*")+COUNTIF('Game 9'!$B$14:$G$14,"*"&$A21&"*")+COUNTIF('Game 9'!$B$15:$G$15,"*"&$A21&"*")+COUNTIF('Game 9'!$B$16:$G$16,"*"&$A21&"*")+COUNTIF('Game 10'!$B$13:$G$13,"*"&$A21&"*")+COUNTIF('Game 10'!$B$14:$G$14,"*"&$A21&"*")+COUNTIF('Game 10'!$B$15:$G$15,"*"&$A21&"*")+COUNTIF('Game 10'!$B$16:$G$16,"*"&$A21&"*")+COUNTIF('Game 11'!$B$13:$G$13,"*"&$A21&"*")+COUNTIF('Game 11'!$B$14:$G$14,"*"&$A21&"*")+COUNTIF('Game 11'!$B$15:$G$15,"*"&$A21&"*")+COUNTIF('Game 11'!$B$16:$G$16,"*"&$A21&"*")+COUNTIF('Game 12'!$B$13:$G$13,"*"&$A21&"*")+COUNTIF('Game 12'!$B$14:$G$14,"*"&$A21&"*")+COUNTIF('Game 12'!$B$15:$G$15,"*"&$A21&"*")+COUNTIF('Game 12'!$B$16:$G$16,"*"&$A21&"*")+COUNTIF('Game 13'!$B$13:$G$13,"*"&$A21&"*")+COUNTIF('Game 13'!$B$14:$G$14,"*"&$A21&"*")+COUNTIF('Game 13'!$B$15:$G$15,"*"&$A21&"*")+COUNTIF('Game 13'!$B$16:$G$16,"*"&$A21&"*")+COUNTIF('Game 14'!$B$13:$G$13,"*"&$A21&"*")+COUNTIF('Game 14'!$B$14:$G$14,"*"&$A21&"*")+COUNTIF('Game 14'!$B$15:$G$15,"*"&$A21&"*")+COUNTIF('Game 14'!$B$16:$G$16,"*"&$A21&"*")+COUNTIF('Game 15'!$B$13:$G$13,"*"&$A21&"*")+COUNTIF('Game 15'!$B$14:$G$14,"*"&$A21&"*")+COUNTIF('Game 15'!$B$15:$G$15,"*"&$A21&"*")+COUNTIF('Game 15'!$B$16:$G$16,"*"&$A21&"*")+COUNTIF('Game 16'!$B$13:$G$13,"*"&$A21&"*")+COUNTIF('Game 16'!$B$14:$G$14,"*"&$A21&"*")+COUNTIF('Game 16'!$B$15:$G$15,"*"&$A21&"*")+COUNTIF('Game 16'!$B$16:$G$16,"*"&$A21&"*") -> 0 | L21: =A21 -> Player 4 | M21: =SUM(B21:G21) -> 0 | N21: =SUM(H21:J21) -> 0 | O21: =K21 -> 0 | P21: =SUM(M21:O21) -> 0 | Q21: =IF(P21=0,0,M21/P21) -> 0 | R21: =IF(P21=0,0,N21/P21) -> 0 | S21: =IF(P21=0,0,O21/P21) -> 0 | V21: ='Game 1'!Z5+'Game 2'!Z5+'Game 3'!Z5+'Game 4'!Z5+'Game 5'!Z5+'Game 6'!Z5+'Game 7'!Z5+'Game 8'!Z5+'Game 9'!Z5+'Game 10'!Z5+'Game 11'!Z5+'Game 12'!Z5+'Game 13'!Z5+'Game 14'!Z5+'Game 15'!Z5+'Game 16'!Z5 -> 0 | W21: =COUNTIF('Game 1'!$L$15,"*"&$A21&"*")+COUNTIF('Game 2'!$L$15,"*"&$A21&"*")+COUNTIF('Game 3'!$L$15,"*"&$A21&"*")+COUNTIF('Game 4'!$L$15,"*"&$A21&"*")+COUNTIF('Game 5'!$L$15,"*"&$A21&"*")+COUNTIF('Game 6'!$L$15,"*"&$A21&"*")+COUNTIF('Game 7'!$L$15,"*"&$A21&"*")+COUNTIF('Game 8'!$L$15,"*"&$A21&"*")+COUNTIF('Game 9'!$L$15,"*"&$A21&"*")+COUNTIF('Game 10'!$L$15,"*"&$A21&"*")+COUNTIF('Game 11'!$L$15,"*"&$A21&"*")+COUNTIF('Game 12'!$L$15,"*"&$A21&"*")+COUNTIF('Game 13'!$L$15,"*"&$A21&"*")+COUNTIF('Game 14'!$L$15,"*"&$A21&"*")+COUNTIF('Game 15'!$L$15,"*"&$A21&"*")+COUNTIF('Game 16'!$L$15,"*"&$A21&"*") -> 0
A22: =A6 -> Player 5 | B22: =COUNTIF('Game 1'!$B$12:$G$12,"*"&$A22&"*")+COUNTIF('Game 2'!$B$12:$G$12,"*"&$A22&"*")+COUNTIF('Game 3'!$B$12:$G$12,"*"&$A22&"*")+COUNTIF('Game 4'!$B$12:$G$12,"*"&$A22&"*")+COUNTIF('Game 5'!$B$12:$G$12,"*"&$A22&"*")+COUNTIF('Game 6'!$B$12:$G$12,"*"&$A22&"*")+COUNTIF('Game 7'!$B$12:$G$12,"*"&$A22&"*")+COUNTIF('Game 8'!$B$12:$G$12,"*"&$A22&"*")+COUNTIF('Game 9'!$B$12:$G$12,"*"&$A22&"*")+COUNTIF('Game 10'!$B$12:$G$12,"*"&$A22&"*")+COUNTIF('Game 11'!$B$12:$G$12,"*"&$A22&"*")+COUNTIF('Game 12'!$B$12:$G$12,"*"&$A22&"*")+COUNTIF('Game 13'!$B$12:$G$12,"*"&$A22&"*")+COUNTIF('Game 14'!$B$12:$G$12,"*"&$A22&"*")+COUNTIF('Game 15'!$B$12:$G$12,"*"&$A22&"*")+COUNTIF('Game 16'!$B$12:$G$12,"*"&$A22&"*") -> 0 | C22: =COUNTIF('Game 1'!$B$11:$G$11,"*"&$A22&"*")+COUNTIF('Game 2'!$B$11:$G$11,"*"&$A22&"*")+COUNTIF('Game 3'!$B$11:$G$11,"*"&$A22&"*")+COUNTIF('Game 4'!$B$11:$G$11,"*"&$A22&"*")+COUNTIF('Game 5'!$B$11:$G$11,"*"&$A22&"*")+COUNTIF('Game 6'!$B$11:$G$11,"*"&$A22&"*")+COUNTIF('Game 7'!$B$11:$G$11,"*"&$A22&"*")+COUNTIF('Game 8'!$B$11:$G$11,"*"&$A22&"*")+COUNTIF('Game 9'!$B$11:$G$11,"*"&$A22&"*")+COUNTIF('Game 10'!$B$11:$G$11,"*"&$A22&"*")+COUNTIF('Game 11'!$B$11:$G$11,"*"&$A22&"*")+COUNTIF('Game 12'!$B$11:$G$11,"*"&$A22&"*")+COUNTIF('Game 13'!$B$11:$G$11,"*"&$A22&"*")+COUNTIF('Game 14'!$B$11:$G$11,"*"&$A22&"*")+COUNTIF('Game 15'!$B$11:$G$11,"*"&$A22&"*")+COUNTIF('Game 16'!$B$11:$G$11,"*"&$A22&"*") -> 0 | D22: =COUNTIF('Game 1'!$B$10:$G$10,"*"&$A22&"*")+COUNTIF('Game 2'!$B$10:$G$10,"*"&$A22&"*")+COUNTIF('Game 3'!$B$10:$G$10,"*"&$A22&"*")+COUNTIF('Game 4'!$B$10:$G$10,"*"&$A22&"*")+COUNTIF('Game 5'!$B$10:$G$10,"*"&$A22&"*")+COUNTIF('Game 6'!$B$10:$G$10,"*"&$A22&"*")+COUNTIF('Game 7'!$B$10:$G$10,"*"&$A22&"*")+COUNTIF('Game 8'!$B$10:$G$10,"*"&$A22&"*")+COUNTIF('Game 9'!$B$10:$G$10,"*"&$A22&"*")+COUNTIF('Game 10'!$B$10:$G$10,"*"&$A22&"*")+COUNTIF('Game 11'!$B$10:$G$10,"*"&$A22&"*")+COUNTIF('Game 12'!$B$10:$G$10,"*"&$A22&"*")+COUNTIF('Game 13'!$B$10:$G$10,"*"&$A22&"*")+COUNTIF('Game 14'!$B$10:$G$10,"*"&$A22&"*")+COUNTIF('Game 15'!$B$10:$G$10,"*"&$A22&"*")+COUNTIF('Game 16'!$B$10:$G$10,"*"&$A22&"*") -> 0 | E22: =COUNTIF('Game 1'!$B$9:$G$9,"*"&$A22&"*")+COUNTIF('Game 2'!$B$9:$G$9,"*"&$A22&"*")+COUNTIF('Game 3'!$B$9:$G$9,"*"&$A22&"*")+COUNTIF('Game 4'!$B$9:$G$9,"*"&$A22&"*")+COUNTIF('Game 5'!$B$9:$G$9,"*"&$A22&"*")+COUNTIF('Game 6'!$B$9:$G$9,"*"&$A22&"*")+COUNTIF('Game 7'!$B$9:$G$9,"*"&$A22&"*")+COUNTIF('Game 8'!$B$9:$G$9,"*"&$A22&"*")+COUNTIF('Game 9'!$B$9:$G$9,"*"&$A22&"*")+COUNTIF('Game 10'!$B$9:$G$9,"*"&$A22&"*")+COUNTIF('Game 11'!$B$9:$G$9,"*"&$A22&"*")+COUNTIF('Game 12'!$B$9:$G$9,"*"&$A22&"*")+COUNTIF('Game 13'!$B$9:$G$9,"*"&$A22&"*")+COUNTIF('Game 14'!$B$9:$G$9,"*"&$A22&"*")+COUNTIF('Game 15'!$B$9:$G$9,"*"&$A22&"*")+COUNTIF('Game 16'!$B$9:$G$9,"*"&$A22&"*") -> 0 | F22: =COUNTIF('Game 1'!$B$8:$G$8,"*"&$A22&"*")+COUNTIF('Game 2'!$B$8:$G$8,"*"&$A22&"*")+COUNTIF('Game 3'!$B$8:$G$8,"*"&$A22&"*")+COUNTIF('Game 4'!$B$8:$G$8,"*"&$A22&"*")+COUNTIF('Game 5'!$B$8:$G$8,"*"&$A22&"*")+COUNTIF('Game 6'!$B$8:$G$8,"*"&$A22&"*")+COUNTIF('Game 7'!$B$8:$G$8,"*"&$A22&"*")+COUNTIF('Game 8'!$B$8:$G$8,"*"&$A22&"*")+COUNTIF('Game 9'!$B$8:$G$8,"*"&$A22&"*")+COUNTIF('Game 10'!$B$8:$G$8,"*"&$A22&"*")+COUNTIF('Game 11'!$B$8:$G$8,"*"&$A22&"*")+COUNTIF('Game 12'!$B$8:$G$8,"*"&$A22&"*")+COUNTIF('Game 13'!$B$8:$G$8,"*"&$A22&"*")+COUNTIF('Game 14'!$B$8:$G$8,"*"&$A22&"*")+COUNTIF('Game 15'!$B$8:$G$8,"*"&$A22&"*")+COUNTIF('Game 16'!$B$8:$G$8,"*"&$A22&"*") -> 0 | G22: =COUNTIF('Game 1'!$B$7:$G$7,"*"&$A22&"*")+COUNTIF('Game 2'!$B$7:$G$7,"*"&$A22&"*")+COUNTIF('Game 3'!$B$7:$G$7,"*"&$A22&"*")+COUNTIF('Game 4'!$B$7:$G$7,"*"&$A22&"*")+COUNTIF('Game 5'!$B$7:$G$7,"*"&$A22&"*")+COUNTIF('Game 6'!$B$7:$G$7,"*"&$A22&"*")+COUNTIF('Game 7'!$B$7:$G$7,"*"&$A22&"*")+COUNTIF('Game 8'!$B$7:$G$7,"*"&$A22&"*")+COUNTIF('Game 9'!$B$7:$G$7,"*"&$A22&"*")+COUNTIF('Game 10'!$B$7:$G$7,"*"&$A22&"*")+COUNTIF('Game 11'!$B$7:$G$7,"*"&$A22&"*")+COUNTIF('Game 12'!$B$7:$G$7,"*"&$A22&"*")+COUNTIF('Game 13'!$B$7:$G$7,"*"&$A22&"*")+COUNTIF('Game 14'!$B$7:$G$7,"*"&$A22&"*")+COUNTIF('Game 15'!$B$7:$G$7,"*"&$A22&"*")+COUNTIF('Game 16'!$B$7:$G$7,"*"&$A22&"*") -> 0 | H22: =COUNTIF('Game 1'!$B$4:$G$4,"*"&$A22&"*")+COUNTIF('Game 2'!$B$4:$G$4,"*"&$A22&"*")+COUNTIF('Game 3'!$B$4:$G$4,"*"&$A22&"*")+COUNTIF('Game 4'!$B$4:$G$4,"*"&$A22&"*")+COUNTIF('Game 5'!$B$4:$G$4,"*"&$A22&"*")+COUNTIF('Game 6'!$B$4:$G$4,"*"&$A22&"*")+COUNTIF('Game 7'!$B$4:$G$4,"*"&$A22&"*")+COUNTIF('Game 8'!$B$4:$G$4,"*"&$A22&"*")+COUNTIF('Game 9'!$B$4:$G$4,"*"&$A22&"*")+COUNTIF('Game 10'!$B$4:$G$4,"*"&$A22&"*")+COUNTIF('Game 11'!$B$4:$G$4,"*"&$A22&"*")+COUNTIF('Game 12'!$B$4:$G$4,"*"&$A22&"*")+COUNTIF('Game 13'!$B$4:$G$4,"*"&$A22&"*")+COUNTIF('Game 14'!$B$4:$G$4,"*"&$A22&"*")+COUNTIF('Game 15'!$B$4:$G$4,"*"&$A22&"*")+COUNTIF('Game 16'!$B$4:$G$4,"*"&$A22&"*") -> 0 | I22: =COUNTIF('Game 1'!$B$5:$G$5,"*"&$A22&"*")+COUNTIF('Game 2'!$B$5:$G$5,"*"&$A22&"*")+COUNTIF('Game 3'!$B$5:$G$5,"*"&$A22&"*")+COUNTIF('Game 4'!$B$5:$G$5,"*"&$A22&"*")+COUNTIF('Game 5'!$B$5:$G$5,"*"&$A22&"*")+COUNTIF('Game 6'!$B$5:$G$5,"*"&$A22&"*")+COUNTIF('Game 7'!$B$5:$G$5,"*"&$A22&"*")+COUNTIF('Game 8'!$B$5:$G$5,"*"&$A22&"*")+COUNTIF('Game 9'!$B$5:$G$5,"*"&$A22&"*")+COUNTIF('Game 10'!$B$5:$G$5,"*"&$A22&"*")+COUNTIF('Game 11'!$B$5:$G$5,"*"&$A22&"*")+COUNTIF('Game 12'!$B$5:$G$5,"*"&$A22&"*")+COUNTIF('Game 13'!$B$5:$G$5,"*"&$A22&"*")+COUNTIF('Game 14'!$B$5:$G$5,"*"&$A22&"*")+COUNTIF('Game 15'!$B$5:$G$5,"*"&$A22&"*")+COUNTIF('Game 16'!$B$5:$G$5,"*"&$A22&"*") -> 0 | J22: =COUNTIF('Game 1'!$B$6:$G$6,"*"&$A22&"*")+COUNTIF('Game 2'!$B$6:$G$6,"*"&$A22&"*")+COUNTIF('Game 3'!$B$6:$G$6,"*"&$A22&"*")+COUNTIF('Game 4'!$B$6:$G$6,"*"&$A22&"*")+COUNTIF('Game 5'!$B$6:$G$6,"*"&$A22&"*")+COUNTIF('Game 6'!$B$6:$G$6,"*"&$A22&"*")+COUNTIF('Game 7'!$B$6:$G$6,"*"&$A22&"*")+COUNTIF('Game 8'!$B$6:$G$6,"*"&$A22&"*")+COUNTIF('Game 9'!$B$6:$G$6,"*"&$A22&"*")+COUNTIF('Game 10'!$B$6:$G$6,"*"&$A22&"*")+COUNTIF('Game 11'!$B$6:$G$6,"*"&$A22&"*")+COUNTIF('Game 12'!$B$6:$G$6,"*"&$A22&"*")+COUNTIF('Game 13'!$B$6:$G$6,"*"&$A22&"*")+COUNTIF('Game 14'!$B$6:$G$6,"*"&$A22&"*")+COUNTIF('Game 15'!$B$6:$G$6,"*"&$A22&"*")+COUNTIF('Game 16'!$B$6:$G$6,"*"&$A22&"*") -> 0 | K22: =COUNTIF('Game 1'!$B$13:$G$13,"*"&$A22&"*")+COUNTIF('Game 1'!$B$14:$G$14,"*"&$A22&"*")+COUNTIF('Game 1'!$B$15:$G$15,"*"&$A22&"*")+COUNTIF('Game 1'!$B$16:$G$16,"*"&$A22&"*")+COUNTIF('Game 2'!$B$13:$G$13,"*"&$A22&"*")+COUNTIF('Game 2'!$B$14:$G$14,"*"&$A22&"*")+COUNTIF('Game 2'!$B$15:$G$15,"*"&$A22&"*")+COUNTIF('Game 2'!$B$16:$G$16,"*"&$A22&"*")+COUNTIF('Game 3'!$B$13:$G$13,"*"&$A22&"*")+COUNTIF('Game 3'!$B$14:$G$14,"*"&$A22&"*")+COUNTIF('Game 3'!$B$15:$G$15,"*"&$A22&"*")+COUNTIF('Game 3'!$B$16:$G$16,"*"&$A22&"*")+COUNTIF('Game 4'!$B$13:$G$13,"*"&$A22&"*")+COUNTIF('Game 4'!$B$14:$G$14,"*"&$A22&"*")+COUNTIF('Game 4'!$B$15:$G$15,"*"&$A22&"*")+COUNTIF('Game 4'!$B$16:$G$16,"*"&$A22&"*")+COUNTIF('Game 5'!$B$13:$G$13,"*"&$A22&"*")+COUNTIF('Game 5'!$B$14:$G$14,"*"&$A22&"*")+COUNTIF('Game 5'!$B$15:$G$15,"*"&$A22&"*")+COUNTIF('Game 5'!$B$16:$G$16,"*"&$A22&"*")+COUNTIF('Game 6'!$B$13:$G$13,"*"&$A22&"*")+COUNTIF('Game 6'!$B$14:$G$14,"*"&$A22&"*")+COUNTIF('Game 6'!$B$15:$G$15,"*"&$A22&"*")+COUNTIF('Game 6'!$B$16:$G$16,"*"&$A22&"*")+COUNTIF('Game 7'!$B$13:$G$13,"*"&$A22&"*")+COUNTIF('Game 7'!$B$14:$G$14,"*"&$A22&"*")+COUNTIF('Game 7'!$B$15:$G$15,"*"&$A22&"*")+COUNTIF('Game 7'!$B$16:$G$16,"*"&$A22&"*")+COUNTIF('Game 8'!$B$13:$G$13,"*"&$A22&"*")+COUNTIF('Game 8'!$B$14:$G$14,"*"&$A22&"*")+COUNTIF('Game 8'!$B$15:$G$15,"*"&$A22&"*")+COUNTIF('Game 8'!$B$16:$G$16,"*"&$A22&"*")+COUNTIF('Game 9'!$B$13:$G$13,"*"&$A22&"*")+COUNTIF('Game 9'!$B$14:$G$14,"*"&$A22&"*")+COUNTIF('Game 9'!$B$15:$G$15,"*"&$A22&"*")+COUNTIF('Game 9'!$B$16:$G$16,"*"&$A22&"*")+COUNTIF('Game 10'!$B$13:$G$13,"*"&$A22&"*")+COUNTIF('Game 10'!$B$14:$G$14,"*"&$A22&"*")+COUNTIF('Game 10'!$B$15:$G$15,"*"&$A22&"*")+COUNTIF('Game 10'!$B$16:$G$16,"*"&$A22&"*")+COUNTIF('Game 11'!$B$13:$G$13,"*"&$A22&"*")+COUNTIF('Game 11'!$B$14:$G$14,"*"&$A22&"*")+COUNTIF('Game 11'!$B$15:$G$15,"*"&$A22&"*")+COUNTIF('Game 11'!$B$16:$G$16,"*"&$A22&"*")+COUNTIF('Game 12'!$B$13:$G$13,"*"&$A22&"*")+COUNTIF('Game 12'!$B$14:$G$14,"*"&$A22&"*")+COUNTIF('Game 12'!$B$15:$G$15,"*"&$A22&"*")+COUNTIF('Game 12'!$B$16:$G$16,"*"&$A22&"*")+COUNTIF('Game 13'!$B$13:$G$13,"*"&$A22&"*")+COUNTIF('Game 13'!$B$14:$G$14,"*"&$A22&"*")+COUNTIF('Game 13'!$B$15:$G$15,"*"&$A22&"*")+COUNTIF('Game 13'!$B$16:$G$16,"*"&$A22&"*")+COUNTIF('Game 14'!$B$13:$G$13,"*"&$A22&"*")+COUNTIF('Game 14'!$B$14:$G$14,"*"&$A22&"*")+COUNTIF('Game 14'!$B$15:$G$15,"*"&$A22&"*")+COUNTIF('Game 14'!$B$16:$G$16,"*"&$A22&"*")+COUNTIF('Game 15'!$B$13:$G$13,"*"&$A22&"*")+COUNTIF('Game 15'!$B$14:$G$14,"*"&$A22&"*")+COUNTIF('Game 15'!$B$15:$G$15,"*"&$A22&"*")+COUNTIF('Game 15'!$B$16:$G$16,"*"&$A22&"*")+COUNTIF('Game 16'!$B$13:$G$13,"*"&$A22&"*")+COUNTIF('Game 16'!$B$14:$G$14,"*"&$A22&"*")+COUNTIF('Game 16'!$B$15:$G$15,"*"&$A22&"*")+COUNTIF('Game 16'!$B$16:$G$16,"*"&$A22&"*") -> 0 | L22: =A22 -> Player 5 | M22: =SUM(B22:G22) -> 0 | N22: =SUM(H22:J22) -> 0 | O22: =K22 -> 0 | P22: =SUM(M22:O22) -> 0 | Q22: =IF(P22=0,0,M22/P22) -> 0 | R22: =IF(P22=0,0,N22/P22) -> 0 | S22: =IF(P22=0,0,O22/P22) -> 0 | V22: ='Game 1'!Z6+'Game 2'!Z6+'Game 3'!Z6+'Game 4'!Z6+'Game 5'!Z6+'Game 6'!Z6+'Game 7'!Z6+'Game 8'!Z6+'Game 9'!Z6+'Game 10'!Z6+'Game 11'!Z6+'Game 12'!Z6+'Game 13'!Z6+'Game 14'!Z6+'Game 15'!Z6+'Game 16'!Z6 -> 0 | W22: =COUNTIF('Game 1'!$L$15,"*"&$A22&"*")+COUNTIF('Game 2'!$L$15,"*"&$A22&"*")+COUNTIF('Game 3'!$L$15,"*"&$A22&"*")+COUNTIF('Game 4'!$L$15,"*"&$A22&"*")+COUNTIF('Game 5'!$L$15,"*"&$A22&"*")+COUNTIF('Game 6'!$L$15,"*"&$A22&"*")+COUNTIF('Game 7'!$L$15,"*"&$A22&"*")+COUNTIF('Game 8'!$L$15,"*"&$A22&"*")+COUNTIF('Game 9'!$L$15,"*"&$A22&"*")+COUNTIF('Game 10'!$L$15,"*"&$A22&"*")+COUNTIF('Game 11'!$L$15,"*"&$A22&"*")+COUNTIF('Game 12'!$L$15,"*"&$A22&"*")+COUNTIF('Game 13'!$L$15,"*"&$A22&"*")+COUNTIF('Game 14'!$L$15,"*"&$A22&"*")+COUNTIF('Game 15'!$L$15,"*"&$A22&"*")+COUNTIF('Game 16'!$L$15,"*"&$A22&"*") -> 0
A23: =A7 -> Player 6 | B23: =COUNTIF('Game 1'!$B$12:$G$12,"*"&$A23&"*")+COUNTIF('Game 2'!$B$12:$G$12,"*"&$A23&"*")+COUNTIF('Game 3'!$B$12:$G$12,"*"&$A23&"*")+COUNTIF('Game 4'!$B$12:$G$12,"*"&$A23&"*")+COUNTIF('Game 5'!$B$12:$G$12,"*"&$A23&"*")+COUNTIF('Game 6'!$B$12:$G$12,"*"&$A23&"*")+COUNTIF('Game 7'!$B$12:$G$12,"*"&$A23&"*")+COUNTIF('Game 8'!$B$12:$G$12,"*"&$A23&"*")+COUNTIF('Game 9'!$B$12:$G$12,"*"&$A23&"*")+COUNTIF('Game 10'!$B$12:$G$12,"*"&$A23&"*")+COUNTIF('Game 11'!$B$12:$G$12,"*"&$A23&"*")+COUNTIF('Game 12'!$B$12:$G$12,"*"&$A23&"*")+COUNTIF('Game 13'!$B$12:$G$12,"*"&$A23&"*")+COUNTIF('Game 14'!$B$12:$G$12,"*"&$A23&"*")+COUNTIF('Game 15'!$B$12:$G$12,"*"&$A23&"*")+COUNTIF('Game 16'!$B$12:$G$12,"*"&$A23&"*") -> 0 | C23: =COUNTIF('Game 1'!$B$11:$G$11,"*"&$A23&"*")+COUNTIF('Game 2'!$B$11:$G$11,"*"&$A23&"*")+COUNTIF('Game 3'!$B$11:$G$11,"*"&$A23&"*")+COUNTIF('Game 4'!$B$11:$G$11,"*"&$A23&"*")+COUNTIF('Game 5'!$B$11:$G$11,"*"&$A23&"*")+COUNTIF('Game 6'!$B$11:$G$11,"*"&$A23&"*")+COUNTIF('Game 7'!$B$11:$G$11,"*"&$A23&"*")+COUNTIF('Game 8'!$B$11:$G$11,"*"&$A23&"*")+COUNTIF('Game 9'!$B$11:$G$11,"*"&$A23&"*")+COUNTIF('Game 10'!$B$11:$G$11,"*"&$A23&"*")+COUNTIF('Game 11'!$B$11:$G$11,"*"&$A23&"*")+COUNTIF('Game 12'!$B$11:$G$11,"*"&$A23&"*")+COUNTIF('Game 13'!$B$11:$G$11,"*"&$A23&"*")+COUNTIF('Game 14'!$B$11:$G$11,"*"&$A23&"*")+COUNTIF('Game 15'!$B$11:$G$11,"*"&$A23&"*")+COUNTIF('Game 16'!$B$11:$G$11,"*"&$A23&"*") -> 0 | D23: =COUNTIF('Game 1'!$B$10:$G$10,"*"&$A23&"*")+COUNTIF('Game 2'!$B$10:$G$10,"*"&$A23&"*")+COUNTIF('Game 3'!$B$10:$G$10,"*"&$A23&"*")+COUNTIF('Game 4'!$B$10:$G$10,"*"&$A23&"*")+COUNTIF('Game 5'!$B$10:$G$10,"*"&$A23&"*")+COUNTIF('Game 6'!$B$10:$G$10,"*"&$A23&"*")+COUNTIF('Game 7'!$B$10:$G$10,"*"&$A23&"*")+COUNTIF('Game 8'!$B$10:$G$10,"*"&$A23&"*")+COUNTIF('Game 9'!$B$10:$G$10,"*"&$A23&"*")+COUNTIF('Game 10'!$B$10:$G$10,"*"&$A23&"*")+COUNTIF('Game 11'!$B$10:$G$10,"*"&$A23&"*")+COUNTIF('Game 12'!$B$10:$G$10,"*"&$A23&"*")+COUNTIF('Game 13'!$B$10:$G$10,"*"&$A23&"*")+COUNTIF('Game 14'!$B$10:$G$10,"*"&$A23&"*")+COUNTIF('Game 15'!$B$10:$G$10,"*"&$A23&"*")+COUNTIF('Game 16'!$B$10:$G$10,"*"&$A23&"*") -> 0 | E23: =COUNTIF('Game 1'!$B$9:$G$9,"*"&$A23&"*")+COUNTIF('Game 2'!$B$9:$G$9,"*"&$A23&"*")+COUNTIF('Game 3'!$B$9:$G$9,"*"&$A23&"*")+COUNTIF('Game 4'!$B$9:$G$9,"*"&$A23&"*")+COUNTIF('Game 5'!$B$9:$G$9,"*"&$A23&"*")+COUNTIF('Game 6'!$B$9:$G$9,"*"&$A23&"*")+COUNTIF('Game 7'!$B$9:$G$9,"*"&$A23&"*")+COUNTIF('Game 8'!$B$9:$G$9,"*"&$A23&"*")+COUNTIF('Game 9'!$B$9:$G$9,"*"&$A23&"*")+COUNTIF('Game 10'!$B$9:$G$9,"*"&$A23&"*")+COUNTIF('Game 11'!$B$9:$G$9,"*"&$A23&"*")+COUNTIF('Game 12'!$B$9:$G$9,"*"&$A23&"*")+COUNTIF('Game 13'!$B$9:$G$9,"*"&$A23&"*")+COUNTIF('Game 14'!$B$9:$G$9,"*"&$A23&"*")+COUNTIF('Game 15'!$B$9:$G$9,"*"&$A23&"*")+COUNTIF('Game 16'!$B$9:$G$9,"*"&$A23&"*") -> 0 | F23: =COUNTIF('Game 1'!$B$8:$G$8,"*"&$A23&"*")+COUNTIF('Game 2'!$B$8:$G$8,"*"&$A23&"*")+COUNTIF('Game 3'!$B$8:$G$8,"*"&$A23&"*")+COUNTIF('Game 4'!$B$8:$G$8,"*"&$A23&"*")+COUNTIF('Game 5'!$B$8:$G$8,"*"&$A23&"*")+COUNTIF('Game 6'!$B$8:$G$8,"*"&$A23&"*")+COUNTIF('Game 7'!$B$8:$G$8,"*"&$A23&"*")+COUNTIF('Game 8'!$B$8:$G$8,"*"&$A23&"*")+COUNTIF('Game 9'!$B$8:$G$8,"*"&$A23&"*")+COUNTIF('Game 10'!$B$8:$G$8,"*"&$A23&"*")+COUNTIF('Game 11'!$B$8:$G$8,"*"&$A23&"*")+COUNTIF('Game 12'!$B$8:$G$8,"*"&$A23&"*")+COUNTIF('Game 13'!$B$8:$G$8,"*"&$A23&"*")+COUNTIF('Game 14'!$B$8:$G$8,"*"&$A23&"*")+COUNTIF('Game 15'!$B$8:$G$8,"*"&$A23&"*")+COUNTIF('Game 16'!$B$8:$G$8,"*"&$A23&"*") -> 0 | G23: =COUNTIF('Game 1'!$B$7:$G$7,"*"&$A23&"*")+COUNTIF('Game 2'!$B$7:$G$7,"*"&$A23&"*")+COUNTIF('Game 3'!$B$7:$G$7,"*"&$A23&"*")+COUNTIF('Game 4'!$B$7:$G$7,"*"&$A23&"*")+COUNTIF('Game 5'!$B$7:$G$7,"*"&$A23&"*")+COUNTIF('Game 6'!$B$7:$G$7,"*"&$A23&"*")+COUNTIF('Game 7'!$B$7:$G$7,"*"&$A23&"*")+COUNTIF('Game 8'!$B$7:$G$7,"*"&$A23&"*")+COUNTIF('Game 9'!$B$7:$G$7,"*"&$A23&"*")+COUNTIF('Game 10'!$B$7:$G$7,"*"&$A23&"*")+COUNTIF('Game 11'!$B$7:$G$7,"*"&$A23&"*")+COUNTIF('Game 12'!$B$7:$G$7,"*"&$A23&"*")+COUNTIF('Game 13'!$B$7:$G$7,"*"&$A23&"*")+COUNTIF('Game 14'!$B$7:$G$7,"*"&$A23&"*")+COUNTIF('Game 15'!$B$7:$G$7,"*"&$A23&"*")+COUNTIF('Game 16'!$B$7:$G$7,"*"&$A23&"*") -> 0 | H23: =COUNTIF('Game 1'!$B$4:$G$4,"*"&$A23&"*")+COUNTIF('Game 2'!$B$4:$G$4,"*"&$A23&"*")+COUNTIF('Game 3'!$B$4:$G$4,"*"&$A23&"*")+COUNTIF('Game 4'!$B$4:$G$4,"*"&$A23&"*")+COUNTIF('Game 5'!$B$4:$G$4,"*"&$A23&"*")+COUNTIF('Game 6'!$B$4:$G$4,"*"&$A23&"*")+COUNTIF('Game 7'!$B$4:$G$4,"*"&$A23&"*")+COUNTIF('Game 8'!$B$4:$G$4,"*"&$A23&"*")+COUNTIF('Game 9'!$B$4:$G$4,"*"&$A23&"*")+COUNTIF('Game 10'!$B$4:$G$4,"*"&$A23&"*")+COUNTIF('Game 11'!$B$4:$G$4,"*"&$A23&"*")+COUNTIF('Game 12'!$B$4:$G$4,"*"&$A23&"*")+COUNTIF('Game 13'!$B$4:$G$4,"*"&$A23&"*")+COUNTIF('Game 14'!$B$4:$G$4,"*"&$A23&"*")+COUNTIF('Game 15'!$B$4:$G$4,"*"&$A23&"*")+COUNTIF('Game 16'!$B$4:$G$4,"*"&$A23&"*") -> 0 | I23: =COUNTIF('Game 1'!$B$5:$G$5,"*"&$A23&"*")+COUNTIF('Game 2'!$B$5:$G$5,"*"&$A23&"*")+COUNTIF('Game 3'!$B$5:$G$5,"*"&$A23&"*")+COUNTIF('Game 4'!$B$5:$G$5,"*"&$A23&"*")+COUNTIF('Game 5'!$B$5:$G$5,"*"&$A23&"*")+COUNTIF('Game 6'!$B$5:$G$5,"*"&$A23&"*")+COUNTIF('Game 7'!$B$5:$G$5,"*"&$A23&"*")+COUNTIF('Game 8'!$B$5:$G$5,"*"&$A23&"*")+COUNTIF('Game 9'!$B$5:$G$5,"*"&$A23&"*")+COUNTIF('Game 10'!$B$5:$G$5,"*"&$A23&"*")+COUNTIF('Game 11'!$B$5:$G$5,"*"&$A23&"*")+COUNTIF('Game 12'!$B$5:$G$5,"*"&$A23&"*")+COUNTIF('Game 13'!$B$5:$G$5,"*"&$A23&"*")+COUNTIF('Game 14'!$B$5:$G$5,"*"&$A23&"*")+COUNTIF('Game 15'!$B$5:$G$5,"*"&$A23&"*")+COUNTIF('Game 16'!$B$5:$G$5,"*"&$A23&"*") -> 0 | J23: =COUNTIF('Game 1'!$B$6:$G$6,"*"&$A23&"*")+COUNTIF('Game 2'!$B$6:$G$6,"*"&$A23&"*")+COUNTIF('Game 3'!$B$6:$G$6,"*"&$A23&"*")+COUNTIF('Game 4'!$B$6:$G$6,"*"&$A23&"*")+COUNTIF('Game 5'!$B$6:$G$6,"*"&$A23&"*")+COUNTIF('Game 6'!$B$6:$G$6,"*"&$A23&"*")+COUNTIF('Game 7'!$B$6:$G$6,"*"&$A23&"*")+COUNTIF('Game 8'!$B$6:$G$6,"*"&$A23&"*")+COUNTIF('Game 9'!$B$6:$G$6,"*"&$A23&"*")+COUNTIF('Game 10'!$B$6:$G$6,"*"&$A23&"*")+COUNTIF('Game 11'!$B$6:$G$6,"*"&$A23&"*")+COUNTIF('Game 12'!$B$6:$G$6,"*"&$A23&"*")+COUNTIF('Game 13'!$B$6:$G$6,"*"&$A23&"*")+COUNTIF('Game 14'!$B$6:$G$6,"*"&$A23&"*")+COUNTIF('Game 15'!$B$6:$G$6,"*"&$A23&"*")+COUNTIF('Game 16'!$B$6:$G$6,"*"&$A23&"*") -> 0 | K23: =COUNTIF('Game 1'!$B$13:$G$13,"*"&$A23&"*")+COUNTIF('Game 1'!$B$14:$G$14,"*"&$A23&"*")+COUNTIF('Game 1'!$B$15:$G$15,"*"&$A23&"*")+COUNTIF('Game 1'!$B$16:$G$16,"*"&$A23&"*")+COUNTIF('Game 2'!$B$13:$G$13,"*"&$A23&"*")+COUNTIF('Game 2'!$B$14:$G$14,"*"&$A23&"*")+COUNTIF('Game 2'!$B$15:$G$15,"*"&$A23&"*")+COUNTIF('Game 2'!$B$16:$G$16,"*"&$A23&"*")+COUNTIF('Game 3'!$B$13:$G$13,"*"&$A23&"*")+COUNTIF('Game 3'!$B$14:$G$14,"*"&$A23&"*")+COUNTIF('Game 3'!$B$15:$G$15,"*"&$A23&"*")+COUNTIF('Game 3'!$B$16:$G$16,"*"&$A23&"*")+COUNTIF('Game 4'!$B$13:$G$13,"*"&$A23&"*")+COUNTIF('Game 4'!$B$14:$G$14,"*"&$A23&"*")+COUNTIF('Game 4'!$B$15:$G$15,"*"&$A23&"*")+COUNTIF('Game 4'!$B$16:$G$16,"*"&$A23&"*")+COUNTIF('Game 5'!$B$13:$G$13,"*"&$A23&"*")+COUNTIF('Game 5'!$B$14:$G$14,"*"&$A23&"*")+COUNTIF('Game 5'!$B$15:$G$15,"*"&$A23&"*")+COUNTIF('Game 5'!$B$16:$G$16,"*"&$A23&"*")+COUNTIF('Game 6'!$B$13:$G$13,"*"&$A23&"*")+COUNTIF('Game 6'!$B$14:$G$14,"*"&$A23&"*")+COUNTIF('Game 6'!$B$15:$G$15,"*"&$A23&"*")+COUNTIF('Game 6'!$B$16:$G$16,"*"&$A23&"*")+COUNTIF('Game 7'!$B$13:$G$13,"*"&$A23&"*")+COUNTIF('Game 7'!$B$14:$G$14,"*"&$A23&"*")+COUNTIF('Game 7'!$B$15:$G$15,"*"&$A23&"*")+COUNTIF('Game 7'!$B$16:$G$16,"*"&$A23&"*")+COUNTIF('Game 8'!$B$13:$G$13,"*"&$A23&"*")+COUNTIF('Game 8'!$B$14:$G$14,"*"&$A23&"*")+COUNTIF('Game 8'!$B$15:$G$15,"*"&$A23&"*")+COUNTIF('Game 8'!$B$16:$G$16,"*"&$A23&"*")+COUNTIF('Game 9'!$B$13:$G$13,"*"&$A23&"*")+COUNTIF('Game 9'!$B$14:$G$14,"*"&$A23&"*")+COUNTIF('Game 9'!$B$15:$G$15,"*"&$A23&"*")+COUNTIF('Game 9'!$B$16:$G$16,"*"&$A23&"*")+COUNTIF('Game 10'!$B$13:$G$13,"*"&$A23&"*")+COUNTIF('Game 10'!$B$14:$G$14,"*"&$A23&"*")+COUNTIF('Game 10'!$B$15:$G$15,"*"&$A23&"*")+COUNTIF('Game 10'!$B$16:$G$16,"*"&$A23&"*")+COUNTIF('Game 11'!$B$13:$G$13,"*"&$A23&"*")+COUNTIF('Game 11'!$B$14:$G$14,"*"&$A23&"*")+COUNTIF('Game 11'!$B$15:$G$15,"*"&$A23&"*")+COUNTIF('Game 11'!$B$16:$G$16,"*"&$A23&"*")+COUNTIF('Game 12'!$B$13:$G$13,"*"&$A23&"*")+COUNTIF('Game 12'!$B$14:$G$14,"*"&$A23&"*")+COUNTIF('Game 12'!$B$15:$G$15,"*"&$A23&"*")+COUNTIF('Game 12'!$B$16:$G$16,"*"&$A23&"*")+COUNTIF('Game 13'!$B$13:$G$13,"*"&$A23&"*")+COUNTIF('Game 13'!$B$14:$G$14,"*"&$A23&"*")+COUNTIF('Game 13'!$B$15:$G$15,"*"&$A23&"*")+COUNTIF('Game 13'!$B$16:$G$16,"*"&$A23&"*")+COUNTIF('Game 14'!$B$13:$G$13,"*"&$A23&"*")+COUNTIF('Game 14'!$B$14:$G$14,"*"&$A23&"*")+COUNTIF('Game 14'!$B$15:$G$15,"*"&$A23&"*")+COUNTIF('Game 14'!$B$16:$G$16,"*"&$A23&"*")+COUNTIF('Game 15'!$B$13:$G$13,"*"&$A23&"*")+COUNTIF('Game 15'!$B$14:$G$14,"*"&$A23&"*")+COUNTIF('Game 15'!$B$15:$G$15,"*"&$A23&"*")+COUNTIF('Game 15'!$B$16:$G$16,"*"&$A23&"*")+COUNTIF('Game 16'!$B$13:$G$13,"*"&$A23&"*")+COUNTIF('Game 16'!$B$14:$G$14,"*"&$A23&"*")+COUNTIF('Game 16'!$B$15:$G$15,"*"&$A23&"*")+COUNTIF('Game 16'!$B$16:$G$16,"*"&$A23&"*") -> 0 | L23: =A23 -> Player 6 | M23: =SUM(B23:G23) -> 0 | N23: =SUM(H23:J23) -> 0 | O23: =K23 -> 0 | P23: =SUM(M23:O23) -> 0 | Q23: =IF(P23=0,0,M23/P23) -> 0 | R23: =IF(P23=0,0,N23/P23) -> 0 | S23: =IF(P23=0,0,O23/P23) -> 0 | V23: ='Game 1'!Z7+'Game 2'!Z7+'Game 3'!Z7+'Game 4'!Z7+'Game 5'!Z7+'Game 6'!Z7+'Game 7'!Z7+'Game 8'!Z7+'Game 9'!Z7+'Game 10'!Z7+'Game 11'!Z7+'Game 12'!Z7+'Game 13'!Z7+'Game 14'!Z7+'Game 15'!Z7+'Game 16'!Z7 -> 0 | W23: =COUNTIF('Game 1'!$L$15,"*"&$A23&"*")+COUNTIF('Game 2'!$L$15,"*"&$A23&"*")+COUNTIF('Game 3'!$L$15,"*"&$A23&"*")+COUNTIF('Game 4'!$L$15,"*"&$A23&"*")+COUNTIF('Game 5'!$L$15,"*"&$A23&"*")+COUNTIF('Game 6'!$L$15,"*"&$A23&"*")+COUNTIF('Game 7'!$L$15,"*"&$A23&"*")+COUNTIF('Game 8'!$L$15,"*"&$A23&"*")+COUNTIF('Game 9'!$L$15,"*"&$A23&"*")+COUNTIF('Game 10'!$L$15,"*"&$A23&"*")+COUNTIF('Game 11'!$L$15,"*"&$A23&"*")+COUNTIF('Game 12'!$L$15,"*"&$A23&"*")+COUNTIF('Game 13'!$L$15,"*"&$A23&"*")+COUNTIF('Game 14'!$L$15,"*"&$A23&"*")+COUNTIF('Game 15'!$L$15,"*"&$A23&"*")+COUNTIF('Game 16'!$L$15,"*"&$A23&"*") -> 0
A24: =A8 -> Player 7 | B24: =COUNTIF('Game 1'!$B$12:$G$12,"*"&$A24&"*")+COUNTIF('Game 2'!$B$12:$G$12,"*"&$A24&"*")+COUNTIF('Game 3'!$B$12:$G$12,"*"&$A24&"*")+COUNTIF('Game 4'!$B$12:$G$12,"*"&$A24&"*")+COUNTIF('Game 5'!$B$12:$G$12,"*"&$A24&"*")+COUNTIF('Game 6'!$B$12:$G$12,"*"&$A24&"*")+COUNTIF('Game 7'!$B$12:$G$12,"*"&$A24&"*")+COUNTIF('Game 8'!$B$12:$G$12,"*"&$A24&"*")+COUNTIF('Game 9'!$B$12:$G$12,"*"&$A24&"*")+COUNTIF('Game 10'!$B$12:$G$12,"*"&$A24&"*")+COUNTIF('Game 11'!$B$12:$G$12,"*"&$A24&"*")+COUNTIF('Game 12'!$B$12:$G$12,"*"&$A24&"*")+COUNTIF('Game 13'!$B$12:$G$12,"*"&$A24&"*")+COUNTIF('Game 14'!$B$12:$G$12,"*"&$A24&"*")+COUNTIF('Game 15'!$B$12:$G$12,"*"&$A24&"*")+COUNTIF('Game 16'!$B$12:$G$12,"*"&$A24&"*") -> 0 | C24: =COUNTIF('Game 1'!$B$11:$G$11,"*"&$A24&"*")+COUNTIF('Game 2'!$B$11:$G$11,"*"&$A24&"*")+COUNTIF('Game 3'!$B$11:$G$11,"*"&$A24&"*")+COUNTIF('Game 4'!$B$11:$G$11,"*"&$A24&"*")+COUNTIF('Game 5'!$B$11:$G$11,"*"&$A24&"*")+COUNTIF('Game 6'!$B$11:$G$11,"*"&$A24&"*")+COUNTIF('Game 7'!$B$11:$G$11,"*"&$A24&"*")+COUNTIF('Game 8'!$B$11:$G$11,"*"&$A24&"*")+COUNTIF('Game 9'!$B$11:$G$11,"*"&$A24&"*")+COUNTIF('Game 10'!$B$11:$G$11,"*"&$A24&"*")+COUNTIF('Game 11'!$B$11:$G$11,"*"&$A24&"*")+COUNTIF('Game 12'!$B$11:$G$11,"*"&$A24&"*")+COUNTIF('Game 13'!$B$11:$G$11,"*"&$A24&"*")+COUNTIF('Game 14'!$B$11:$G$11,"*"&$A24&"*")+COUNTIF('Game 15'!$B$11:$G$11,"*"&$A24&"*")+COUNTIF('Game 16'!$B$11:$G$11,"*"&$A24&"*") -> 0 | D24: =COUNTIF('Game 1'!$B$10:$G$10,"*"&$A24&"*")+COUNTIF('Game 2'!$B$10:$G$10,"*"&$A24&"*")+COUNTIF('Game 3'!$B$10:$G$10,"*"&$A24&"*")+COUNTIF('Game 4'!$B$10:$G$10,"*"&$A24&"*")+COUNTIF('Game 5'!$B$10:$G$10,"*"&$A24&"*")+COUNTIF('Game 6'!$B$10:$G$10,"*"&$A24&"*")+COUNTIF('Game 7'!$B$10:$G$10,"*"&$A24&"*")+COUNTIF('Game 8'!$B$10:$G$10,"*"&$A24&"*")+COUNTIF('Game 9'!$B$10:$G$10,"*"&$A24&"*")+COUNTIF('Game 10'!$B$10:$G$10,"*"&$A24&"*")+COUNTIF('Game 11'!$B$10:$G$10,"*"&$A24&"*")+COUNTIF('Game 12'!$B$10:$G$10,"*"&$A24&"*")+COUNTIF('Game 13'!$B$10:$G$10,"*"&$A24&"*")+COUNTIF('Game 14'!$B$10:$G$10,"*"&$A24&"*")+COUNTIF('Game 15'!$B$10:$G$10,"*"&$A24&"*")+COUNTIF('Game 16'!$B$10:$G$10,"*"&$A24&"*") -> 0 | E24: =COUNTIF('Game 1'!$B$9:$G$9,"*"&$A24&"*")+COUNTIF('Game 2'!$B$9:$G$9,"*"&$A24&"*")+COUNTIF('Game 3'!$B$9:$G$9,"*"&$A24&"*")+COUNTIF('Game 4'!$B$9:$G$9,"*"&$A24&"*")+COUNTIF('Game 5'!$B$9:$G$9,"*"&$A24&"*")+COUNTIF('Game 6'!$B$9:$G$9,"*"&$A24&"*")+COUNTIF('Game 7'!$B$9:$G$9,"*"&$A24&"*")+COUNTIF('Game 8'!$B$9:$G$9,"*"&$A24&"*")+COUNTIF('Game 9'!$B$9:$G$9,"*"&$A24&"*")+COUNTIF('Game 10'!$B$9:$G$9,"*"&$A24&"*")+COUNTIF('Game 11'!$B$9:$G$9,"*"&$A24&"*")+COUNTIF('Game 12'!$B$9:$G$9,"*"&$A24&"*")+COUNTIF('Game 13'!$B$9:$G$9,"*"&$A24&"*")+COUNTIF('Game 14'!$B$9:$G$9,"*"&$A24&"*")+COUNTIF('Game 15'!$B$9:$G$9,"*"&$A24&"*")+COUNTIF('Game 16'!$B$9:$G$9,"*"&$A24&"*") -> 0 | F24: =COUNTIF('Game 1'!$B$8:$G$8,"*"&$A24&"*")+COUNTIF('Game 2'!$B$8:$G$8,"*"&$A24&"*")+COUNTIF('Game 3'!$B$8:$G$8,"*"&$A24&"*")+COUNTIF('Game 4'!$B$8:$G$8,"*"&$A24&"*")+COUNTIF('Game 5'!$B$8:$G$8,"*"&$A24&"*")+COUNTIF('Game 6'!$B$8:$G$8,"*"&$A24&"*")+COUNTIF('Game 7'!$B$8:$G$8,"*"&$A24&"*")+COUNTIF('Game 8'!$B$8:$G$8,"*"&$A24&"*")+COUNTIF('Game 9'!$B$8:$G$8,"*"&$A24&"*")+COUNTIF('Game 10'!$B$8:$G$8,"*"&$A24&"*")+COUNTIF('Game 11'!$B$8:$G$8,"*"&$A24&"*")+COUNTIF('Game 12'!$B$8:$G$8,"*"&$A24&"*")+COUNTIF('Game 13'!$B$8:$G$8,"*"&$A24&"*")+COUNTIF('Game 14'!$B$8:$G$8,"*"&$A24&"*")+COUNTIF('Game 15'!$B$8:$G$8,"*"&$A24&"*")+COUNTIF('Game 16'!$B$8:$G$8,"*"&$A24&"*") -> 0 | G24: =COUNTIF('Game 1'!$B$7:$G$7,"*"&$A24&"*")+COUNTIF('Game 2'!$B$7:$G$7,"*"&$A24&"*")+COUNTIF('Game 3'!$B$7:$G$7,"*"&$A24&"*")+COUNTIF('Game 4'!$B$7:$G$7,"*"&$A24&"*")+COUNTIF('Game 5'!$B$7:$G$7,"*"&$A24&"*")+COUNTIF('Game 6'!$B$7:$G$7,"*"&$A24&"*")+COUNTIF('Game 7'!$B$7:$G$7,"*"&$A24&"*")+COUNTIF('Game 8'!$B$7:$G$7,"*"&$A24&"*")+COUNTIF('Game 9'!$B$7:$G$7,"*"&$A24&"*")+COUNTIF('Game 10'!$B$7:$G$7,"*"&$A24&"*")+COUNTIF('Game 11'!$B$7:$G$7,"*"&$A24&"*")+COUNTIF('Game 12'!$B$7:$G$7,"*"&$A24&"*")+COUNTIF('Game 13'!$B$7:$G$7,"*"&$A24&"*")+COUNTIF('Game 14'!$B$7:$G$7,"*"&$A24&"*")+COUNTIF('Game 15'!$B$7:$G$7,"*"&$A24&"*")+COUNTIF('Game 16'!$B$7:$G$7,"*"&$A24&"*") -> 0 | H24: =COUNTIF('Game 1'!$B$4:$G$4,"*"&$A24&"*")+COUNTIF('Game 2'!$B$4:$G$4,"*"&$A24&"*")+COUNTIF('Game 3'!$B$4:$G$4,"*"&$A24&"*")+COUNTIF('Game 4'!$B$4:$G$4,"*"&$A24&"*")+COUNTIF('Game 5'!$B$4:$G$4,"*"&$A24&"*")+COUNTIF('Game 6'!$B$4:$G$4,"*"&$A24&"*")+COUNTIF('Game 7'!$B$4:$G$4,"*"&$A24&"*")+COUNTIF('Game 8'!$B$4:$G$4,"*"&$A24&"*")+COUNTIF('Game 9'!$B$4:$G$4,"*"&$A24&"*")+COUNTIF('Game 10'!$B$4:$G$4,"*"&$A24&"*")+COUNTIF('Game 11'!$B$4:$G$4,"*"&$A24&"*")+COUNTIF('Game 12'!$B$4:$G$4,"*"&$A24&"*")+COUNTIF('Game 13'!$B$4:$G$4,"*"&$A24&"*")+COUNTIF('Game 14'!$B$4:$G$4,"*"&$A24&"*")+COUNTIF('Game 15'!$B$4:$G$4,"*"&$A24&"*")+COUNTIF('Game 16'!$B$4:$G$4,"*"&$A24&"*") -> 0 | I24: =COUNTIF('Game 1'!$B$5:$G$5,"*"&$A24&"*")+COUNTIF('Game 2'!$B$5:$G$5,"*"&$A24&"*")+COUNTIF('Game 3'!$B$5:$G$5,"*"&$A24&"*")+COUNTIF('Game 4'!$B$5:$G$5,"*"&$A24&"*")+COUNTIF('Game 5'!$B$5:$G$5,"*"&$A24&"*")+COUNTIF('Game 6'!$B$5:$G$5,"*"&$A24&"*")+COUNTIF('Game 7'!$B$5:$G$5,"*"&$A24&"*")+COUNTIF('Game 8'!$B$5:$G$5,"*"&$A24&"*")+COUNTIF('Game 9'!$B$5:$G$5,"*"&$A24&"*")+COUNTIF('Game 10'!$B$5:$G$5,"*"&$A24&"*")+COUNTIF('Game 11'!$B$5:$G$5,"*"&$A24&"*")+COUNTIF('Game 12'!$B$5:$G$5,"*"&$A24&"*")+COUNTIF('Game 13'!$B$5:$G$5,"*"&$A24&"*")+COUNTIF('Game 14'!$B$5:$G$5,"*"&$A24&"*")+COUNTIF('Game 15'!$B$5:$G$5,"*"&$A24&"*")+COUNTIF('Game 16'!$B$5:$G$5,"*"&$A24&"*") -> 0 | J24: =COUNTIF('Game 1'!$B$6:$G$6,"*"&$A24&"*")+COUNTIF('Game 2'!$B$6:$G$6,"*"&$A24&"*")+COUNTIF('Game 3'!$B$6:$G$6,"*"&$A24&"*")+COUNTIF('Game 4'!$B$6:$G$6,"*"&$A24&"*")+COUNTIF('Game 5'!$B$6:$G$6,"*"&$A24&"*")+COUNTIF('Game 6'!$B$6:$G$6,"*"&$A24&"*")+COUNTIF('Game 7'!$B$6:$G$6,"*"&$A24&"*")+COUNTIF('Game 8'!$B$6:$G$6,"*"&$A24&"*")+COUNTIF('Game 9'!$B$6:$G$6,"*"&$A24&"*")+COUNTIF('Game 10'!$B$6:$G$6,"*"&$A24&"*")+COUNTIF('Game 11'!$B$6:$G$6,"*"&$A24&"*")+COUNTIF('Game 12'!$B$6:$G$6,"*"&$A24&"*")+COUNTIF('Game 13'!$B$6:$G$6,"*"&$A24&"*")+COUNTIF('Game 14'!$B$6:$G$6,"*"&$A24&"*")+COUNTIF('Game 15'!$B$6:$G$6,"*"&$A24&"*")+COUNTIF('Game 16'!$B$6:$G$6,"*"&$A24&"*") -> 0 | K24: =COUNTIF('Game 1'!$B$13:$G$13,"*"&$A24&"*")+COUNTIF('Game 1'!$B$14:$G$14,"*"&$A24&"*")+COUNTIF('Game 1'!$B$15:$G$15,"*"&$A24&"*")+COUNTIF('Game 1'!$B$16:$G$16,"*"&$A24&"*")+COUNTIF('Game 2'!$B$13:$G$13,"*"&$A24&"*")+COUNTIF('Game 2'!$B$14:$G$14,"*"&$A24&"*")+COUNTIF('Game 2'!$B$15:$G$15,"*"&$A24&"*")+COUNTIF('Game 2'!$B$16:$G$16,"*"&$A24&"*")+COUNTIF('Game 3'!$B$13:$G$13,"*"&$A24&"*")+COUNTIF('Game 3'!$B$14:$G$14,"*"&$A24&"*")+COUNTIF('Game 3'!$B$15:$G$15,"*"&$A24&"*")+COUNTIF('Game 3'!$B$16:$G$16,"*"&$A24&"*")+COUNTIF('Game 4'!$B$13:$G$13,"*"&$A24&"*")+COUNTIF('Game 4'!$B$14:$G$14,"*"&$A24&"*")+COUNTIF('Game 4'!$B$15:$G$15,"*"&$A24&"*")+COUNTIF('Game 4'!$B$16:$G$16,"*"&$A24&"*")+COUNTIF('Game 5'!$B$13:$G$13,"*"&$A24&"*")+COUNTIF('Game 5'!$B$14:$G$14,"*"&$A24&"*")+COUNTIF('Game 5'!$B$15:$G$15,"*"&$A24&"*")+COUNTIF('Game 5'!$B$16:$G$16,"*"&$A24&"*")+COUNTIF('Game 6'!$B$13:$G$13,"*"&$A24&"*")+COUNTIF('Game 6'!$B$14:$G$14,"*"&$A24&"*")+COUNTIF('Game 6'!$B$15:$G$15,"*"&$A24&"*")+COUNTIF('Game 6'!$B$16:$G$16,"*"&$A24&"*")+COUNTIF('Game 7'!$B$13:$G$13,"*"&$A24&"*")+COUNTIF('Game 7'!$B$14:$G$14,"*"&$A24&"*")+COUNTIF('Game 7'!$B$15:$G$15,"*"&$A24&"*")+COUNTIF('Game 7'!$B$16:$G$16,"*"&$A24&"*")+COUNTIF('Game 8'!$B$13:$G$13,"*"&$A24&"*")+COUNTIF('Game 8'!$B$14:$G$14,"*"&$A24&"*")+COUNTIF('Game 8'!$B$15:$G$15,"*"&$A24&"*")+COUNTIF('Game 8'!$B$16:$G$16,"*"&$A24&"*")+COUNTIF('Game 9'!$B$13:$G$13,"*"&$A24&"*")+COUNTIF('Game 9'!$B$14:$G$14,"*"&$A24&"*")+COUNTIF('Game 9'!$B$15:$G$15,"*"&$A24&"*")+COUNTIF('Game 9'!$B$16:$G$16,"*"&$A24&"*")+COUNTIF('Game 10'!$B$13:$G$13,"*"&$A24&"*")+COUNTIF('Game 10'!$B$14:$G$14,"*"&$A24&"*")+COUNTIF('Game 10'!$B$15:$G$15,"*"&$A24&"*")+COUNTIF('Game 10'!$B$16:$G$16,"*"&$A24&"*")+COUNTIF('Game 11'!$B$13:$G$13,"*"&$A24&"*")+COUNTIF('Game 11'!$B$14:$G$14,"*"&$A24&"*")+COUNTIF('Game 11'!$B$15:$G$15,"*"&$A24&"*")+COUNTIF('Game 11'!$B$16:$G$16,"*"&$A24&"*")+COUNTIF('Game 12'!$B$13:$G$13,"*"&$A24&"*")+COUNTIF('Game 12'!$B$14:$G$14,"*"&$A24&"*")+COUNTIF('Game 12'!$B$15:$G$15,"*"&$A24&"*")+COUNTIF('Game 12'!$B$16:$G$16,"*"&$A24&"*")+COUNTIF('Game 13'!$B$13:$G$13,"*"&$A24&"*")+COUNTIF('Game 13'!$B$14:$G$14,"*"&$A24&"*")+COUNTIF('Game 13'!$B$15:$G$15,"*"&$A24&"*")+COUNTIF('Game 13'!$B$16:$G$16,"*"&$A24&"*")+COUNTIF('Game 14'!$B$13:$G$13,"*"&$A24&"*")+COUNTIF('Game 14'!$B$14:$G$14,"*"&$A24&"*")+COUNTIF('Game 14'!$B$15:$G$15,"*"&$A24&"*")+COUNTIF('Game 14'!$B$16:$G$16,"*"&$A24&"*")+COUNTIF('Game 15'!$B$13:$G$13,"*"&$A24&"*")+COUNTIF('Game 15'!$B$14:$G$14,"*"&$A24&"*")+COUNTIF('Game 15'!$B$15:$G$15,"*"&$A24&"*")+COUNTIF('Game 15'!$B$16:$G$16,"*"&$A24&"*")+COUNTIF('Game 16'!$B$13:$G$13,"*"&$A24&"*")+COUNTIF('Game 16'!$B$14:$G$14,"*"&$A24&"*")+COUNTIF('Game 16'!$B$15:$G$15,"*"&$A24&"*")+COUNTIF('Game 16'!$B$16:$G$16,"*"&$A24&"*") -> 0 | L24: =A24 -> Player 7 | M24: =SUM(B24:G24) -> 0 | N24: =SUM(H24:J24) -> 0 | O24: =K24 -> 0 | P24: =SUM(M24:O24) -> 0 | Q24: =IF(P24=0,0,M24/P24) -> 0 | R24: =IF(P24=0,0,N24/P24) -> 0 | S24: =IF(P24=0,0,O24/P24) -> 0 | V24: ='Game 1'!Z8+'Game 2'!Z8+'Game 3'!Z8+'Game 4'!Z8+'Game 5'!Z8+'Game 6'!Z8+'Game 7'!Z8+'Game 8'!Z8+'Game 9'!Z8+'Game 10'!Z8+'Game 11'!Z8+'Game 12'!Z8+'Game 13'!Z8+'Game 14'!Z8+'Game 15'!Z8+'Game 16'!Z8 -> 0 | W24: =COUNTIF('Game 1'!$L$15,"*"&$A24&"*")+COUNTIF('Game 2'!$L$15,"*"&$A24&"*")+COUNTIF('Game 3'!$L$15,"*"&$A24&"*")+COUNTIF('Game 4'!$L$15,"*"&$A24&"*")+COUNTIF('Game 5'!$L$15,"*"&$A24&"*")+COUNTIF('Game 6'!$L$15,"*"&$A24&"*")+COUNTIF('Game 7'!$L$15,"*"&$A24&"*")+COUNTIF('Game 8'!$L$15,"*"&$A24&"*")+COUNTIF('Game 9'!$L$15,"*"&$A24&"*")+COUNTIF('Game 10'!$L$15,"*"&$A24&"*")+COUNTIF('Game 11'!$L$15,"*"&$A24&"*")+COUNTIF('Game 12'!$L$15,"*"&$A24&"*")+COUNTIF('Game 13'!$L$15,"*"&$A24&"*")+COUNTIF('Game 14'!$L$15,"*"&$A24&"*")+COUNTIF('Game 15'!$L$15,"*"&$A24&"*")+COUNTIF('Game 16'!$L$15,"*"&$A24&"*") -> 0
A25: =A9 -> Player 8 | B25: =COUNTIF('Game 1'!$B$12:$G$12,"*"&$A25&"*")+COUNTIF('Game 2'!$B$12:$G$12,"*"&$A25&"*")+COUNTIF('Game 3'!$B$12:$G$12,"*"&$A25&"*")+COUNTIF('Game 4'!$B$12:$G$12,"*"&$A25&"*")+COUNTIF('Game 5'!$B$12:$G$12,"*"&$A25&"*")+COUNTIF('Game 6'!$B$12:$G$12,"*"&$A25&"*")+COUNTIF('Game 7'!$B$12:$G$12,"*"&$A25&"*")+COUNTIF('Game 8'!$B$12:$G$12,"*"&$A25&"*")+COUNTIF('Game 9'!$B$12:$G$12,"*"&$A25&"*")+COUNTIF('Game 10'!$B$12:$G$12,"*"&$A25&"*")+COUNTIF('Game 11'!$B$12:$G$12,"*"&$A25&"*")+COUNTIF('Game 12'!$B$12:$G$12,"*"&$A25&"*")+COUNTIF('Game 13'!$B$12:$G$12,"*"&$A25&"*")+COUNTIF('Game 14'!$B$12:$G$12,"*"&$A25&"*")+COUNTIF('Game 15'!$B$12:$G$12,"*"&$A25&"*")+COUNTIF('Game 16'!$B$12:$G$12,"*"&$A25&"*") -> 0 | C25: =COUNTIF('Game 1'!$B$11:$G$11,"*"&$A25&"*")+COUNTIF('Game 2'!$B$11:$G$11,"*"&$A25&"*")+COUNTIF('Game 3'!$B$11:$G$11,"*"&$A25&"*")+COUNTIF('Game 4'!$B$11:$G$11,"*"&$A25&"*")+COUNTIF('Game 5'!$B$11:$G$11,"*"&$A25&"*")+COUNTIF('Game 6'!$B$11:$G$11,"*"&$A25&"*")+COUNTIF('Game 7'!$B$11:$G$11,"*"&$A25&"*")+COUNTIF('Game 8'!$B$11:$G$11,"*"&$A25&"*")+COUNTIF('Game 9'!$B$11:$G$11,"*"&$A25&"*")+COUNTIF('Game 10'!$B$11:$G$11,"*"&$A25&"*")+COUNTIF('Game 11'!$B$11:$G$11,"*"&$A25&"*")+COUNTIF('Game 12'!$B$11:$G$11,"*"&$A25&"*")+COUNTIF('Game 13'!$B$11:$G$11,"*"&$A25&"*")+COUNTIF('Game 14'!$B$11:$G$11,"*"&$A25&"*")+COUNTIF('Game 15'!$B$11:$G$11,"*"&$A25&"*")+COUNTIF('Game 16'!$B$11:$G$11,"*"&$A25&"*") -> 0 | D25: =COUNTIF('Game 1'!$B$10:$G$10,"*"&$A25&"*")+COUNTIF('Game 2'!$B$10:$G$10,"*"&$A25&"*")+COUNTIF('Game 3'!$B$10:$G$10,"*"&$A25&"*")+COUNTIF('Game 4'!$B$10:$G$10,"*"&$A25&"*")+COUNTIF('Game 5'!$B$10:$G$10,"*"&$A25&"*")+COUNTIF('Game 6'!$B$10:$G$10,"*"&$A25&"*")+COUNTIF('Game 7'!$B$10:$G$10,"*"&$A25&"*")+COUNTIF('Game 8'!$B$10:$G$10,"*"&$A25&"*")+COUNTIF('Game 9'!$B$10:$G$10,"*"&$A25&"*")+COUNTIF('Game 10'!$B$10:$G$10,"*"&$A25&"*")+COUNTIF('Game 11'!$B$10:$G$10,"*"&$A25&"*")+COUNTIF('Game 12'!$B$10:$G$10,"*"&$A25&"*")+COUNTIF('Game 13'!$B$10:$G$10,"*"&$A25&"*")+COUNTIF('Game 14'!$B$10:$G$10,"*"&$A25&"*")+COUNTIF('Game 15'!$B$10:$G$10,"*"&$A25&"*")+COUNTIF('Game 16'!$B$10:$G$10,"*"&$A25&"*") -> 0 | E25: =COUNTIF('Game 1'!$B$9:$G$9,"*"&$A25&"*")+COUNTIF('Game 2'!$B$9:$G$9,"*"&$A25&"*")+COUNTIF('Game 3'!$B$9:$G$9,"*"&$A25&"*")+COUNTIF('Game 4'!$B$9:$G$9,"*"&$A25&"*")+COUNTIF('Game 5'!$B$9:$G$9,"*"&$A25&"*")+COUNTIF('Game 6'!$B$9:$G$9,"*"&$A25&"*")+COUNTIF('Game 7'!$B$9:$G$9,"*"&$A25&"*")+COUNTIF('Game 8'!$B$9:$G$9,"*"&$A25&"*")+COUNTIF('Game 9'!$B$9:$G$9,"*"&$A25&"*")+COUNTIF('Game 10'!$B$9:$G$9,"*"&$A25&"*")+COUNTIF('Game 11'!$B$9:$G$9,"*"&$A25&"*")+COUNTIF('Game 12'!$B$9:$G$9,"*"&$A25&"*")+COUNTIF('Game 13'!$B$9:$G$9,"*"&$A25&"*")+COUNTIF('Game 14'!$B$9:$G$9,"*"&$A25&"*")+COUNTIF('Game 15'!$B$9:$G$9,"*"&$A25&"*")+COUNTIF('Game 16'!$B$9:$G$9,"*"&$A25&"*") -> 0 | F25: =COUNTIF('Game 1'!$B$8:$G$8,"*"&$A25&"*")+COUNTIF('Game 2'!$B$8:$G$8,"*"&$A25&"*")+COUNTIF('Game 3'!$B$8:$G$8,"*"&$A25&"*")+COUNTIF('Game 4'!$B$8:$G$8,"*"&$A25&"*")+COUNTIF('Game 5'!$B$8:$G$8,"*"&$A25&"*")+COUNTIF('Game 6'!$B$8:$G$8,"*"&$A25&"*")+COUNTIF('Game 7'!$B$8:$G$8,"*"&$A25&"*")+COUNTIF('Game 8'!$B$8:$G$8,"*"&$A25&"*")+COUNTIF('Game 9'!$B$8:$G$8,"*"&$A25&"*")+COUNTIF('Game 10'!$B$8:$G$8,"*"&$A25&"*")+COUNTIF('Game 11'!$B$8:$G$8,"*"&$A25&"*")+COUNTIF('Game 12'!$B$8:$G$8,"*"&$A25&"*")+COUNTIF('Game 13'!$B$8:$G$8,"*"&$A25&"*")+COUNTIF('Game 14'!$B$8:$G$8,"*"&$A25&"*")+COUNTIF('Game 15'!$B$8:$G$8,"*"&$A25&"*")+COUNTIF('Game 16'!$B$8:$G$8,"*"&$A25&"*") -> 0 | G25: =COUNTIF('Game 1'!$B$7:$G$7,"*"&$A25&"*")+COUNTIF('Game 2'!$B$7:$G$7,"*"&$A25&"*")+COUNTIF('Game 3'!$B$7:$G$7,"*"&$A25&"*")+COUNTIF('Game 4'!$B$7:$G$7,"*"&$A25&"*")+COUNTIF('Game 5'!$B$7:$G$7,"*"&$A25&"*")+COUNTIF('Game 6'!$B$7:$G$7,"*"&$A25&"*")+COUNTIF('Game 7'!$B$7:$G$7,"*"&$A25&"*")+COUNTIF('Game 8'!$B$7:$G$7,"*"&$A25&"*")+COUNTIF('Game 9'!$B$7:$G$7,"*"&$A25&"*")+COUNTIF('Game 10'!$B$7:$G$7,"*"&$A25&"*")+COUNTIF('Game 11'!$B$7:$G$7,"*"&$A25&"*")+COUNTIF('Game 12'!$B$7:$G$7,"*"&$A25&"*")+COUNTIF('Game 13'!$B$7:$G$7,"*"&$A25&"*")+COUNTIF('Game 14'!$B$7:$G$7,"*"&$A25&"*")+COUNTIF('Game 15'!$B$7:$G$7,"*"&$A25&"*")+COUNTIF('Game 16'!$B$7:$G$7,"*"&$A25&"*") -> 0 | H25: =COUNTIF('Game 1'!$B$4:$G$4,"*"&$A25&"*")+COUNTIF('Game 2'!$B$4:$G$4,"*"&$A25&"*")+COUNTIF('Game 3'!$B$4:$G$4,"*"&$A25&"*")+COUNTIF('Game 4'!$B$4:$G$4,"*"&$A25&"*")+COUNTIF('Game 5'!$B$4:$G$4,"*"&$A25&"*")+COUNTIF('Game 6'!$B$4:$G$4,"*"&$A25&"*")+COUNTIF('Game 7'!$B$4:$G$4,"*"&$A25&"*")+COUNTIF('Game 8'!$B$4:$G$4,"*"&$A25&"*")+COUNTIF('Game 9'!$B$4:$G$4,"*"&$A25&"*")+COUNTIF('Game 10'!$B$4:$G$4,"*"&$A25&"*")+COUNTIF('Game 11'!$B$4:$G$4,"*"&$A25&"*")+COUNTIF('Game 12'!$B$4:$G$4,"*"&$A25&"*")+COUNTIF('Game 13'!$B$4:$G$4,"*"&$A25&"*")+COUNTIF('Game 14'!$B$4:$G$4,"*"&$A25&"*")+COUNTIF('Game 15'!$B$4:$G$4,"*"&$A25&"*")+COUNTIF('Game 16'!$B$4:$G$4,"*"&$A25&"*") -> 0 | I25: =COUNTIF('Game 1'!$B$5:$G$5,"*"&$A25&"*")+COUNTIF('Game 2'!$B$5:$G$5,"*"&$A25&"*")+COUNTIF('Game 3'!$B$5:$G$5,"*"&$A25&"*")+COUNTIF('Game 4'!$B$5:$G$5,"*"&$A25&"*")+COUNTIF('Game 5'!$B$5:$G$5,"*"&$A25&"*")+COUNTIF('Game 6'!$B$5:$G$5,"*"&$A25&"*")+COUNTIF('Game 7'!$B$5:$G$5,"*"&$A25&"*")+COUNTIF('Game 8'!$B$5:$G$5,"*"&$A25&"*")+COUNTIF('Game 9'!$B$5:$G$5,"*"&$A25&"*")+COUNTIF('Game 10'!$B$5:$G$5,"*"&$A25&"*")+COUNTIF('Game 11'!$B$5:$G$5,"*"&$A25&"*")+COUNTIF('Game 12'!$B$5:$G$5,"*"&$A25&"*")+COUNTIF('Game 13'!$B$5:$G$5,"*"&$A25&"*")+COUNTIF('Game 14'!$B$5:$G$5,"*"&$A25&"*")+COUNTIF('Game 15'!$B$5:$G$5,"*"&$A25&"*")+COUNTIF('Game 16'!$B$5:$G$5,"*"&$A25&"*") -> 0 | J25: =COUNTIF('Game 1'!$B$6:$G$6,"*"&$A25&"*")+COUNTIF('Game 2'!$B$6:$G$6,"*"&$A25&"*")+COUNTIF('Game 3'!$B$6:$G$6,"*"&$A25&"*")+COUNTIF('Game 4'!$B$6:$G$6,"*"&$A25&"*")+COUNTIF('Game 5'!$B$6:$G$6,"*"&$A25&"*")+COUNTIF('Game 6'!$B$6:$G$6,"*"&$A25&"*")+COUNTIF('Game 7'!$B$6:$G$6,"*"&$A25&"*")+COUNTIF('Game 8'!$B$6:$G$6,"*"&$A25&"*")+COUNTIF('Game 9'!$B$6:$G$6,"*"&$A25&"*")+COUNTIF('Game 10'!$B$6:$G$6,"*"&$A25&"*")+COUNTIF('Game 11'!$B$6:$G$6,"*"&$A25&"*")+COUNTIF('Game 12'!$B$6:$G$6,"*"&$A25&"*")+COUNTIF('Game 13'!$B$6:$G$6,"*"&$A25&"*")+COUNTIF('Game 14'!$B$6:$G$6,"*"&$A25&"*")+COUNTIF('Game 15'!$B$6:$G$6,"*"&$A25&"*")+COUNTIF('Game 16'!$B$6:$G$6,"*"&$A25&"*") -> 0 | K25: =COUNTIF('Game 1'!$B$13:$G$13,"*"&$A25&"*")+COUNTIF('Game 1'!$B$14:$G$14,"*"&$A25&"*")+COUNTIF('Game 1'!$B$15:$G$15,"*"&$A25&"*")+COUNTIF('Game 1'!$B$16:$G$16,"*"&$A25&"*")+COUNTIF('Game 2'!$B$13:$G$13,"*"&$A25&"*")+COUNTIF('Game 2'!$B$14:$G$14,"*"&$A25&"*")+COUNTIF('Game 2'!$B$15:$G$15,"*"&$A25&"*")+COUNTIF('Game 2'!$B$16:$G$16,"*"&$A25&"*")+COUNTIF('Game 3'!$B$13:$G$13,"*"&$A25&"*")+COUNTIF('Game 3'!$B$14:$G$14,"*"&$A25&"*")+COUNTIF('Game 3'!$B$15:$G$15,"*"&$A25&"*")+COUNTIF('Game 3'!$B$16:$G$16,"*"&$A25&"*")+COUNTIF('Game 4'!$B$13:$G$13,"*"&$A25&"*")+COUNTIF('Game 4'!$B$14:$G$14,"*"&$A25&"*")+COUNTIF('Game 4'!$B$15:$G$15,"*"&$A25&"*")+COUNTIF('Game 4'!$B$16:$G$16,"*"&$A25&"*")+COUNTIF('Game 5'!$B$13:$G$13,"*"&$A25&"*")+COUNTIF('Game 5'!$B$14:$G$14,"*"&$A25&"*")+COUNTIF('Game 5'!$B$15:$G$15,"*"&$A25&"*")+COUNTIF('Game 5'!$B$16:$G$16,"*"&$A25&"*")+COUNTIF('Game 6'!$B$13:$G$13,"*"&$A25&"*")+COUNTIF('Game 6'!$B$14:$G$14,"*"&$A25&"*")+COUNTIF('Game 6'!$B$15:$G$15,"*"&$A25&"*")+COUNTIF('Game 6'!$B$16:$G$16,"*"&$A25&"*")+COUNTIF('Game 7'!$B$13:$G$13,"*"&$A25&"*")+COUNTIF('Game 7'!$B$14:$G$14,"*"&$A25&"*")+COUNTIF('Game 7'!$B$15:$G$15,"*"&$A25&"*")+COUNTIF('Game 7'!$B$16:$G$16,"*"&$A25&"*")+COUNTIF('Game 8'!$B$13:$G$13,"*"&$A25&"*")+COUNTIF('Game 8'!$B$14:$G$14,"*"&$A25&"*")+COUNTIF('Game 8'!$B$15:$G$15,"*"&$A25&"*")+COUNTIF('Game 8'!$B$16:$G$16,"*"&$A25&"*")+COUNTIF('Game 9'!$B$13:$G$13,"*"&$A25&"*")+COUNTIF('Game 9'!$B$14:$G$14,"*"&$A25&"*")+COUNTIF('Game 9'!$B$15:$G$15,"*"&$A25&"*")+COUNTIF('Game 9'!$B$16:$G$16,"*"&$A25&"*")+COUNTIF('Game 10'!$B$13:$G$13,"*"&$A25&"*")+COUNTIF('Game 10'!$B$14:$G$14,"*"&$A25&"*")+COUNTIF('Game 10'!$B$15:$G$15,"*"&$A25&"*")+COUNTIF('Game 10'!$B$16:$G$16,"*"&$A25&"*")+COUNTIF('Game 11'!$B$13:$G$13,"*"&$A25&"*")+COUNTIF('Game 11'!$B$14:$G$14,"*"&$A25&"*")+COUNTIF('Game 11'!$B$15:$G$15,"*"&$A25&"*")+COUNTIF('Game 11'!$B$16:$G$16,"*"&$A25&"*")+COUNTIF('Game 12'!$B$13:$G$13,"*"&$A25&"*")+COUNTIF('Game 12'!$B$14:$G$14,"*"&$A25&"*")+COUNTIF('Game 12'!$B$15:$G$15,"*"&$A25&"*")+COUNTIF('Game 12'!$B$16:$G$16,"*"&$A25&"*")+COUNTIF('Game 13'!$B$13:$G$13,"*"&$A25&"*")+COUNTIF('Game 13'!$B$14:$G$14,"*"&$A25&"*")+COUNTIF('Game 13'!$B$15:$G$15,"*"&$A25&"*")+COUNTIF('Game 13'!$B$16:$G$16,"*"&$A25&"*")+COUNTIF('Game 14'!$B$13:$G$13,"*"&$A25&"*")+COUNTIF('Game 14'!$B$14:$G$14,"*"&$A25&"*")+COUNTIF('Game 14'!$B$15:$G$15,"*"&$A25&"*")+COUNTIF('Game 14'!$B$16:$G$16,"*"&$A25&"*")+COUNTIF('Game 15'!$B$13:$G$13,"*"&$A25&"*")+COUNTIF('Game 15'!$B$14:$G$14,"*"&$A25&"*")+COUNTIF('Game 15'!$B$15:$G$15,"*"&$A25&"*")+COUNTIF('Game 15'!$B$16:$G$16,"*"&$A25&"*")+COUNTIF('Game 16'!$B$13:$G$13,"*"&$A25&"*")+COUNTIF('Game 16'!$B$14:$G$14,"*"&$A25&"*")+COUNTIF('Game 16'!$B$15:$G$15,"*"&$A25&"*")+COUNTIF('Game 16'!$B$16:$G$16,"*"&$A25&"*") -> 0 | L25: =A25 -> Player 8 | M25: =SUM(B25:G25) -> 0 | N25: =SUM(H25:J25) -> 0 | O25: =K25 -> 0 | P25: =SUM(M25:O25) -> 0 | Q25: =IF(P25=0,0,M25/P25) -> 0 | R25: =IF(P25=0,0,N25/P25) -> 0 | S25: =IF(P25=0,0,O25/P25) -> 0 | V25: ='Game 1'!Z9+'Game 2'!Z9+'Game 3'!Z9+'Game 4'!Z9+'Game 5'!Z9+'Game 6'!Z9+'Game 7'!Z9+'Game 8'!Z9+'Game 9'!Z9+'Game 10'!Z9+'Game 11'!Z9+'Game 12'!Z9+'Game 13'!Z9+'Game 14'!Z9+'Game 15'!Z9+'Game 16'!Z9 -> 0 | W25: =COUNTIF('Game 1'!$L$15,"*"&$A25&"*")+COUNTIF('Game 2'!$L$15,"*"&$A25&"*")+COUNTIF('Game 3'!$L$15,"*"&$A25&"*")+COUNTIF('Game 4'!$L$15,"*"&$A25&"*")+COUNTIF('Game 5'!$L$15,"*"&$A25&"*")+COUNTIF('Game 6'!$L$15,"*"&$A25&"*")+COUNTIF('Game 7'!$L$15,"*"&$A25&"*")+COUNTIF('Game 8'!$L$15,"*"&$A25&"*")+COUNTIF('Game 9'!$L$15,"*"&$A25&"*")+COUNTIF('Game 10'!$L$15,"*"&$A25&"*")+COUNTIF('Game 11'!$L$15,"*"&$A25&"*")+COUNTIF('Game 12'!$L$15,"*"&$A25&"*")+COUNTIF('Game 13'!$L$15,"*"&$A25&"*")+COUNTIF('Game 14'!$L$15,"*"&$A25&"*")+COUNTIF('Game 15'!$L$15,"*"&$A25&"*")+COUNTIF('Game 16'!$L$15,"*"&$A25&"*") -> 0
A26: =A10 -> Player 9 | B26: =COUNTIF('Game 1'!$B$12:$G$12,"*"&$A26&"*")+COUNTIF('Game 2'!$B$12:$G$12,"*"&$A26&"*")+COUNTIF('Game 3'!$B$12:$G$12,"*"&$A26&"*")+COUNTIF('Game 4'!$B$12:$G$12,"*"&$A26&"*")+COUNTIF('Game 5'!$B$12:$G$12,"*"&$A26&"*")+COUNTIF('Game 6'!$B$12:$G$12,"*"&$A26&"*")+COUNTIF('Game 7'!$B$12:$G$12,"*"&$A26&"*")+COUNTIF('Game 8'!$B$12:$G$12,"*"&$A26&"*")+COUNTIF('Game 9'!$B$12:$G$12,"*"&$A26&"*")+COUNTIF('Game 10'!$B$12:$G$12,"*"&$A26&"*")+COUNTIF('Game 11'!$B$12:$G$12,"*"&$A26&"*")+COUNTIF('Game 12'!$B$12:$G$12,"*"&$A26&"*")+COUNTIF('Game 13'!$B$12:$G$12,"*"&$A26&"*")+COUNTIF('Game 14'!$B$12:$G$12,"*"&$A26&"*")+COUNTIF('Game 15'!$B$12:$G$12,"*"&$A26&"*")+COUNTIF('Game 16'!$B$12:$G$12,"*"&$A26&"*") -> 0 | C26: =COUNTIF('Game 1'!$B$11:$G$11,"*"&$A26&"*")+COUNTIF('Game 2'!$B$11:$G$11,"*"&$A26&"*")+COUNTIF('Game 3'!$B$11:$G$11,"*"&$A26&"*")+COUNTIF('Game 4'!$B$11:$G$11,"*"&$A26&"*")+COUNTIF('Game 5'!$B$11:$G$11,"*"&$A26&"*")+COUNTIF('Game 6'!$B$11:$G$11,"*"&$A26&"*")+COUNTIF('Game 7'!$B$11:$G$11,"*"&$A26&"*")+COUNTIF('Game 8'!$B$11:$G$11,"*"&$A26&"*")+COUNTIF('Game 9'!$B$11:$G$11,"*"&$A26&"*")+COUNTIF('Game 10'!$B$11:$G$11,"*"&$A26&"*")+COUNTIF('Game 11'!$B$11:$G$11,"*"&$A26&"*")+COUNTIF('Game 12'!$B$11:$G$11,"*"&$A26&"*")+COUNTIF('Game 13'!$B$11:$G$11,"*"&$A26&"*")+COUNTIF('Game 14'!$B$11:$G$11,"*"&$A26&"*")+COUNTIF('Game 15'!$B$11:$G$11,"*"&$A26&"*")+COUNTIF('Game 16'!$B$11:$G$11,"*"&$A26&"*") -> 0 | D26: =COUNTIF('Game 1'!$B$10:$G$10,"*"&$A26&"*")+COUNTIF('Game 2'!$B$10:$G$10,"*"&$A26&"*")+COUNTIF('Game 3'!$B$10:$G$10,"*"&$A26&"*")+COUNTIF('Game 4'!$B$10:$G$10,"*"&$A26&"*")+COUNTIF('Game 5'!$B$10:$G$10,"*"&$A26&"*")+COUNTIF('Game 6'!$B$10:$G$10,"*"&$A26&"*")+COUNTIF('Game 7'!$B$10:$G$10,"*"&$A26&"*")+COUNTIF('Game 8'!$B$10:$G$10,"*"&$A26&"*")+COUNTIF('Game 9'!$B$10:$G$10,"*"&$A26&"*")+COUNTIF('Game 10'!$B$10:$G$10,"*"&$A26&"*")+COUNTIF('Game 11'!$B$10:$G$10,"*"&$A26&"*")+COUNTIF('Game 12'!$B$10:$G$10,"*"&$A26&"*")+COUNTIF('Game 13'!$B$10:$G$10,"*"&$A26&"*")+COUNTIF('Game 14'!$B$10:$G$10,"*"&$A26&"*")+COUNTIF('Game 15'!$B$10:$G$10,"*"&$A26&"*")+COUNTIF('Game 16'!$B$10:$G$10,"*"&$A26&"*") -> 0 | E26: =COUNTIF('Game 1'!$B$9:$G$9,"*"&$A26&"*")+COUNTIF('Game 2'!$B$9:$G$9,"*"&$A26&"*")+COUNTIF('Game 3'!$B$9:$G$9,"*"&$A26&"*")+COUNTIF('Game 4'!$B$9:$G$9,"*"&$A26&"*")+COUNTIF('Game 5'!$B$9:$G$9,"*"&$A26&"*")+COUNTIF('Game 6'!$B$9:$G$9,"*"&$A26&"*")+COUNTIF('Game 7'!$B$9:$G$9,"*"&$A26&"*")+COUNTIF('Game 8'!$B$9:$G$9,"*"&$A26&"*")+COUNTIF('Game 9'!$B$9:$G$9,"*"&$A26&"*")+COUNTIF('Game 10'!$B$9:$G$9,"*"&$A26&"*")+COUNTIF('Game 11'!$B$9:$G$9,"*"&$A26&"*")+COUNTIF('Game 12'!$B$9:$G$9,"*"&$A26&"*")+COUNTIF('Game 13'!$B$9:$G$9,"*"&$A26&"*")+COUNTIF('Game 14'!$B$9:$G$9,"*"&$A26&"*")+COUNTIF('Game 15'!$B$9:$G$9,"*"&$A26&"*")+COUNTIF('Game 16'!$B$9:$G$9,"*"&$A26&"*") -> 0 | F26: =COUNTIF('Game 1'!$B$8:$G$8,"*"&$A26&"*")+COUNTIF('Game 2'!$B$8:$G$8,"*"&$A26&"*")+COUNTIF('Game 3'!$B$8:$G$8,"*"&$A26&"*")+COUNTIF('Game 4'!$B$8:$G$8,"*"&$A26&"*")+COUNTIF('Game 5'!$B$8:$G$8,"*"&$A26&"*")+COUNTIF('Game 6'!$B$8:$G$8,"*"&$A26&"*")+COUNTIF('Game 7'!$B$8:$G$8,"*"&$A26&"*")+COUNTIF('Game 8'!$B$8:$G$8,"*"&$A26&"*")+COUNTIF('Game 9'!$B$8:$G$8,"*"&$A26&"*")+COUNTIF('Game 10'!$B$8:$G$8,"*"&$A26&"*")+COUNTIF('Game 11'!$B$8:$G$8,"*"&$A26&"*")+COUNTIF('Game 12'!$B$8:$G$8,"*"&$A26&"*")+COUNTIF('Game 13'!$B$8:$G$8,"*"&$A26&"*")+COUNTIF('Game 14'!$B$8:$G$8,"*"&$A26&"*")+COUNTIF('Game 15'!$B$8:$G$8,"*"&$A26&"*")+COUNTIF('Game 16'!$B$8:$G$8,"*"&$A26&"*") -> 0 | G26: =COUNTIF('Game 1'!$B$7:$G$7,"*"&$A26&"*")+COUNTIF('Game 2'!$B$7:$G$7,"*"&$A26&"*")+COUNTIF('Game 3'!$B$7:$G$7,"*"&$A26&"*")+COUNTIF('Game 4'!$B$7:$G$7,"*"&$A26&"*")+COUNTIF('Game 5'!$B$7:$G$7,"*"&$A26&"*")+COUNTIF('Game 6'!$B$7:$G$7,"*"&$A26&"*")+COUNTIF('Game 7'!$B$7:$G$7,"*"&$A26&"*")+COUNTIF('Game 8'!$B$7:$G$7,"*"&$A26&"*")+COUNTIF('Game 9'!$B$7:$G$7,"*"&$A26&"*")+COUNTIF('Game 10'!$B$7:$G$7,"*"&$A26&"*")+COUNTIF('Game 11'!$B$7:$G$7,"*"&$A26&"*")+COUNTIF('Game 12'!$B$7:$G$7,"*"&$A26&"*")+COUNTIF('Game 13'!$B$7:$G$7,"*"&$A26&"*")+COUNTIF('Game 14'!$B$7:$G$7,"*"&$A26&"*")+COUNTIF('Game 15'!$B$7:$G$7,"*"&$A26&"*")+COUNTIF('Game 16'!$B$7:$G$7,"*"&$A26&"*") -> 0 | H26: =COUNTIF('Game 1'!$B$4:$G$4,"*"&$A26&"*")+COUNTIF('Game 2'!$B$4:$G$4,"*"&$A26&"*")+COUNTIF('Game 3'!$B$4:$G$4,"*"&$A26&"*")+COUNTIF('Game 4'!$B$4:$G$4,"*"&$A26&"*")+COUNTIF('Game 5'!$B$4:$G$4,"*"&$A26&"*")+COUNTIF('Game 6'!$B$4:$G$4,"*"&$A26&"*")+COUNTIF('Game 7'!$B$4:$G$4,"*"&$A26&"*")+COUNTIF('Game 8'!$B$4:$G$4,"*"&$A26&"*")+COUNTIF('Game 9'!$B$4:$G$4,"*"&$A26&"*")+COUNTIF('Game 10'!$B$4:$G$4,"*"&$A26&"*")+COUNTIF('Game 11'!$B$4:$G$4,"*"&$A26&"*")+COUNTIF('Game 12'!$B$4:$G$4,"*"&$A26&"*")+COUNTIF('Game 13'!$B$4:$G$4,"*"&$A26&"*")+COUNTIF('Game 14'!$B$4:$G$4,"*"&$A26&"*")+COUNTIF('Game 15'!$B$4:$G$4,"*"&$A26&"*")+COUNTIF('Game 16'!$B$4:$G$4,"*"&$A26&"*") -> 0 | I26: =COUNTIF('Game 1'!$B$5:$G$5,"*"&$A26&"*")+COUNTIF('Game 2'!$B$5:$G$5,"*"&$A26&"*")+COUNTIF('Game 3'!$B$5:$G$5,"*"&$A26&"*")+COUNTIF('Game 4'!$B$5:$G$5,"*"&$A26&"*")+COUNTIF('Game 5'!$B$5:$G$5,"*"&$A26&"*")+COUNTIF('Game 6'!$B$5:$G$5,"*"&$A26&"*")+COUNTIF('Game 7'!$B$5:$G$5,"*"&$A26&"*")+COUNTIF('Game 8'!$B$5:$G$5,"*"&$A26&"*")+COUNTIF('Game 9'!$B$5:$G$5,"*"&$A26&"*")+COUNTIF('Game 10'!$B$5:$G$5,"*"&$A26&"*")+COUNTIF('Game 11'!$B$5:$G$5,"*"&$A26&"*")+COUNTIF('Game 12'!$B$5:$G$5,"*"&$A26&"*")+COUNTIF('Game 13'!$B$5:$G$5,"*"&$A26&"*")+COUNTIF('Game 14'!$B$5:$G$5,"*"&$A26&"*")+COUNTIF('Game 15'!$B$5:$G$5,"*"&$A26&"*")+COUNTIF('Game 16'!$B$5:$G$5,"*"&$A26&"*") -> 0 | J26: =COUNTIF('Game 1'!$B$6:$G$6,"*"&$A26&"*")+COUNTIF('Game 2'!$B$6:$G$6,"*"&$A26&"*")+COUNTIF('Game 3'!$B$6:$G$6,"*"&$A26&"*")+COUNTIF('Game 4'!$B$6:$G$6,"*"&$A26&"*")+COUNTIF('Game 5'!$B$6:$G$6,"*"&$A26&"*")+COUNTIF('Game 6'!$B$6:$G$6,"*"&$A26&"*")+COUNTIF('Game 7'!$B$6:$G$6,"*"&$A26&"*")+COUNTIF('Game 8'!$B$6:$G$6,"*"&$A26&"*")+COUNTIF('Game 9'!$B$6:$G$6,"*"&$A26&"*")+COUNTIF('Game 10'!$B$6:$G$6,"*"&$A26&"*")+COUNTIF('Game 11'!$B$6:$G$6,"*"&$A26&"*")+COUNTIF('Game 12'!$B$6:$G$6,"*"&$A26&"*")+COUNTIF('Game 13'!$B$6:$G$6,"*"&$A26&"*")+COUNTIF('Game 14'!$B$6:$G$6,"*"&$A26&"*")+COUNTIF('Game 15'!$B$6:$G$6,"*"&$A26&"*")+COUNTIF('Game 16'!$B$6:$G$6,"*"&$A26&"*") -> 0 | K26: =COUNTIF('Game 1'!$B$13:$G$13,"*"&$A26&"*")+COUNTIF('Game 1'!$B$14:$G$14,"*"&$A26&"*")+COUNTIF('Game 1'!$B$15:$G$15,"*"&$A26&"*")+COUNTIF('Game 1'!$B$16:$G$16,"*"&$A26&"*")+COUNTIF('Game 2'!$B$13:$G$13,"*"&$A26&"*")+COUNTIF('Game 2'!$B$14:$G$14,"*"&$A26&"*")+COUNTIF('Game 2'!$B$15:$G$15,"*"&$A26&"*")+COUNTIF('Game 2'!$B$16:$G$16,"*"&$A26&"*")+COUNTIF('Game 3'!$B$13:$G$13,"*"&$A26&"*")+COUNTIF('Game 3'!$B$14:$G$14,"*"&$A26&"*")+COUNTIF('Game 3'!$B$15:$G$15,"*"&$A26&"*")+COUNTIF('Game 3'!$B$16:$G$16,"*"&$A26&"*")+COUNTIF('Game 4'!$B$13:$G$13,"*"&$A26&"*")+COUNTIF('Game 4'!$B$14:$G$14,"*"&$A26&"*")+COUNTIF('Game 4'!$B$15:$G$15,"*"&$A26&"*")+COUNTIF('Game 4'!$B$16:$G$16,"*"&$A26&"*")+COUNTIF('Game 5'!$B$13:$G$13,"*"&$A26&"*")+COUNTIF('Game 5'!$B$14:$G$14,"*"&$A26&"*")+COUNTIF('Game 5'!$B$15:$G$15,"*"&$A26&"*")+COUNTIF('Game 5'!$B$16:$G$16,"*"&$A26&"*")+COUNTIF('Game 6'!$B$13:$G$13,"*"&$A26&"*")+COUNTIF('Game 6'!$B$14:$G$14,"*"&$A26&"*")+COUNTIF('Game 6'!$B$15:$G$15,"*"&$A26&"*")+COUNTIF('Game 6'!$B$16:$G$16,"*"&$A26&"*")+COUNTIF('Game 7'!$B$13:$G$13,"*"&$A26&"*")+COUNTIF('Game 7'!$B$14:$G$14,"*"&$A26&"*")+COUNTIF('Game 7'!$B$15:$G$15,"*"&$A26&"*")+COUNTIF('Game 7'!$B$16:$G$16,"*"&$A26&"*")+COUNTIF('Game 8'!$B$13:$G$13,"*"&$A26&"*")+COUNTIF('Game 8'!$B$14:$G$14,"*"&$A26&"*")+COUNTIF('Game 8'!$B$15:$G$15,"*"&$A26&"*")+COUNTIF('Game 8'!$B$16:$G$16,"*"&$A26&"*")+COUNTIF('Game 9'!$B$13:$G$13,"*"&$A26&"*")+COUNTIF('Game 9'!$B$14:$G$14,"*"&$A26&"*")+COUNTIF('Game 9'!$B$15:$G$15,"*"&$A26&"*")+COUNTIF('Game 9'!$B$16:$G$16,"*"&$A26&"*")+COUNTIF('Game 10'!$B$13:$G$13,"*"&$A26&"*")+COUNTIF('Game 10'!$B$14:$G$14,"*"&$A26&"*")+COUNTIF('Game 10'!$B$15:$G$15,"*"&$A26&"*")+COUNTIF('Game 10'!$B$16:$G$16,"*"&$A26&"*")+COUNTIF('Game 11'!$B$13:$G$13,"*"&$A26&"*")+COUNTIF('Game 11'!$B$14:$G$14,"*"&$A26&"*")+COUNTIF('Game 11'!$B$15:$G$15,"*"&$A26&"*")+COUNTIF('Game 11'!$B$16:$G$16,"*"&$A26&"*")+COUNTIF('Game 12'!$B$13:$G$13,"*"&$A26&"*")+COUNTIF('Game 12'!$B$14:$G$14,"*"&$A26&"*")+COUNTIF('Game 12'!$B$15:$G$15,"*"&$A26&"*")+COUNTIF('Game 12'!$B$16:$G$16,"*"&$A26&"*")+COUNTIF('Game 13'!$B$13:$G$13,"*"&$A26&"*")+COUNTIF('Game 13'!$B$14:$G$14,"*"&$A26&"*")+COUNTIF('Game 13'!$B$15:$G$15,"*"&$A26&"*")+COUNTIF('Game 13'!$B$16:$G$16,"*"&$A26&"*")+COUNTIF('Game 14'!$B$13:$G$13,"*"&$A26&"*")+COUNTIF('Game 14'!$B$14:$G$14,"*"&$A26&"*")+COUNTIF('Game 14'!$B$15:$G$15,"*"&$A26&"*")+COUNTIF('Game 14'!$B$16:$G$16,"*"&$A26&"*")+COUNTIF('Game 15'!$B$13:$G$13,"*"&$A26&"*")+COUNTIF('Game 15'!$B$14:$G$14,"*"&$A26&"*")+COUNTIF('Game 15'!$B$15:$G$15,"*"&$A26&"*")+COUNTIF('Game 15'!$B$16:$G$16,"*"&$A26&"*")+COUNTIF('Game 16'!$B$13:$G$13,"*"&$A26&"*")+COUNTIF('Game 16'!$B$14:$G$14,"*"&$A26&"*")+COUNTIF('Game 16'!$B$15:$G$15,"*"&$A26&"*")+COUNTIF('Game 16'!$B$16:$G$16,"*"&$A26&"*") -> 0 | L26: =A26 -> Player 9 | M26: =SUM(B26:G26) -> 0 | N26: =SUM(H26:J26) -> 0 | O26: =K26 -> 0 | P26: =SUM(M26:O26) -> 0 | Q26: =IF(P26=0,0,M26/P26) -> 0 | R26: =IF(P26=0,0,N26/P26) -> 0 | S26: =IF(P26=0,0,O26/P26) -> 0 | V26: ='Game 1'!Z10+'Game 2'!Z10+'Game 3'!Z10+'Game 4'!Z10+'Game 5'!Z10+'Game 6'!Z10+'Game 7'!Z10+'Game 8'!Z10+'Game 9'!Z10+'Game 10'!Z10+'Game 11'!Z10+'Game 12'!Z10+'Game 13'!Z10+'Game 14'!Z10+'Game 15'!Z10+'Game 16'!Z10 -> 0 | W26: =COUNTIF('Game 1'!$L$15,"*"&$A26&"*")+COUNTIF('Game 2'!$L$15,"*"&$A26&"*")+COUNTIF('Game 3'!$L$15,"*"&$A26&"*")+COUNTIF('Game 4'!$L$15,"*"&$A26&"*")+COUNTIF('Game 5'!$L$15,"*"&$A26&"*")+COUNTIF('Game 6'!$L$15,"*"&$A26&"*")+COUNTIF('Game 7'!$L$15,"*"&$A26&"*")+COUNTIF('Game 8'!$L$15,"*"&$A26&"*")+COUNTIF('Game 9'!$L$15,"*"&$A26&"*")+COUNTIF('Game 10'!$L$15,"*"&$A26&"*")+COUNTIF('Game 11'!$L$15,"*"&$A26&"*")+COUNTIF('Game 12'!$L$15,"*"&$A26&"*")+COUNTIF('Game 13'!$L$15,"*"&$A26&"*")+COUNTIF('Game 14'!$L$15,"*"&$A26&"*")+COUNTIF('Game 15'!$L$15,"*"&$A26&"*")+COUNTIF('Game 16'!$L$15,"*"&$A26&"*") -> 0
A27: =A11 -> Player 10 | B27: =COUNTIF('Game 1'!$B$12:$G$12,"*"&$A27&"*")+COUNTIF('Game 2'!$B$12:$G$12,"*"&$A27&"*")+COUNTIF('Game 3'!$B$12:$G$12,"*"&$A27&"*")+COUNTIF('Game 4'!$B$12:$G$12,"*"&$A27&"*")+COUNTIF('Game 5'!$B$12:$G$12,"*"&$A27&"*")+COUNTIF('Game 6'!$B$12:$G$12,"*"&$A27&"*")+COUNTIF('Game 7'!$B$12:$G$12,"*"&$A27&"*")+COUNTIF('Game 8'!$B$12:$G$12,"*"&$A27&"*")+COUNTIF('Game 9'!$B$12:$G$12,"*"&$A27&"*")+COUNTIF('Game 10'!$B$12:$G$12,"*"&$A27&"*")+COUNTIF('Game 11'!$B$12:$G$12,"*"&$A27&"*")+COUNTIF('Game 12'!$B$12:$G$12,"*"&$A27&"*")+COUNTIF('Game 13'!$B$12:$G$12,"*"&$A27&"*")+COUNTIF('Game 14'!$B$12:$G$12,"*"&$A27&"*")+COUNTIF('Game 15'!$B$12:$G$12,"*"&$A27&"*")+COUNTIF('Game 16'!$B$12:$G$12,"*"&$A27&"*") -> 0 | C27: =COUNTIF('Game 1'!$B$11:$G$11,"*"&$A27&"*")+COUNTIF('Game 2'!$B$11:$G$11,"*"&$A27&"*")+COUNTIF('Game 3'!$B$11:$G$11,"*"&$A27&"*")+COUNTIF('Game 4'!$B$11:$G$11,"*"&$A27&"*")+COUNTIF('Game 5'!$B$11:$G$11,"*"&$A27&"*")+COUNTIF('Game 6'!$B$11:$G$11,"*"&$A27&"*")+COUNTIF('Game 7'!$B$11:$G$11,"*"&$A27&"*")+COUNTIF('Game 8'!$B$11:$G$11,"*"&$A27&"*")+COUNTIF('Game 9'!$B$11:$G$11,"*"&$A27&"*")+COUNTIF('Game 10'!$B$11:$G$11,"*"&$A27&"*")+COUNTIF('Game 11'!$B$11:$G$11,"*"&$A27&"*")+COUNTIF('Game 12'!$B$11:$G$11,"*"&$A27&"*")+COUNTIF('Game 13'!$B$11:$G$11,"*"&$A27&"*")+COUNTIF('Game 14'!$B$11:$G$11,"*"&$A27&"*")+COUNTIF('Game 15'!$B$11:$G$11,"*"&$A27&"*")+COUNTIF('Game 16'!$B$11:$G$11,"*"&$A27&"*") -> 0 | D27: =COUNTIF('Game 1'!$B$10:$G$10,"*"&$A27&"*")+COUNTIF('Game 2'!$B$10:$G$10,"*"&$A27&"*")+COUNTIF('Game 3'!$B$10:$G$10,"*"&$A27&"*")+COUNTIF('Game 4'!$B$10:$G$10,"*"&$A27&"*")+COUNTIF('Game 5'!$B$10:$G$10,"*"&$A27&"*")+COUNTIF('Game 6'!$B$10:$G$10,"*"&$A27&"*")+COUNTIF('Game 7'!$B$10:$G$10,"*"&$A27&"*")+COUNTIF('Game 8'!$B$10:$G$10,"*"&$A27&"*")+COUNTIF('Game 9'!$B$10:$G$10,"*"&$A27&"*")+COUNTIF('Game 10'!$B$10:$G$10,"*"&$A27&"*")+COUNTIF('Game 11'!$B$10:$G$10,"*"&$A27&"*")+COUNTIF('Game 12'!$B$10:$G$10,"*"&$A27&"*")+COUNTIF('Game 13'!$B$10:$G$10,"*"&$A27&"*")+COUNTIF('Game 14'!$B$10:$G$10,"*"&$A27&"*")+COUNTIF('Game 15'!$B$10:$G$10,"*"&$A27&"*")+COUNTIF('Game 16'!$B$10:$G$10,"*"&$A27&"*") -> 0 | E27: =COUNTIF('Game 1'!$B$9:$G$9,"*"&$A27&"*")+COUNTIF('Game 2'!$B$9:$G$9,"*"&$A27&"*")+COUNTIF('Game 3'!$B$9:$G$9,"*"&$A27&"*")+COUNTIF('Game 4'!$B$9:$G$9,"*"&$A27&"*")+COUNTIF('Game 5'!$B$9:$G$9,"*"&$A27&"*")+COUNTIF('Game 6'!$B$9:$G$9,"*"&$A27&"*")+COUNTIF('Game 7'!$B$9:$G$9,"*"&$A27&"*")+COUNTIF('Game 8'!$B$9:$G$9,"*"&$A27&"*")+COUNTIF('Game 9'!$B$9:$G$9,"*"&$A27&"*")+COUNTIF('Game 10'!$B$9:$G$9,"*"&$A27&"*")+COUNTIF('Game 11'!$B$9:$G$9,"*"&$A27&"*")+COUNTIF('Game 12'!$B$9:$G$9,"*"&$A27&"*")+COUNTIF('Game 13'!$B$9:$G$9,"*"&$A27&"*")+COUNTIF('Game 14'!$B$9:$G$9,"*"&$A27&"*")+COUNTIF('Game 15'!$B$9:$G$9,"*"&$A27&"*")+COUNTIF('Game 16'!$B$9:$G$9,"*"&$A27&"*") -> 0 | F27: =COUNTIF('Game 1'!$B$8:$G$8,"*"&$A27&"*")+COUNTIF('Game 2'!$B$8:$G$8,"*"&$A27&"*")+COUNTIF('Game 3'!$B$8:$G$8,"*"&$A27&"*")+COUNTIF('Game 4'!$B$8:$G$8,"*"&$A27&"*")+COUNTIF('Game 5'!$B$8:$G$8,"*"&$A27&"*")+COUNTIF('Game 6'!$B$8:$G$8,"*"&$A27&"*")+COUNTIF('Game 7'!$B$8:$G$8,"*"&$A27&"*")+COUNTIF('Game 8'!$B$8:$G$8,"*"&$A27&"*")+COUNTIF('Game 9'!$B$8:$G$8,"*"&$A27&"*")+COUNTIF('Game 10'!$B$8:$G$8,"*"&$A27&"*")+COUNTIF('Game 11'!$B$8:$G$8,"*"&$A27&"*")+COUNTIF('Game 12'!$B$8:$G$8,"*"&$A27&"*")+COUNTIF('Game 13'!$B$8:$G$8,"*"&$A27&"*")+COUNTIF('Game 14'!$B$8:$G$8,"*"&$A27&"*")+COUNTIF('Game 15'!$B$8:$G$8,"*"&$A27&"*")+COUNTIF('Game 16'!$B$8:$G$8,"*"&$A27&"*") -> 0 | G27: =COUNTIF('Game 1'!$B$7:$G$7,"*"&$A27&"*")+COUNTIF('Game 2'!$B$7:$G$7,"*"&$A27&"*")+COUNTIF('Game 3'!$B$7:$G$7,"*"&$A27&"*")+COUNTIF('Game 4'!$B$7:$G$7,"*"&$A27&"*")+COUNTIF('Game 5'!$B$7:$G$7,"*"&$A27&"*")+COUNTIF('Game 6'!$B$7:$G$7,"*"&$A27&"*")+COUNTIF('Game 7'!$B$7:$G$7,"*"&$A27&"*")+COUNTIF('Game 8'!$B$7:$G$7,"*"&$A27&"*")+COUNTIF('Game 9'!$B$7:$G$7,"*"&$A27&"*")+COUNTIF('Game 10'!$B$7:$G$7,"*"&$A27&"*")+COUNTIF('Game 11'!$B$7:$G$7,"*"&$A27&"*")+COUNTIF('Game 12'!$B$7:$G$7,"*"&$A27&"*")+COUNTIF('Game 13'!$B$7:$G$7,"*"&$A27&"*")+COUNTIF('Game 14'!$B$7:$G$7,"*"&$A27&"*")+COUNTIF('Game 15'!$B$7:$G$7,"*"&$A27&"*")+COUNTIF('Game 16'!$B$7:$G$7,"*"&$A27&"*") -> 0 | H27: =COUNTIF('Game 1'!$B$4:$G$4,"*"&$A27&"*")+COUNTIF('Game 2'!$B$4:$G$4,"*"&$A27&"*")+COUNTIF('Game 3'!$B$4:$G$4,"*"&$A27&"*")+COUNTIF('Game 4'!$B$4:$G$4,"*"&$A27&"*")+COUNTIF('Game 5'!$B$4:$G$4,"*"&$A27&"*")+COUNTIF('Game 6'!$B$4:$G$4,"*"&$A27&"*")+COUNTIF('Game 7'!$B$4:$G$4,"*"&$A27&"*")+COUNTIF('Game 8'!$B$4:$G$4,"*"&$A27&"*")+COUNTIF('Game 9'!$B$4:$G$4,"*"&$A27&"*")+COUNTIF('Game 10'!$B$4:$G$4,"*"&$A27&"*")+COUNTIF('Game 11'!$B$4:$G$4,"*"&$A27&"*")+COUNTIF('Game 12'!$B$4:$G$4,"*"&$A27&"*")+COUNTIF('Game 13'!$B$4:$G$4,"*"&$A27&"*")+COUNTIF('Game 14'!$B$4:$G$4,"*"&$A27&"*")+COUNTIF('Game 15'!$B$4:$G$4,"*"&$A27&"*")+COUNTIF('Game 16'!$B$4:$G$4,"*"&$A27&"*") -> 0 | I27: =COUNTIF('Game 1'!$B$5:$G$5,"*"&$A27&"*")+COUNTIF('Game 2'!$B$5:$G$5,"*"&$A27&"*")+COUNTIF('Game 3'!$B$5:$G$5,"*"&$A27&"*")+COUNTIF('Game 4'!$B$5:$G$5,"*"&$A27&"*")+COUNTIF('Game 5'!$B$5:$G$5,"*"&$A27&"*")+COUNTIF('Game 6'!$B$5:$G$5,"*"&$A27&"*")+COUNTIF('Game 7'!$B$5:$G$5,"*"&$A27&"*")+COUNTIF('Game 8'!$B$5:$G$5,"*"&$A27&"*")+COUNTIF('Game 9'!$B$5:$G$5,"*"&$A27&"*")+COUNTIF('Game 10'!$B$5:$G$5,"*"&$A27&"*")+COUNTIF('Game 11'!$B$5:$G$5,"*"&$A27&"*")+COUNTIF('Game 12'!$B$5:$G$5,"*"&$A27&"*")+COUNTIF('Game 13'!$B$5:$G$5,"*"&$A27&"*")+COUNTIF('Game 14'!$B$5:$G$5,"*"&$A27&"*")+COUNTIF('Game 15'!$B$5:$G$5,"*"&$A27&"*")+COUNTIF('Game 16'!$B$5:$G$5,"*"&$A27&"*") -> 0 | J27: =COUNTIF('Game 1'!$B$6:$G$6,"*"&$A27&"*")+COUNTIF('Game 2'!$B$6:$G$6,"*"&$A27&"*")+COUNTIF('Game 3'!$B$6:$G$6,"*"&$A27&"*")+COUNTIF('Game 4'!$B$6:$G$6,"*"&$A27&"*")+COUNTIF('Game 5'!$B$6:$G$6,"*"&$A27&"*")+COUNTIF('Game 6'!$B$6:$G$6,"*"&$A27&"*")+COUNTIF('Game 7'!$B$6:$G$6,"*"&$A27&"*")+COUNTIF('Game 8'!$B$6:$G$6,"*"&$A27&"*")+COUNTIF('Game 9'!$B$6:$G$6,"*"&$A27&"*")+COUNTIF('Game 10'!$B$6:$G$6,"*"&$A27&"*")+COUNTIF('Game 11'!$B$6:$G$6,"*"&$A27&"*")+COUNTIF('Game 12'!$B$6:$G$6,"*"&$A27&"*")+COUNTIF('Game 13'!$B$6:$G$6,"*"&$A27&"*")+COUNTIF('Game 14'!$B$6:$G$6,"*"&$A27&"*")+COUNTIF('Game 15'!$B$6:$G$6,"*"&$A27&"*")+COUNTIF('Game 16'!$B$6:$G$6,"*"&$A27&"*") -> 0 | K27: =COUNTIF('Game 1'!$B$13:$G$13,"*"&$A27&"*")+COUNTIF('Game 1'!$B$14:$G$14,"*"&$A27&"*")+COUNTIF('Game 1'!$B$15:$G$15,"*"&$A27&"*")+COUNTIF('Game 1'!$B$16:$G$16,"*"&$A27&"*")+COUNTIF('Game 2'!$B$13:$G$13,"*"&$A27&"*")+COUNTIF('Game 2'!$B$14:$G$14,"*"&$A27&"*")+COUNTIF('Game 2'!$B$15:$G$15,"*"&$A27&"*")+COUNTIF('Game 2'!$B$16:$G$16,"*"&$A27&"*")+COUNTIF('Game 3'!$B$13:$G$13,"*"&$A27&"*")+COUNTIF('Game 3'!$B$14:$G$14,"*"&$A27&"*")+COUNTIF('Game 3'!$B$15:$G$15,"*"&$A27&"*")+COUNTIF('Game 3'!$B$16:$G$16,"*"&$A27&"*")+COUNTIF('Game 4'!$B$13:$G$13,"*"&$A27&"*")+COUNTIF('Game 4'!$B$14:$G$14,"*"&$A27&"*")+COUNTIF('Game 4'!$B$15:$G$15,"*"&$A27&"*")+COUNTIF('Game 4'!$B$16:$G$16,"*"&$A27&"*")+COUNTIF('Game 5'!$B$13:$G$13,"*"&$A27&"*")+COUNTIF('Game 5'!$B$14:$G$14,"*"&$A27&"*")+COUNTIF('Game 5'!$B$15:$G$15,"*"&$A27&"*")+COUNTIF('Game 5'!$B$16:$G$16,"*"&$A27&"*")+COUNTIF('Game 6'!$B$13:$G$13,"*"&$A27&"*")+COUNTIF('Game 6'!$B$14:$G$14,"*"&$A27&"*")+COUNTIF('Game 6'!$B$15:$G$15,"*"&$A27&"*")+COUNTIF('Game 6'!$B$16:$G$16,"*"&$A27&"*")+COUNTIF('Game 7'!$B$13:$G$13,"*"&$A27&"*")+COUNTIF('Game 7'!$B$14:$G$14,"*"&$A27&"*")+COUNTIF('Game 7'!$B$15:$G$15,"*"&$A27&"*")+COUNTIF('Game 7'!$B$16:$G$16,"*"&$A27&"*")+COUNTIF('Game 8'!$B$13:$G$13,"*"&$A27&"*")+COUNTIF('Game 8'!$B$14:$G$14,"*"&$A27&"*")+COUNTIF('Game 8'!$B$15:$G$15,"*"&$A27&"*")+COUNTIF('Game 8'!$B$16:$G$16,"*"&$A27&"*")+COUNTIF('Game 9'!$B$13:$G$13,"*"&$A27&"*")+COUNTIF('Game 9'!$B$14:$G$14,"*"&$A27&"*")+COUNTIF('Game 9'!$B$15:$G$15,"*"&$A27&"*")+COUNTIF('Game 9'!$B$16:$G$16,"*"&$A27&"*")+COUNTIF('Game 10'!$B$13:$G$13,"*"&$A27&"*")+COUNTIF('Game 10'!$B$14:$G$14,"*"&$A27&"*")+COUNTIF('Game 10'!$B$15:$G$15,"*"&$A27&"*")+COUNTIF('Game 10'!$B$16:$G$16,"*"&$A27&"*")+COUNTIF('Game 11'!$B$13:$G$13,"*"&$A27&"*")+COUNTIF('Game 11'!$B$14:$G$14,"*"&$A27&"*")+COUNTIF('Game 11'!$B$15:$G$15,"*"&$A27&"*")+COUNTIF('Game 11'!$B$16:$G$16,"*"&$A27&"*")+COUNTIF('Game 12'!$B$13:$G$13,"*"&$A27&"*")+COUNTIF('Game 12'!$B$14:$G$14,"*"&$A27&"*")+COUNTIF('Game 12'!$B$15:$G$15,"*"&$A27&"*")+COUNTIF('Game 12'!$B$16:$G$16,"*"&$A27&"*")+COUNTIF('Game 13'!$B$13:$G$13,"*"&$A27&"*")+COUNTIF('Game 13'!$B$14:$G$14,"*"&$A27&"*")+COUNTIF('Game 13'!$B$15:$G$15,"*"&$A27&"*")+COUNTIF('Game 13'!$B$16:$G$16,"*"&$A27&"*")+COUNTIF('Game 14'!$B$13:$G$13,"*"&$A27&"*")+COUNTIF('Game 14'!$B$14:$G$14,"*"&$A27&"*")+COUNTIF('Game 14'!$B$15:$G$15,"*"&$A27&"*")+COUNTIF('Game 14'!$B$16:$G$16,"*"&$A27&"*")+COUNTIF('Game 15'!$B$13:$G$13,"*"&$A27&"*")+COUNTIF('Game 15'!$B$14:$G$14,"*"&$A27&"*")+COUNTIF('Game 15'!$B$15:$G$15,"*"&$A27&"*")+COUNTIF('Game 15'!$B$16:$G$16,"*"&$A27&"*")+COUNTIF('Game 16'!$B$13:$G$13,"*"&$A27&"*")+COUNTIF('Game 16'!$B$14:$G$14,"*"&$A27&"*")+COUNTIF('Game 16'!$B$15:$G$15,"*"&$A27&"*")+COUNTIF('Game 16'!$B$16:$G$16,"*"&$A27&"*") -> 0 | L27: =A27 -> Player 10 | M27: =SUM(B27:G27) -> 0 | N27: =SUM(H27:J27) -> 0 | O27: =K27 -> 0 | P27: =SUM(M27:O27) -> 0 | Q27: =IF(P27=0,0,M27/P27) -> 0 | R27: =IF(P27=0,0,N27/P27) -> 0 | S27: =IF(P27=0,0,O27/P27) -> 0 | V27: ='Game 1'!Z11+'Game 2'!Z11+'Game 3'!Z11+'Game 4'!Z11+'Game 5'!Z11+'Game 6'!Z11+'Game 7'!Z11+'Game 8'!Z11+'Game 9'!Z11+'Game 10'!Z11+'Game 11'!Z11+'Game 12'!Z11+'Game 13'!Z11+'Game 14'!Z11+'Game 15'!Z11+'Game 16'!Z11 -> 0 | W27: =COUNTIF('Game 1'!$L$15,"*"&$A27&"*")+COUNTIF('Game 2'!$L$15,"*"&$A27&"*")+COUNTIF('Game 3'!$L$15,"*"&$A27&"*")+COUNTIF('Game 4'!$L$15,"*"&$A27&"*")+COUNTIF('Game 5'!$L$15,"*"&$A27&"*")+COUNTIF('Game 6'!$L$15,"*"&$A27&"*")+COUNTIF('Game 7'!$L$15,"*"&$A27&"*")+COUNTIF('Game 8'!$L$15,"*"&$A27&"*")+COUNTIF('Game 9'!$L$15,"*"&$A27&"*")+COUNTIF('Game 10'!$L$15,"*"&$A27&"*")+COUNTIF('Game 11'!$L$15,"*"&$A27&"*")+COUNTIF('Game 12'!$L$15,"*"&$A27&"*")+COUNTIF('Game 13'!$L$15,"*"&$A27&"*")+COUNTIF('Game 14'!$L$15,"*"&$A27&"*")+COUNTIF('Game 15'!$L$15,"*"&$A27&"*")+COUNTIF('Game 16'!$L$15,"*"&$A27&"*") -> 0
A28: =A12 -> Player 11 | B28: =COUNTIF('Game 1'!$B$12:$G$12,"*"&$A28&"*")+COUNTIF('Game 2'!$B$12:$G$12,"*"&$A28&"*")+COUNTIF('Game 3'!$B$12:$G$12,"*"&$A28&"*")+COUNTIF('Game 4'!$B$12:$G$12,"*"&$A28&"*")+COUNTIF('Game 5'!$B$12:$G$12,"*"&$A28&"*")+COUNTIF('Game 6'!$B$12:$G$12,"*"&$A28&"*")+COUNTIF('Game 7'!$B$12:$G$12,"*"&$A28&"*")+COUNTIF('Game 8'!$B$12:$G$12,"*"&$A28&"*")+COUNTIF('Game 9'!$B$12:$G$12,"*"&$A28&"*")+COUNTIF('Game 10'!$B$12:$G$12,"*"&$A28&"*")+COUNTIF('Game 11'!$B$12:$G$12,"*"&$A28&"*")+COUNTIF('Game 12'!$B$12:$G$12,"*"&$A28&"*")+COUNTIF('Game 13'!$B$12:$G$12,"*"&$A28&"*")+COUNTIF('Game 14'!$B$12:$G$12,"*"&$A28&"*")+COUNTIF('Game 15'!$B$12:$G$12,"*"&$A28&"*")+COUNTIF('Game 16'!$B$12:$G$12,"*"&$A28&"*") -> 0 | C28: =COUNTIF('Game 1'!$B$11:$G$11,"*"&$A28&"*")+COUNTIF('Game 2'!$B$11:$G$11,"*"&$A28&"*")+COUNTIF('Game 3'!$B$11:$G$11,"*"&$A28&"*")+COUNTIF('Game 4'!$B$11:$G$11,"*"&$A28&"*")+COUNTIF('Game 5'!$B$11:$G$11,"*"&$A28&"*")+COUNTIF('Game 6'!$B$11:$G$11,"*"&$A28&"*")+COUNTIF('Game 7'!$B$11:$G$11,"*"&$A28&"*")+COUNTIF('Game 8'!$B$11:$G$11,"*"&$A28&"*")+COUNTIF('Game 9'!$B$11:$G$11,"*"&$A28&"*")+COUNTIF('Game 10'!$B$11:$G$11,"*"&$A28&"*")+COUNTIF('Game 11'!$B$11:$G$11,"*"&$A28&"*")+COUNTIF('Game 12'!$B$11:$G$11,"*"&$A28&"*")+COUNTIF('Game 13'!$B$11:$G$11,"*"&$A28&"*")+COUNTIF('Game 14'!$B$11:$G$11,"*"&$A28&"*")+COUNTIF('Game 15'!$B$11:$G$11,"*"&$A28&"*")+COUNTIF('Game 16'!$B$11:$G$11,"*"&$A28&"*") -> 0 | D28: =COUNTIF('Game 1'!$B$10:$G$10,"*"&$A28&"*")+COUNTIF('Game 2'!$B$10:$G$10,"*"&$A28&"*")+COUNTIF('Game 3'!$B$10:$G$10,"*"&$A28&"*")+COUNTIF('Game 4'!$B$10:$G$10,"*"&$A28&"*")+COUNTIF('Game 5'!$B$10:$G$10,"*"&$A28&"*")+COUNTIF('Game 6'!$B$10:$G$10,"*"&$A28&"*")+COUNTIF('Game 7'!$B$10:$G$10,"*"&$A28&"*")+COUNTIF('Game 8'!$B$10:$G$10,"*"&$A28&"*")+COUNTIF('Game 9'!$B$10:$G$10,"*"&$A28&"*")+COUNTIF('Game 10'!$B$10:$G$10,"*"&$A28&"*")+COUNTIF('Game 11'!$B$10:$G$10,"*"&$A28&"*")+COUNTIF('Game 12'!$B$10:$G$10,"*"&$A28&"*")+COUNTIF('Game 13'!$B$10:$G$10,"*"&$A28&"*")+COUNTIF('Game 14'!$B$10:$G$10,"*"&$A28&"*")+COUNTIF('Game 15'!$B$10:$G$10,"*"&$A28&"*")+COUNTIF('Game 16'!$B$10:$G$10,"*"&$A28&"*") -> 0 | E28: =COUNTIF('Game 1'!$B$9:$G$9,"*"&$A28&"*")+COUNTIF('Game 2'!$B$9:$G$9,"*"&$A28&"*")+COUNTIF('Game 3'!$B$9:$G$9,"*"&$A28&"*")+COUNTIF('Game 4'!$B$9:$G$9,"*"&$A28&"*")+COUNTIF('Game 5'!$B$9:$G$9,"*"&$A28&"*")+COUNTIF('Game 6'!$B$9:$G$9,"*"&$A28&"*")+COUNTIF('Game 7'!$B$9:$G$9,"*"&$A28&"*")+COUNTIF('Game 8'!$B$9:$G$9,"*"&$A28&"*")+COUNTIF('Game 9'!$B$9:$G$9,"*"&$A28&"*")+COUNTIF('Game 10'!$B$9:$G$9,"*"&$A28&"*")+COUNTIF('Game 11'!$B$9:$G$9,"*"&$A28&"*")+COUNTIF('Game 12'!$B$9:$G$9,"*"&$A28&"*")+COUNTIF('Game 13'!$B$9:$G$9,"*"&$A28&"*")+COUNTIF('Game 14'!$B$9:$G$9,"*"&$A28&"*")+COUNTIF('Game 15'!$B$9:$G$9,"*"&$A28&"*")+COUNTIF('Game 16'!$B$9:$G$9,"*"&$A28&"*") -> 0 | F28: =COUNTIF('Game 1'!$B$8:$G$8,"*"&$A28&"*")+COUNTIF('Game 2'!$B$8:$G$8,"*"&$A28&"*")+COUNTIF('Game 3'!$B$8:$G$8,"*"&$A28&"*")+COUNTIF('Game 4'!$B$8:$G$8,"*"&$A28&"*")+COUNTIF('Game 5'!$B$8:$G$8,"*"&$A28&"*")+COUNTIF('Game 6'!$B$8:$G$8,"*"&$A28&"*")+COUNTIF('Game 7'!$B$8:$G$8,"*"&$A28&"*")+COUNTIF('Game 8'!$B$8:$G$8,"*"&$A28&"*")+COUNTIF('Game 9'!$B$8:$G$8,"*"&$A28&"*")+COUNTIF('Game 10'!$B$8:$G$8,"*"&$A28&"*")+COUNTIF('Game 11'!$B$8:$G$8,"*"&$A28&"*")+COUNTIF('Game 12'!$B$8:$G$8,"*"&$A28&"*")+COUNTIF('Game 13'!$B$8:$G$8,"*"&$A28&"*")+COUNTIF('Game 14'!$B$8:$G$8,"*"&$A28&"*")+COUNTIF('Game 15'!$B$8:$G$8,"*"&$A28&"*")+COUNTIF('Game 16'!$B$8:$G$8,"*"&$A28&"*") -> 0 | G28: =COUNTIF('Game 1'!$B$7:$G$7,"*"&$A28&"*")+COUNTIF('Game 2'!$B$7:$G$7,"*"&$A28&"*")+COUNTIF('Game 3'!$B$7:$G$7,"*"&$A28&"*")+COUNTIF('Game 4'!$B$7:$G$7,"*"&$A28&"*")+COUNTIF('Game 5'!$B$7:$G$7,"*"&$A28&"*")+COUNTIF('Game 6'!$B$7:$G$7,"*"&$A28&"*")+COUNTIF('Game 7'!$B$7:$G$7,"*"&$A28&"*")+COUNTIF('Game 8'!$B$7:$G$7,"*"&$A28&"*")+COUNTIF('Game 9'!$B$7:$G$7,"*"&$A28&"*")+COUNTIF('Game 10'!$B$7:$G$7,"*"&$A28&"*")+COUNTIF('Game 11'!$B$7:$G$7,"*"&$A28&"*")+COUNTIF('Game 12'!$B$7:$G$7,"*"&$A28&"*")+COUNTIF('Game 13'!$B$7:$G$7,"*"&$A28&"*")+COUNTIF('Game 14'!$B$7:$G$7,"*"&$A28&"*")+COUNTIF('Game 15'!$B$7:$G$7,"*"&$A28&"*")+COUNTIF('Game 16'!$B$7:$G$7,"*"&$A28&"*") -> 0 | H28: =COUNTIF('Game 1'!$B$4:$G$4,"*"&$A28&"*")+COUNTIF('Game 2'!$B$4:$G$4,"*"&$A28&"*")+COUNTIF('Game 3'!$B$4:$G$4,"*"&$A28&"*")+COUNTIF('Game 4'!$B$4:$G$4,"*"&$A28&"*")+COUNTIF('Game 5'!$B$4:$G$4,"*"&$A28&"*")+COUNTIF('Game 6'!$B$4:$G$4,"*"&$A28&"*")+COUNTIF('Game 7'!$B$4:$G$4,"*"&$A28&"*")+COUNTIF('Game 8'!$B$4:$G$4,"*"&$A28&"*")+COUNTIF('Game 9'!$B$4:$G$4,"*"&$A28&"*")+COUNTIF('Game 10'!$B$4:$G$4,"*"&$A28&"*")+COUNTIF('Game 11'!$B$4:$G$4,"*"&$A28&"*")+COUNTIF('Game 12'!$B$4:$G$4,"*"&$A28&"*")+COUNTIF('Game 13'!$B$4:$G$4,"*"&$A28&"*")+COUNTIF('Game 14'!$B$4:$G$4,"*"&$A28&"*")+COUNTIF('Game 15'!$B$4:$G$4,"*"&$A28&"*")+COUNTIF('Game 16'!$B$4:$G$4,"*"&$A28&"*") -> 0 | I28: =COUNTIF('Game 1'!$B$5:$G$5,"*"&$A28&"*")+COUNTIF('Game 2'!$B$5:$G$5,"*"&$A28&"*")+COUNTIF('Game 3'!$B$5:$G$5,"*"&$A28&"*")+COUNTIF('Game 4'!$B$5:$G$5,"*"&$A28&"*")+COUNTIF('Game 5'!$B$5:$G$5,"*"&$A28&"*")+COUNTIF('Game 6'!$B$5:$G$5,"*"&$A28&"*")+COUNTIF('Game 7'!$B$5:$G$5,"*"&$A28&"*")+COUNTIF('Game 8'!$B$5:$G$5,"*"&$A28&"*")+COUNTIF('Game 9'!$B$5:$G$5,"*"&$A28&"*")+COUNTIF('Game 10'!$B$5:$G$5,"*"&$A28&"*")+COUNTIF('Game 11'!$B$5:$G$5,"*"&$A28&"*")+COUNTIF('Game 12'!$B$5:$G$5,"*"&$A28&"*")+COUNTIF('Game 13'!$B$5:$G$5,"*"&$A28&"*")+COUNTIF('Game 14'!$B$5:$G$5,"*"&$A28&"*")+COUNTIF('Game 15'!$B$5:$G$5,"*"&$A28&"*")+COUNTIF('Game 16'!$B$5:$G$5,"*"&$A28&"*") -> 0 | J28: =COUNTIF('Game 1'!$B$6:$G$6,"*"&$A28&"*")+COUNTIF('Game 2'!$B$6:$G$6,"*"&$A28&"*")+COUNTIF('Game 3'!$B$6:$G$6,"*"&$A28&"*")+COUNTIF('Game 4'!$B$6:$G$6,"*"&$A28&"*")+COUNTIF('Game 5'!$B$6:$G$6,"*"&$A28&"*")+COUNTIF('Game 6'!$B$6:$G$6,"*"&$A28&"*")+COUNTIF('Game 7'!$B$6:$G$6,"*"&$A28&"*")+COUNTIF('Game 8'!$B$6:$G$6,"*"&$A28&"*")+COUNTIF('Game 9'!$B$6:$G$6,"*"&$A28&"*")+COUNTIF('Game 10'!$B$6:$G$6,"*"&$A28&"*")+COUNTIF('Game 11'!$B$6:$G$6,"*"&$A28&"*")+COUNTIF('Game 12'!$B$6:$G$6,"*"&$A28&"*")+COUNTIF('Game 13'!$B$6:$G$6,"*"&$A28&"*")+COUNTIF('Game 14'!$B$6:$G$6,"*"&$A28&"*")+COUNTIF('Game 15'!$B$6:$G$6,"*"&$A28&"*")+COUNTIF('Game 16'!$B$6:$G$6,"*"&$A28&"*") -> 0 | K28: =COUNTIF('Game 1'!$B$13:$G$13,"*"&$A28&"*")+COUNTIF('Game 1'!$B$14:$G$14,"*"&$A28&"*")+COUNTIF('Game 1'!$B$15:$G$15,"*"&$A28&"*")+COUNTIF('Game 1'!$B$16:$G$16,"*"&$A28&"*")+COUNTIF('Game 2'!$B$13:$G$13,"*"&$A28&"*")+COUNTIF('Game 2'!$B$14:$G$14,"*"&$A28&"*")+COUNTIF('Game 2'!$B$15:$G$15,"*"&$A28&"*")+COUNTIF('Game 2'!$B$16:$G$16,"*"&$A28&"*")+COUNTIF('Game 3'!$B$13:$G$13,"*"&$A28&"*")+COUNTIF('Game 3'!$B$14:$G$14,"*"&$A28&"*")+COUNTIF('Game 3'!$B$15:$G$15,"*"&$A28&"*")+COUNTIF('Game 3'!$B$16:$G$16,"*"&$A28&"*")+COUNTIF('Game 4'!$B$13:$G$13,"*"&$A28&"*")+COUNTIF('Game 4'!$B$14:$G$14,"*"&$A28&"*")+COUNTIF('Game 4'!$B$15:$G$15,"*"&$A28&"*")+COUNTIF('Game 4'!$B$16:$G$16,"*"&$A28&"*")+COUNTIF('Game 5'!$B$13:$G$13,"*"&$A28&"*")+COUNTIF('Game 5'!$B$14:$G$14,"*"&$A28&"*")+COUNTIF('Game 5'!$B$15:$G$15,"*"&$A28&"*")+COUNTIF('Game 5'!$B$16:$G$16,"*"&$A28&"*")+COUNTIF('Game 6'!$B$13:$G$13,"*"&$A28&"*")+COUNTIF('Game 6'!$B$14:$G$14,"*"&$A28&"*")+COUNTIF('Game 6'!$B$15:$G$15,"*"&$A28&"*")+COUNTIF('Game 6'!$B$16:$G$16,"*"&$A28&"*")+COUNTIF('Game 7'!$B$13:$G$13,"*"&$A28&"*")+COUNTIF('Game 7'!$B$14:$G$14,"*"&$A28&"*")+COUNTIF('Game 7'!$B$15:$G$15,"*"&$A28&"*")+COUNTIF('Game 7'!$B$16:$G$16,"*"&$A28&"*")+COUNTIF('Game 8'!$B$13:$G$13,"*"&$A28&"*")+COUNTIF('Game 8'!$B$14:$G$14,"*"&$A28&"*")+COUNTIF('Game 8'!$B$15:$G$15,"*"&$A28&"*")+COUNTIF('Game 8'!$B$16:$G$16,"*"&$A28&"*")+COUNTIF('Game 9'!$B$13:$G$13,"*"&$A28&"*")+COUNTIF('Game 9'!$B$14:$G$14,"*"&$A28&"*")+COUNTIF('Game 9'!$B$15:$G$15,"*"&$A28&"*")+COUNTIF('Game 9'!$B$16:$G$16,"*"&$A28&"*")+COUNTIF('Game 10'!$B$13:$G$13,"*"&$A28&"*")+COUNTIF('Game 10'!$B$14:$G$14,"*"&$A28&"*")+COUNTIF('Game 10'!$B$15:$G$15,"*"&$A28&"*")+COUNTIF('Game 10'!$B$16:$G$16,"*"&$A28&"*")+COUNTIF('Game 11'!$B$13:$G$13,"*"&$A28&"*")+COUNTIF('Game 11'!$B$14:$G$14,"*"&$A28&"*")+COUNTIF('Game 11'!$B$15:$G$15,"*"&$A28&"*")+COUNTIF('Game 11'!$B$16:$G$16,"*"&$A28&"*")+COUNTIF('Game 12'!$B$13:$G$13,"*"&$A28&"*")+COUNTIF('Game 12'!$B$14:$G$14,"*"&$A28&"*")+COUNTIF('Game 12'!$B$15:$G$15,"*"&$A28&"*")+COUNTIF('Game 12'!$B$16:$G$16,"*"&$A28&"*")+COUNTIF('Game 13'!$B$13:$G$13,"*"&$A28&"*")+COUNTIF('Game 13'!$B$14:$G$14,"*"&$A28&"*")+COUNTIF('Game 13'!$B$15:$G$15,"*"&$A28&"*")+COUNTIF('Game 13'!$B$16:$G$16,"*"&$A28&"*")+COUNTIF('Game 14'!$B$13:$G$13,"*"&$A28&"*")+COUNTIF('Game 14'!$B$14:$G$14,"*"&$A28&"*")+COUNTIF('Game 14'!$B$15:$G$15,"*"&$A28&"*")+COUNTIF('Game 14'!$B$16:$G$16,"*"&$A28&"*")+COUNTIF('Game 15'!$B$13:$G$13,"*"&$A28&"*")+COUNTIF('Game 15'!$B$14:$G$14,"*"&$A28&"*")+COUNTIF('Game 15'!$B$15:$G$15,"*"&$A28&"*")+COUNTIF('Game 15'!$B$16:$G$16,"*"&$A28&"*")+COUNTIF('Game 16'!$B$13:$G$13,"*"&$A28&"*")+COUNTIF('Game 16'!$B$14:$G$14,"*"&$A28&"*")+COUNTIF('Game 16'!$B$15:$G$15,"*"&$A28&"*")+COUNTIF('Game 16'!$B$16:$G$16,"*"&$A28&"*") -> 0 | L28: =A28 -> Player 11 | M28: =SUM(B28:G28) -> 0 | N28: =SUM(H28:J28) -> 0 | O28: =K28 -> 0 | P28: =SUM(M28:O28) -> 0 | Q28: =IF(P28=0,0,M28/P28) -> 0 | R28: =IF(P28=0,0,N28/P28) -> 0 | S28: =IF(P28=0,0,O28/P28) -> 0 | V28: ='Game 1'!Z12+'Game 2'!Z12+'Game 3'!Z12+'Game 4'!Z12+'Game 5'!Z12+'Game 6'!Z12+'Game 7'!Z12+'Game 8'!Z12+'Game 9'!Z12+'Game 10'!Z12+'Game 11'!Z12+'Game 12'!Z12+'Game 13'!Z12+'Game 14'!Z12+'Game 15'!Z12+'Game 16'!Z12 -> 0 | W28: =COUNTIF('Game 1'!$L$15,"*"&$A28&"*")+COUNTIF('Game 2'!$L$15,"*"&$A28&"*")+COUNTIF('Game 3'!$L$15,"*"&$A28&"*")+COUNTIF('Game 4'!$L$15,"*"&$A28&"*")+COUNTIF('Game 5'!$L$15,"*"&$A28&"*")+COUNTIF('Game 6'!$L$15,"*"&$A28&"*")+COUNTIF('Game 7'!$L$15,"*"&$A28&"*")+COUNTIF('Game 8'!$L$15,"*"&$A28&"*")+COUNTIF('Game 9'!$L$15,"*"&$A28&"*")+COUNTIF('Game 10'!$L$15,"*"&$A28&"*")+COUNTIF('Game 11'!$L$15,"*"&$A28&"*")+COUNTIF('Game 12'!$L$15,"*"&$A28&"*")+COUNTIF('Game 13'!$L$15,"*"&$A28&"*")+COUNTIF('Game 14'!$L$15,"*"&$A28&"*")+COUNTIF('Game 15'!$L$15,"*"&$A28&"*")+COUNTIF('Game 16'!$L$15,"*"&$A28&"*") -> 0
A29: =A13 -> Player 12 | B29: =COUNTIF('Game 1'!$B$12:$G$12,"*"&$A29&"*")+COUNTIF('Game 2'!$B$12:$G$12,"*"&$A29&"*")+COUNTIF('Game 3'!$B$12:$G$12,"*"&$A29&"*")+COUNTIF('Game 4'!$B$12:$G$12,"*"&$A29&"*")+COUNTIF('Game 5'!$B$12:$G$12,"*"&$A29&"*")+COUNTIF('Game 6'!$B$12:$G$12,"*"&$A29&"*")+COUNTIF('Game 7'!$B$12:$G$12,"*"&$A29&"*")+COUNTIF('Game 8'!$B$12:$G$12,"*"&$A29&"*")+COUNTIF('Game 9'!$B$12:$G$12,"*"&$A29&"*")+COUNTIF('Game 10'!$B$12:$G$12,"*"&$A29&"*")+COUNTIF('Game 11'!$B$12:$G$12,"*"&$A29&"*")+COUNTIF('Game 12'!$B$12:$G$12,"*"&$A29&"*")+COUNTIF('Game 13'!$B$12:$G$12,"*"&$A29&"*")+COUNTIF('Game 14'!$B$12:$G$12,"*"&$A29&"*")+COUNTIF('Game 15'!$B$12:$G$12,"*"&$A29&"*")+COUNTIF('Game 16'!$B$12:$G$12,"*"&$A29&"*") -> 0 | C29: =COUNTIF('Game 1'!$B$11:$G$11,"*"&$A29&"*")+COUNTIF('Game 2'!$B$11:$G$11,"*"&$A29&"*")+COUNTIF('Game 3'!$B$11:$G$11,"*"&$A29&"*")+COUNTIF('Game 4'!$B$11:$G$11,"*"&$A29&"*")+COUNTIF('Game 5'!$B$11:$G$11,"*"&$A29&"*")+COUNTIF('Game 6'!$B$11:$G$11,"*"&$A29&"*")+COUNTIF('Game 7'!$B$11:$G$11,"*"&$A29&"*")+COUNTIF('Game 8'!$B$11:$G$11,"*"&$A29&"*")+COUNTIF('Game 9'!$B$11:$G$11,"*"&$A29&"*")+COUNTIF('Game 10'!$B$11:$G$11,"*"&$A29&"*")+COUNTIF('Game 11'!$B$11:$G$11,"*"&$A29&"*")+COUNTIF('Game 12'!$B$11:$G$11,"*"&$A29&"*")+COUNTIF('Game 13'!$B$11:$G$11,"*"&$A29&"*")+COUNTIF('Game 14'!$B$11:$G$11,"*"&$A29&"*")+COUNTIF('Game 15'!$B$11:$G$11,"*"&$A29&"*")+COUNTIF('Game 16'!$B$11:$G$11,"*"&$A29&"*") -> 0 | D29: =COUNTIF('Game 1'!$B$10:$G$10,"*"&$A29&"*")+COUNTIF('Game 2'!$B$10:$G$10,"*"&$A29&"*")+COUNTIF('Game 3'!$B$10:$G$10,"*"&$A29&"*")+COUNTIF('Game 4'!$B$10:$G$10,"*"&$A29&"*")+COUNTIF('Game 5'!$B$10:$G$10,"*"&$A29&"*")+COUNTIF('Game 6'!$B$10:$G$10,"*"&$A29&"*")+COUNTIF('Game 7'!$B$10:$G$10,"*"&$A29&"*")+COUNTIF('Game 8'!$B$10:$G$10,"*"&$A29&"*")+COUNTIF('Game 9'!$B$10:$G$10,"*"&$A29&"*")+COUNTIF('Game 10'!$B$10:$G$10,"*"&$A29&"*")+COUNTIF('Game 11'!$B$10:$G$10,"*"&$A29&"*")+COUNTIF('Game 12'!$B$10:$G$10,"*"&$A29&"*")+COUNTIF('Game 13'!$B$10:$G$10,"*"&$A29&"*")+COUNTIF('Game 14'!$B$10:$G$10,"*"&$A29&"*")+COUNTIF('Game 15'!$B$10:$G$10,"*"&$A29&"*")+COUNTIF('Game 16'!$B$10:$G$10,"*"&$A29&"*") -> 0 | E29: =COUNTIF('Game 1'!$B$9:$G$9,"*"&$A29&"*")+COUNTIF('Game 2'!$B$9:$G$9,"*"&$A29&"*")+COUNTIF('Game 3'!$B$9:$G$9,"*"&$A29&"*")+COUNTIF('Game 4'!$B$9:$G$9,"*"&$A29&"*")+COUNTIF('Game 5'!$B$9:$G$9,"*"&$A29&"*")+COUNTIF('Game 6'!$B$9:$G$9,"*"&$A29&"*")+COUNTIF('Game 7'!$B$9:$G$9,"*"&$A29&"*")+COUNTIF('Game 8'!$B$9:$G$9,"*"&$A29&"*")+COUNTIF('Game 9'!$B$9:$G$9,"*"&$A29&"*")+COUNTIF('Game 10'!$B$9:$G$9,"*"&$A29&"*")+COUNTIF('Game 11'!$B$9:$G$9,"*"&$A29&"*")+COUNTIF('Game 12'!$B$9:$G$9,"*"&$A29&"*")+COUNTIF('Game 13'!$B$9:$G$9,"*"&$A29&"*")+COUNTIF('Game 14'!$B$9:$G$9,"*"&$A29&"*")+COUNTIF('Game 15'!$B$9:$G$9,"*"&$A29&"*")+COUNTIF('Game 16'!$B$9:$G$9,"*"&$A29&"*") -> 0 | F29: =COUNTIF('Game 1'!$B$8:$G$8,"*"&$A29&"*")+COUNTIF('Game 2'!$B$8:$G$8,"*"&$A29&"*")+COUNTIF('Game 3'!$B$8:$G$8,"*"&$A29&"*")+COUNTIF('Game 4'!$B$8:$G$8,"*"&$A29&"*")+COUNTIF('Game 5'!$B$8:$G$8,"*"&$A29&"*")+COUNTIF('Game 6'!$B$8:$G$8,"*"&$A29&"*")+COUNTIF('Game 7'!$B$8:$G$8,"*"&$A29&"*")+COUNTIF('Game 8'!$B$8:$G$8,"*"&$A29&"*")+COUNTIF('Game 9'!$B$8:$G$8,"*"&$A29&"*")+COUNTIF('Game 10'!$B$8:$G$8,"*"&$A29&"*")+COUNTIF('Game 11'!$B$8:$G$8,"*"&$A29&"*")+COUNTIF('Game 12'!$B$8:$G$8,"*"&$A29&"*")+COUNTIF('Game 13'!$B$8:$G$8,"*"&$A29&"*")+COUNTIF('Game 14'!$B$8:$G$8,"*"&$A29&"*")+COUNTIF('Game 15'!$B$8:$G$8,"*"&$A29&"*")+COUNTIF('Game 16'!$B$8:$G$8,"*"&$A29&"*") -> 0 | G29: =COUNTIF('Game 1'!$B$7:$G$7,"*"&$A29&"*")+COUNTIF('Game 2'!$B$7:$G$7,"*"&$A29&"*")+COUNTIF('Game 3'!$B$7:$G$7,"*"&$A29&"*")+COUNTIF('Game 4'!$B$7:$G$7,"*"&$A29&"*")+COUNTIF('Game 5'!$B$7:$G$7,"*"&$A29&"*")+COUNTIF('Game 6'!$B$7:$G$7,"*"&$A29&"*")+COUNTIF('Game 7'!$B$7:$G$7,"*"&$A29&"*")+COUNTIF('Game 8'!$B$7:$G$7,"*"&$A29&"*")+COUNTIF('Game 9'!$B$7:$G$7,"*"&$A29&"*")+COUNTIF('Game 10'!$B$7:$G$7,"*"&$A29&"*")+COUNTIF('Game 11'!$B$7:$G$7,"*"&$A29&"*")+COUNTIF('Game 12'!$B$7:$G$7,"*"&$A29&"*")+COUNTIF('Game 13'!$B$7:$G$7,"*"&$A29&"*")+COUNTIF('Game 14'!$B$7:$G$7,"*"&$A29&"*")+COUNTIF('Game 15'!$B$7:$G$7,"*"&$A29&"*")+COUNTIF('Game 16'!$B$7:$G$7,"*"&$A29&"*") -> 0 | H29: =COUNTIF('Game 1'!$B$4:$G$4,"*"&$A29&"*")+COUNTIF('Game 2'!$B$4:$G$4,"*"&$A29&"*")+COUNTIF('Game 3'!$B$4:$G$4,"*"&$A29&"*")+COUNTIF('Game 4'!$B$4:$G$4,"*"&$A29&"*")+COUNTIF('Game 5'!$B$4:$G$4,"*"&$A29&"*")+COUNTIF('Game 6'!$B$4:$G$4,"*"&$A29&"*")+COUNTIF('Game 7'!$B$4:$G$4,"*"&$A29&"*")+COUNTIF('Game 8'!$B$4:$G$4,"*"&$A29&"*")+COUNTIF('Game 9'!$B$4:$G$4,"*"&$A29&"*")+COUNTIF('Game 10'!$B$4:$G$4,"*"&$A29&"*")+COUNTIF('Game 11'!$B$4:$G$4,"*"&$A29&"*")+COUNTIF('Game 12'!$B$4:$G$4,"*"&$A29&"*")+COUNTIF('Game 13'!$B$4:$G$4,"*"&$A29&"*")+COUNTIF('Game 14'!$B$4:$G$4,"*"&$A29&"*")+COUNTIF('Game 15'!$B$4:$G$4,"*"&$A29&"*")+COUNTIF('Game 16'!$B$4:$G$4,"*"&$A29&"*") -> 0 | I29: =COUNTIF('Game 1'!$B$5:$G$5,"*"&$A29&"*")+COUNTIF('Game 2'!$B$5:$G$5,"*"&$A29&"*")+COUNTIF('Game 3'!$B$5:$G$5,"*"&$A29&"*")+COUNTIF('Game 4'!$B$5:$G$5,"*"&$A29&"*")+COUNTIF('Game 5'!$B$5:$G$5,"*"&$A29&"*")+COUNTIF('Game 6'!$B$5:$G$5,"*"&$A29&"*")+COUNTIF('Game 7'!$B$5:$G$5,"*"&$A29&"*")+COUNTIF('Game 8'!$B$5:$G$5,"*"&$A29&"*")+COUNTIF('Game 9'!$B$5:$G$5,"*"&$A29&"*")+COUNTIF('Game 10'!$B$5:$G$5,"*"&$A29&"*")+COUNTIF('Game 11'!$B$5:$G$5,"*"&$A29&"*")+COUNTIF('Game 12'!$B$5:$G$5,"*"&$A29&"*")+COUNTIF('Game 13'!$B$5:$G$5,"*"&$A29&"*")+COUNTIF('Game 14'!$B$5:$G$5,"*"&$A29&"*")+COUNTIF('Game 15'!$B$5:$G$5,"*"&$A29&"*")+COUNTIF('Game 16'!$B$5:$G$5,"*"&$A29&"*") -> 0 | J29: =COUNTIF('Game 1'!$B$6:$G$6,"*"&$A29&"*")+COUNTIF('Game 2'!$B$6:$G$6,"*"&$A29&"*")+COUNTIF('Game 3'!$B$6:$G$6,"*"&$A29&"*")+COUNTIF('Game 4'!$B$6:$G$6,"*"&$A29&"*")+COUNTIF('Game 5'!$B$6:$G$6,"*"&$A29&"*")+COUNTIF('Game 6'!$B$6:$G$6,"*"&$A29&"*")+COUNTIF('Game 7'!$B$6:$G$6,"*"&$A29&"*")+COUNTIF('Game 8'!$B$6:$G$6,"*"&$A29&"*")+COUNTIF('Game 9'!$B$6:$G$6,"*"&$A29&"*")+COUNTIF('Game 10'!$B$6:$G$6,"*"&$A29&"*")+COUNTIF('Game 11'!$B$6:$G$6,"*"&$A29&"*")+COUNTIF('Game 12'!$B$6:$G$6,"*"&$A29&"*")+COUNTIF('Game 13'!$B$6:$G$6,"*"&$A29&"*")+COUNTIF('Game 14'!$B$6:$G$6,"*"&$A29&"*")+COUNTIF('Game 15'!$B$6:$G$6,"*"&$A29&"*")+COUNTIF('Game 16'!$B$6:$G$6,"*"&$A29&"*") -> 0 | K29: =COUNTIF('Game 1'!$B$13:$G$13,"*"&$A29&"*")+COUNTIF('Game 1'!$B$14:$G$14,"*"&$A29&"*")+COUNTIF('Game 1'!$B$15:$G$15,"*"&$A29&"*")+COUNTIF('Game 1'!$B$16:$G$16,"*"&$A29&"*")+COUNTIF('Game 2'!$B$13:$G$13,"*"&$A29&"*")+COUNTIF('Game 2'!$B$14:$G$14,"*"&$A29&"*")+COUNTIF('Game 2'!$B$15:$G$15,"*"&$A29&"*")+COUNTIF('Game 2'!$B$16:$G$16,"*"&$A29&"*")+COUNTIF('Game 3'!$B$13:$G$13,"*"&$A29&"*")+COUNTIF('Game 3'!$B$14:$G$14,"*"&$A29&"*")+COUNTIF('Game 3'!$B$15:$G$15,"*"&$A29&"*")+COUNTIF('Game 3'!$B$16:$G$16,"*"&$A29&"*")+COUNTIF('Game 4'!$B$13:$G$13,"*"&$A29&"*")+COUNTIF('Game 4'!$B$14:$G$14,"*"&$A29&"*")+COUNTIF('Game 4'!$B$15:$G$15,"*"&$A29&"*")+COUNTIF('Game 4'!$B$16:$G$16,"*"&$A29&"*")+COUNTIF('Game 5'!$B$13:$G$13,"*"&$A29&"*")+COUNTIF('Game 5'!$B$14:$G$14,"*"&$A29&"*")+COUNTIF('Game 5'!$B$15:$G$15,"*"&$A29&"*")+COUNTIF('Game 5'!$B$16:$G$16,"*"&$A29&"*")+COUNTIF('Game 6'!$B$13:$G$13,"*"&$A29&"*")+COUNTIF('Game 6'!$B$14:$G$14,"*"&$A29&"*")+COUNTIF('Game 6'!$B$15:$G$15,"*"&$A29&"*")+COUNTIF('Game 6'!$B$16:$G$16,"*"&$A29&"*")+COUNTIF('Game 7'!$B$13:$G$13,"*"&$A29&"*")+COUNTIF('Game 7'!$B$14:$G$14,"*"&$A29&"*")+COUNTIF('Game 7'!$B$15:$G$15,"*"&$A29&"*")+COUNTIF('Game 7'!$B$16:$G$16,"*"&$A29&"*")+COUNTIF('Game 8'!$B$13:$G$13,"*"&$A29&"*")+COUNTIF('Game 8'!$B$14:$G$14,"*"&$A29&"*")+COUNTIF('Game 8'!$B$15:$G$15,"*"&$A29&"*")+COUNTIF('Game 8'!$B$16:$G$16,"*"&$A29&"*")+COUNTIF('Game 9'!$B$13:$G$13,"*"&$A29&"*")+COUNTIF('Game 9'!$B$14:$G$14,"*"&$A29&"*")+COUNTIF('Game 9'!$B$15:$G$15,"*"&$A29&"*")+COUNTIF('Game 9'!$B$16:$G$16,"*"&$A29&"*")+COUNTIF('Game 10'!$B$13:$G$13,"*"&$A29&"*")+COUNTIF('Game 10'!$B$14:$G$14,"*"&$A29&"*")+COUNTIF('Game 10'!$B$15:$G$15,"*"&$A29&"*")+COUNTIF('Game 10'!$B$16:$G$16,"*"&$A29&"*")+COUNTIF('Game 11'!$B$13:$G$13,"*"&$A29&"*")+COUNTIF('Game 11'!$B$14:$G$14,"*"&$A29&"*")+COUNTIF('Game 11'!$B$15:$G$15,"*"&$A29&"*")+COUNTIF('Game 11'!$B$16:$G$16,"*"&$A29&"*")+COUNTIF('Game 12'!$B$13:$G$13,"*"&$A29&"*")+COUNTIF('Game 12'!$B$14:$G$14,"*"&$A29&"*")+COUNTIF('Game 12'!$B$15:$G$15,"*"&$A29&"*")+COUNTIF('Game 12'!$B$16:$G$16,"*"&$A29&"*")+COUNTIF('Game 13'!$B$13:$G$13,"*"&$A29&"*")+COUNTIF('Game 13'!$B$14:$G$14,"*"&$A29&"*")+COUNTIF('Game 13'!$B$15:$G$15,"*"&$A29&"*")+COUNTIF('Game 13'!$B$16:$G$16,"*"&$A29&"*")+COUNTIF('Game 14'!$B$13:$G$13,"*"&$A29&"*")+COUNTIF('Game 14'!$B$14:$G$14,"*"&$A29&"*")+COUNTIF('Game 14'!$B$15:$G$15,"*"&$A29&"*")+COUNTIF('Game 14'!$B$16:$G$16,"*"&$A29&"*")+COUNTIF('Game 15'!$B$13:$G$13,"*"&$A29&"*")+COUNTIF('Game 15'!$B$14:$G$14,"*"&$A29&"*")+COUNTIF('Game 15'!$B$15:$G$15,"*"&$A29&"*")+COUNTIF('Game 15'!$B$16:$G$16,"*"&$A29&"*")+COUNTIF('Game 16'!$B$13:$G$13,"*"&$A29&"*")+COUNTIF('Game 16'!$B$14:$G$14,"*"&$A29&"*")+COUNTIF('Game 16'!$B$15:$G$15,"*"&$A29&"*")+COUNTIF('Game 16'!$B$16:$G$16,"*"&$A29&"*") -> 0 | L29: =A29 -> Player 12 | M29: =SUM(B29:G29) -> 0 | N29: =SUM(H29:J29) -> 0 | O29: =K29 -> 0 | P29: =SUM(M29:O29) -> 0 | Q29: =IF(P29=0,0,M29/P29) -> 0 | R29: =IF(P29=0,0,N29/P29) -> 0 | S29: =IF(P29=0,0,O29/P29) -> 0 | V29: ='Game 1'!Z13+'Game 2'!Z13+'Game 3'!Z13+'Game 4'!Z13+'Game 5'!Z13+'Game 6'!Z13+'Game 7'!Z13+'Game 8'!Z13+'Game 9'!Z13+'Game 10'!Z13+'Game 11'!Z13+'Game 12'!Z13+'Game 13'!Z13+'Game 14'!Z13+'Game 15'!Z13+'Game 16'!Z13 -> 0 | W29: =COUNTIF('Game 1'!$L$15,"*"&$A29&"*")+COUNTIF('Game 2'!$L$15,"*"&$A29&"*")+COUNTIF('Game 3'!$L$15,"*"&$A29&"*")+COUNTIF('Game 4'!$L$15,"*"&$A29&"*")+COUNTIF('Game 5'!$L$15,"*"&$A29&"*")+COUNTIF('Game 6'!$L$15,"*"&$A29&"*")+COUNTIF('Game 7'!$L$15,"*"&$A29&"*")+COUNTIF('Game 8'!$L$15,"*"&$A29&"*")+COUNTIF('Game 9'!$L$15,"*"&$A29&"*")+COUNTIF('Game 10'!$L$15,"*"&$A29&"*")+COUNTIF('Game 11'!$L$15,"*"&$A29&"*")+COUNTIF('Game 12'!$L$15,"*"&$A29&"*")+COUNTIF('Game 13'!$L$15,"*"&$A29&"*")+COUNTIF('Game 14'!$L$15,"*"&$A29&"*")+COUNTIF('Game 15'!$L$15,"*"&$A29&"*")+COUNTIF('Game 16'!$L$15,"*"&$A29&"*") -> 0
A30: =A14 -> Player 13 | B30: =COUNTIF('Game 1'!$B$12:$G$12,"*"&$A30&"*")+COUNTIF('Game 2'!$B$12:$G$12,"*"&$A30&"*")+COUNTIF('Game 3'!$B$12:$G$12,"*"&$A30&"*")+COUNTIF('Game 4'!$B$12:$G$12,"*"&$A30&"*")+COUNTIF('Game 5'!$B$12:$G$12,"*"&$A30&"*")+COUNTIF('Game 6'!$B$12:$G$12,"*"&$A30&"*")+COUNTIF('Game 7'!$B$12:$G$12,"*"&$A30&"*")+COUNTIF('Game 8'!$B$12:$G$12,"*"&$A30&"*")+COUNTIF('Game 9'!$B$12:$G$12,"*"&$A30&"*")+COUNTIF('Game 10'!$B$12:$G$12,"*"&$A30&"*")+COUNTIF('Game 11'!$B$12:$G$12,"*"&$A30&"*")+COUNTIF('Game 12'!$B$12:$G$12,"*"&$A30&"*")+COUNTIF('Game 13'!$B$12:$G$12,"*"&$A30&"*")+COUNTIF('Game 14'!$B$12:$G$12,"*"&$A30&"*")+COUNTIF('Game 15'!$B$12:$G$12,"*"&$A30&"*")+COUNTIF('Game 16'!$B$12:$G$12,"*"&$A30&"*") -> 0 | C30: =COUNTIF('Game 1'!$B$11:$G$11,"*"&$A30&"*")+COUNTIF('Game 2'!$B$11:$G$11,"*"&$A30&"*")+COUNTIF('Game 3'!$B$11:$G$11,"*"&$A30&"*")+COUNTIF('Game 4'!$B$11:$G$11,"*"&$A30&"*")+COUNTIF('Game 5'!$B$11:$G$11,"*"&$A30&"*")+COUNTIF('Game 6'!$B$11:$G$11,"*"&$A30&"*")+COUNTIF('Game 7'!$B$11:$G$11,"*"&$A30&"*")+COUNTIF('Game 8'!$B$11:$G$11,"*"&$A30&"*")+COUNTIF('Game 9'!$B$11:$G$11,"*"&$A30&"*")+COUNTIF('Game 10'!$B$11:$G$11,"*"&$A30&"*")+COUNTIF('Game 11'!$B$11:$G$11,"*"&$A30&"*")+COUNTIF('Game 12'!$B$11:$G$11,"*"&$A30&"*")+COUNTIF('Game 13'!$B$11:$G$11,"*"&$A30&"*")+COUNTIF('Game 14'!$B$11:$G$11,"*"&$A30&"*")+COUNTIF('Game 15'!$B$11:$G$11,"*"&$A30&"*")+COUNTIF('Game 16'!$B$11:$G$11,"*"&$A30&"*") -> 0 | D30: =COUNTIF('Game 1'!$B$10:$G$10,"*"&$A30&"*")+COUNTIF('Game 2'!$B$10:$G$10,"*"&$A30&"*")+COUNTIF('Game 3'!$B$10:$G$10,"*"&$A30&"*")+COUNTIF('Game 4'!$B$10:$G$10,"*"&$A30&"*")+COUNTIF('Game 5'!$B$10:$G$10,"*"&$A30&"*")+COUNTIF('Game 6'!$B$10:$G$10,"*"&$A30&"*")+COUNTIF('Game 7'!$B$10:$G$10,"*"&$A30&"*")+COUNTIF('Game 8'!$B$10:$G$10,"*"&$A30&"*")+COUNTIF('Game 9'!$B$10:$G$10,"*"&$A30&"*")+COUNTIF('Game 10'!$B$10:$G$10,"*"&$A30&"*")+COUNTIF('Game 11'!$B$10:$G$10,"*"&$A30&"*")+COUNTIF('Game 12'!$B$10:$G$10,"*"&$A30&"*")+COUNTIF('Game 13'!$B$10:$G$10,"*"&$A30&"*")+COUNTIF('Game 14'!$B$10:$G$10,"*"&$A30&"*")+COUNTIF('Game 15'!$B$10:$G$10,"*"&$A30&"*")+COUNTIF('Game 16'!$B$10:$G$10,"*"&$A30&"*") -> 0 | E30: =COUNTIF('Game 1'!$B$9:$G$9,"*"&$A30&"*")+COUNTIF('Game 2'!$B$9:$G$9,"*"&$A30&"*")+COUNTIF('Game 3'!$B$9:$G$9,"*"&$A30&"*")+COUNTIF('Game 4'!$B$9:$G$9,"*"&$A30&"*")+COUNTIF('Game 5'!$B$9:$G$9,"*"&$A30&"*")+COUNTIF('Game 6'!$B$9:$G$9,"*"&$A30&"*")+COUNTIF('Game 7'!$B$9:$G$9,"*"&$A30&"*")+COUNTIF('Game 8'!$B$9:$G$9,"*"&$A30&"*")+COUNTIF('Game 9'!$B$9:$G$9,"*"&$A30&"*")+COUNTIF('Game 10'!$B$9:$G$9,"*"&$A30&"*")+COUNTIF('Game 11'!$B$9:$G$9,"*"&$A30&"*")+COUNTIF('Game 12'!$B$9:$G$9,"*"&$A30&"*")+COUNTIF('Game 13'!$B$9:$G$9,"*"&$A30&"*")+COUNTIF('Game 14'!$B$9:$G$9,"*"&$A30&"*")+COUNTIF('Game 15'!$B$9:$G$9,"*"&$A30&"*")+COUNTIF('Game 16'!$B$9:$G$9,"*"&$A30&"*") -> 0 | F30: =COUNTIF('Game 1'!$B$8:$G$8,"*"&$A30&"*")+COUNTIF('Game 2'!$B$8:$G$8,"*"&$A30&"*")+COUNTIF('Game 3'!$B$8:$G$8,"*"&$A30&"*")+COUNTIF('Game 4'!$B$8:$G$8,"*"&$A30&"*")+COUNTIF('Game 5'!$B$8:$G$8,"*"&$A30&"*")+COUNTIF('Game 6'!$B$8:$G$8,"*"&$A30&"*")+COUNTIF('Game 7'!$B$8:$G$8,"*"&$A30&"*")+COUNTIF('Game 8'!$B$8:$G$8,"*"&$A30&"*")+COUNTIF('Game 9'!$B$8:$G$8,"*"&$A30&"*")+COUNTIF('Game 10'!$B$8:$G$8,"*"&$A30&"*")+COUNTIF('Game 11'!$B$8:$G$8,"*"&$A30&"*")+COUNTIF('Game 12'!$B$8:$G$8,"*"&$A30&"*")+COUNTIF('Game 13'!$B$8:$G$8,"*"&$A30&"*")+COUNTIF('Game 14'!$B$8:$G$8,"*"&$A30&"*")+COUNTIF('Game 15'!$B$8:$G$8,"*"&$A30&"*")+COUNTIF('Game 16'!$B$8:$G$8,"*"&$A30&"*") -> 0 | G30: =COUNTIF('Game 1'!$B$7:$G$7,"*"&$A30&"*")+COUNTIF('Game 2'!$B$7:$G$7,"*"&$A30&"*")+COUNTIF('Game 3'!$B$7:$G$7,"*"&$A30&"*")+COUNTIF('Game 4'!$B$7:$G$7,"*"&$A30&"*")+COUNTIF('Game 5'!$B$7:$G$7,"*"&$A30&"*")+COUNTIF('Game 6'!$B$7:$G$7,"*"&$A30&"*")+COUNTIF('Game 7'!$B$7:$G$7,"*"&$A30&"*")+COUNTIF('Game 8'!$B$7:$G$7,"*"&$A30&"*")+COUNTIF('Game 9'!$B$7:$G$7,"*"&$A30&"*")+COUNTIF('Game 10'!$B$7:$G$7,"*"&$A30&"*")+COUNTIF('Game 11'!$B$7:$G$7,"*"&$A30&"*")+COUNTIF('Game 12'!$B$7:$G$7,"*"&$A30&"*")+COUNTIF('Game 13'!$B$7:$G$7,"*"&$A30&"*")+COUNTIF('Game 14'!$B$7:$G$7,"*"&$A30&"*")+COUNTIF('Game 15'!$B$7:$G$7,"*"&$A30&"*")+COUNTIF('Game 16'!$B$7:$G$7,"*"&$A30&"*") -> 0 | H30: =COUNTIF('Game 1'!$B$4:$G$4,"*"&$A30&"*")+COUNTIF('Game 2'!$B$4:$G$4,"*"&$A30&"*")+COUNTIF('Game 3'!$B$4:$G$4,"*"&$A30&"*")+COUNTIF('Game 4'!$B$4:$G$4,"*"&$A30&"*")+COUNTIF('Game 5'!$B$4:$G$4,"*"&$A30&"*")+COUNTIF('Game 6'!$B$4:$G$4,"*"&$A30&"*")+COUNTIF('Game 7'!$B$4:$G$4,"*"&$A30&"*")+COUNTIF('Game 8'!$B$4:$G$4,"*"&$A30&"*")+COUNTIF('Game 9'!$B$4:$G$4,"*"&$A30&"*")+COUNTIF('Game 10'!$B$4:$G$4,"*"&$A30&"*")+COUNTIF('Game 11'!$B$4:$G$4,"*"&$A30&"*")+COUNTIF('Game 12'!$B$4:$G$4,"*"&$A30&"*")+COUNTIF('Game 13'!$B$4:$G$4,"*"&$A30&"*")+COUNTIF('Game 14'!$B$4:$G$4,"*"&$A30&"*")+COUNTIF('Game 15'!$B$4:$G$4,"*"&$A30&"*")+COUNTIF('Game 16'!$B$4:$G$4,"*"&$A30&"*") -> 0 | I30: =COUNTIF('Game 1'!$B$5:$G$5,"*"&$A30&"*")+COUNTIF('Game 2'!$B$5:$G$5,"*"&$A30&"*")+COUNTIF('Game 3'!$B$5:$G$5,"*"&$A30&"*")+COUNTIF('Game 4'!$B$5:$G$5,"*"&$A30&"*")+COUNTIF('Game 5'!$B$5:$G$5,"*"&$A30&"*")+COUNTIF('Game 6'!$B$5:$G$5,"*"&$A30&"*")+COUNTIF('Game 7'!$B$5:$G$5,"*"&$A30&"*")+COUNTIF('Game 8'!$B$5:$G$5,"*"&$A30&"*")+COUNTIF('Game 9'!$B$5:$G$5,"*"&$A30&"*")+COUNTIF('Game 10'!$B$5:$G$5,"*"&$A30&"*")+COUNTIF('Game 11'!$B$5:$G$5,"*"&$A30&"*")+COUNTIF('Game 12'!$B$5:$G$5,"*"&$A30&"*")+COUNTIF('Game 13'!$B$5:$G$5,"*"&$A30&"*")+COUNTIF('Game 14'!$B$5:$G$5,"*"&$A30&"*")+COUNTIF('Game 15'!$B$5:$G$5,"*"&$A30&"*")+COUNTIF('Game 16'!$B$5:$G$5,"*"&$A30&"*") -> 0 | J30: =COUNTIF('Game 1'!$B$6:$G$6,"*"&$A30&"*")+COUNTIF('Game 2'!$B$6:$G$6,"*"&$A30&"*")+COUNTIF('Game 3'!$B$6:$G$6,"*"&$A30&"*")+COUNTIF('Game 4'!$B$6:$G$6,"*"&$A30&"*")+COUNTIF('Game 5'!$B$6:$G$6,"*"&$A30&"*")+COUNTIF('Game 6'!$B$6:$G$6,"*"&$A30&"*")+COUNTIF('Game 7'!$B$6:$G$6,"*"&$A30&"*")+COUNTIF('Game 8'!$B$6:$G$6,"*"&$A30&"*")+COUNTIF('Game 9'!$B$6:$G$6,"*"&$A30&"*")+COUNTIF('Game 10'!$B$6:$G$6,"*"&$A30&"*")+COUNTIF('Game 11'!$B$6:$G$6,"*"&$A30&"*")+COUNTIF('Game 12'!$B$6:$G$6,"*"&$A30&"*")+COUNTIF('Game 13'!$B$6:$G$6,"*"&$A30&"*")+COUNTIF('Game 14'!$B$6:$G$6,"*"&$A30&"*")+COUNTIF('Game 15'!$B$6:$G$6,"*"&$A30&"*")+COUNTIF('Game 16'!$B$6:$G$6,"*"&$A30&"*") -> 0 | K30: =COUNTIF('Game 1'!$B$13:$G$13,"*"&$A30&"*")+COUNTIF('Game 1'!$B$14:$G$14,"*"&$A30&"*")+COUNTIF('Game 1'!$B$15:$G$15,"*"&$A30&"*")+COUNTIF('Game 1'!$B$16:$G$16,"*"&$A30&"*")+COUNTIF('Game 2'!$B$13:$G$13,"*"&$A30&"*")+COUNTIF('Game 2'!$B$14:$G$14,"*"&$A30&"*")+COUNTIF('Game 2'!$B$15:$G$15,"*"&$A30&"*")+COUNTIF('Game 2'!$B$16:$G$16,"*"&$A30&"*")+COUNTIF('Game 3'!$B$13:$G$13,"*"&$A30&"*")+COUNTIF('Game 3'!$B$14:$G$14,"*"&$A30&"*")+COUNTIF('Game 3'!$B$15:$G$15,"*"&$A30&"*")+COUNTIF('Game 3'!$B$16:$G$16,"*"&$A30&"*")+COUNTIF('Game 4'!$B$13:$G$13,"*"&$A30&"*")+COUNTIF('Game 4'!$B$14:$G$14,"*"&$A30&"*")+COUNTIF('Game 4'!$B$15:$G$15,"*"&$A30&"*")+COUNTIF('Game 4'!$B$16:$G$16,"*"&$A30&"*")+COUNTIF('Game 5'!$B$13:$G$13,"*"&$A30&"*")+COUNTIF('Game 5'!$B$14:$G$14,"*"&$A30&"*")+COUNTIF('Game 5'!$B$15:$G$15,"*"&$A30&"*")+COUNTIF('Game 5'!$B$16:$G$16,"*"&$A30&"*")+COUNTIF('Game 6'!$B$13:$G$13,"*"&$A30&"*")+COUNTIF('Game 6'!$B$14:$G$14,"*"&$A30&"*")+COUNTIF('Game 6'!$B$15:$G$15,"*"&$A30&"*")+COUNTIF('Game 6'!$B$16:$G$16,"*"&$A30&"*")+COUNTIF('Game 7'!$B$13:$G$13,"*"&$A30&"*")+COUNTIF('Game 7'!$B$14:$G$14,"*"&$A30&"*")+COUNTIF('Game 7'!$B$15:$G$15,"*"&$A30&"*")+COUNTIF('Game 7'!$B$16:$G$16,"*"&$A30&"*")+COUNTIF('Game 8'!$B$13:$G$13,"*"&$A30&"*")+COUNTIF('Game 8'!$B$14:$G$14,"*"&$A30&"*")+COUNTIF('Game 8'!$B$15:$G$15,"*"&$A30&"*")+COUNTIF('Game 8'!$B$16:$G$16,"*"&$A30&"*")+COUNTIF('Game 9'!$B$13:$G$13,"*"&$A30&"*")+COUNTIF('Game 9'!$B$14:$G$14,"*"&$A30&"*")+COUNTIF('Game 9'!$B$15:$G$15,"*"&$A30&"*")+COUNTIF('Game 9'!$B$16:$G$16,"*"&$A30&"*")+COUNTIF('Game 10'!$B$13:$G$13,"*"&$A30&"*")+COUNTIF('Game 10'!$B$14:$G$14,"*"&$A30&"*")+COUNTIF('Game 10'!$B$15:$G$15,"*"&$A30&"*")+COUNTIF('Game 10'!$B$16:$G$16,"*"&$A30&"*")+COUNTIF('Game 11'!$B$13:$G$13,"*"&$A30&"*")+COUNTIF('Game 11'!$B$14:$G$14,"*"&$A30&"*")+COUNTIF('Game 11'!$B$15:$G$15,"*"&$A30&"*")+COUNTIF('Game 11'!$B$16:$G$16,"*"&$A30&"*")+COUNTIF('Game 12'!$B$13:$G$13,"*"&$A30&"*")+COUNTIF('Game 12'!$B$14:$G$14,"*"&$A30&"*")+COUNTIF('Game 12'!$B$15:$G$15,"*"&$A30&"*")+COUNTIF('Game 12'!$B$16:$G$16,"*"&$A30&"*")+COUNTIF('Game 13'!$B$13:$G$13,"*"&$A30&"*")+COUNTIF('Game 13'!$B$14:$G$14,"*"&$A30&"*")+COUNTIF('Game 13'!$B$15:$G$15,"*"&$A30&"*")+COUNTIF('Game 13'!$B$16:$G$16,"*"&$A30&"*")+COUNTIF('Game 14'!$B$13:$G$13,"*"&$A30&"*")+COUNTIF('Game 14'!$B$14:$G$14,"*"&$A30&"*")+COUNTIF('Game 14'!$B$15:$G$15,"*"&$A30&"*")+COUNTIF('Game 14'!$B$16:$G$16,"*"&$A30&"*")+COUNTIF('Game 15'!$B$13:$G$13,"*"&$A30&"*")+COUNTIF('Game 15'!$B$14:$G$14,"*"&$A30&"*")+COUNTIF('Game 15'!$B$15:$G$15,"*"&$A30&"*")+COUNTIF('Game 15'!$B$16:$G$16,"*"&$A30&"*")+COUNTIF('Game 16'!$B$13:$G$13,"*"&$A30&"*")+COUNTIF('Game 16'!$B$14:$G$14,"*"&$A30&"*")+COUNTIF('Game 16'!$B$15:$G$15,"*"&$A30&"*")+COUNTIF('Game 16'!$B$16:$G$16,"*"&$A30&"*") -> 0 | L30: =A30 -> Player 13 | M30: =SUM(B30:G30) -> 0 | N30: =SUM(H30:J30) -> 0 | O30: =K30 -> 0 | P30: =SUM(M30:O30) -> 0 | Q30: =IF(P30=0,0,M30/P30) -> 0 | R30: =IF(P30=0,0,N30/P30) -> 0 | S30: =IF(P30=0,0,O30/P30) -> 0 | V30: ='Game 1'!Z14+'Game 2'!Z14+'Game 3'!Z14+'Game 4'!Z14+'Game 5'!Z14+'Game 6'!Z14+'Game 7'!Z14+'Game 8'!Z14+'Game 9'!Z14+'Game 10'!Z14+'Game 11'!Z14+'Game 12'!Z14+'Game 13'!Z14+'Game 14'!Z14+'Game 15'!Z14+'Game 16'!Z14 -> 0 | W30: =COUNTIF('Game 1'!$L$15,"*"&$A30&"*")+COUNTIF('Game 2'!$L$15,"*"&$A30&"*")+COUNTIF('Game 3'!$L$15,"*"&$A30&"*")+COUNTIF('Game 4'!$L$15,"*"&$A30&"*")+COUNTIF('Game 5'!$L$15,"*"&$A30&"*")+COUNTIF('Game 6'!$L$15,"*"&$A30&"*")+COUNTIF('Game 7'!$L$15,"*"&$A30&"*")+COUNTIF('Game 8'!$L$15,"*"&$A30&"*")+COUNTIF('Game 9'!$L$15,"*"&$A30&"*")+COUNTIF('Game 10'!$L$15,"*"&$A30&"*")+COUNTIF('Game 11'!$L$15,"*"&$A30&"*")+COUNTIF('Game 12'!$L$15,"*"&$A30&"*")+COUNTIF('Game 13'!$L$15,"*"&$A30&"*")+COUNTIF('Game 14'!$L$15,"*"&$A30&"*")+COUNTIF('Game 15'!$L$15,"*"&$A30&"*")+COUNTIF('Game 16'!$L$15,"*"&$A30&"*") -> 0

Sheet Game 1
A1: Game 1 Defensive Lineup | Z1: Absence Helper
Z2: =COUNTIF($L$7:$L$12,Master!A2) -> 0
A3: Position | B3: 1 | C3: 2 | D3: 3 | E3: 4 | F3: 5 | G3: 6 | I3: Batting Order | L3: Players Available | N3: Player Game Summary | Z3: =COUNTIF($L$7:$L$12,Master!A3) -> 0
A4: Left Field | I4: Spot | J4: Player | N4: Player | O4: Infield | P4: Outfield | Q4: Bench | R4: Total | Z4: =COUNTIF($L$7:$L$12,Master!A4) -> 0
A5: Center Field | I5: 1 | N5: =Master!C2 -> Player 1 (#) | O5: =COUNTIF($B$7:$G$7,"*"&Master!A2&"*")+COUNTIF($B$8:$G$8,"*"&Master!A2&"*")+COUNTIF($B$9:$G$9,"*"&Master!A2&"*")+COUNTIF($B$10:$G$10,"*"&Master!A2&"*")+COUNTIF($B$11:$G$11,"*"&Master!A2&"*")+COUNTIF($B$12:$G$12,"*"&Master!A2&"*") -> 0 | P5: =COUNTIF($B$4:$G$4,"*"&Master!A2&"*")+COUNTIF($B$5:$G$5,"*"&Master!A2&"*")+COUNTIF($B$6:$G$6,"*"&Master!A2&"*") -> 0 | Q5: =COUNTIF($B$13:$G$13,"*"&Master!A2&"*")+COUNTIF($B$14:$G$14,"*"&Master!A2&"*")+COUNTIF($B$15:$G$15,"*"&Master!A2&"*")+COUNTIF($B$16:$G$16,"*"&Master!A2&"*") -> 0 | R5: =SUM(O5:Q5) -> 0 | Z5: =COUNTIF($L$7:$L$12,Master!A5) -> 0
A6: Right Field | I6: 2 | L6: Absent Players | N6: =Master!C3 -> Player 2 (#) | O6: =COUNTIF($B$7:$G$7,"*"&Master!A3&"*")+COUNTIF($B$8:$G$8,"*"&Master!A3&"*")+COUNTIF($B$9:$G$9,"*"&Master!A3&"*")+COUNTIF($B$10:$G$10,"*"&Master!A3&"*")+COUNTIF($B$11:$G$11,"*"&Master!A3&"*")+COUNTIF($B$12:$G$12,"*"&Master!A3&"*") -> 0 | P6: =COUNTIF($B$4:$G$4,"*"&Master!A3&"*")+COUNTIF($B$5:$G$5,"*"&Master!A3&"*")+COUNTIF($B$6:$G$6,"*"&Master!A3&"*") -> 0 | Q6: =COUNTIF($B$13:$G$13,"*"&Master!A3&"*")+COUNTIF($B$14:$G$14,"*"&Master!A3&"*")+COUNTIF($B$15:$G$15,"*"&Master!A3&"*")+COUNTIF($B$16:$G$16,"*"&Master!A3&"*") -> 0 | R6: =SUM(O6:Q6) -> 0 | Z6: =COUNTIF($L$7:$L$12,Master!A6) -> 0
A7: Third Base | I7: 3 | N7: =Master!C4 -> Player 3 (#) | O7: =COUNTIF($B$7:$G$7,"*"&Master!A4&"*")+COUNTIF($B$8:$G$8,"*"&Master!A4&"*")+COUNTIF($B$9:$G$9,"*"&Master!A4&"*")+COUNTIF($B$10:$G$10,"*"&Master!A4&"*")+COUNTIF($B$11:$G$11,"*"&Master!A4&"*")+COUNTIF($B$12:$G$12,"*"&Master!A4&"*") -> 0 | P7: =COUNTIF($B$4:$G$4,"*"&Master!A4&"*")+COUNTIF($B$5:$G$5,"*"&Master!A4&"*")+COUNTIF($B$6:$G$6,"*"&Master!A4&"*") -> 0 | Q7: =COUNTIF($B$13:$G$13,"*"&Master!A4&"*")+COUNTIF($B$14:$G$14,"*"&Master!A4&"*")+COUNTIF($B$15:$G$15,"*"&Master!A4&"*")+COUNTIF($B$16:$G$16,"*"&Master!A4&"*") -> 0 | R7: =SUM(O7:Q7) -> 0 | Z7: =COUNTIF($L$7:$L$12,Master!A7) -> 0
A8: Shortstop | I8: 4 | N8: =Master!C5 -> Player 4 (#) | O8: =COUNTIF($B$7:$G$7,"*"&Master!A5&"*")+COUNTIF($B$8:$G$8,"*"&Master!A5&"*")+COUNTIF($B$9:$G$9,"*"&Master!A5&"*")+COUNTIF($B$10:$G$10,"*"&Master!A5&"*")+COUNTIF($B$11:$G$11,"*"&Master!A5&"*")+COUNTIF($B$12:$G$12,"*"&Master!A5&"*") -> 0 | P8: =COUNTIF($B$4:$G$4,"*"&Master!A5&"*")+COUNTIF($B$5:$G$5,"*"&Master!A5&"*")+COUNTIF($B$6:$G$6,"*"&Master!A5&"*") -> 0 | Q8: =COUNTIF($B$13:$G$13,"*"&Master!A5&"*")+COUNTIF($B$14:$G$14,"*"&Master!A5&"*")+COUNTIF($B$15:$G$15,"*"&Master!A5&"*")+COUNTIF($B$16:$G$16,"*"&Master!A5&"*") -> 0 | R8: =SUM(O8:Q8) -> 0 | Z8: =COUNTIF($L$7:$L$12,Master!A8) -> 0
A9: Second Base | I9: 5 | N9: =Master!C6 -> Player 5 (#) | O9: =COUNTIF($B$7:$G$7,"*"&Master!A6&"*")+COUNTIF($B$8:$G$8,"*"&Master!A6&"*")+COUNTIF($B$9:$G$9,"*"&Master!A6&"*")+COUNTIF($B$10:$G$10,"*"&Master!A6&"*")+COUNTIF($B$11:$G$11,"*"&Master!A6&"*")+COUNTIF($B$12:$G$12,"*"&Master!A6&"*") -> 0 | P9: =COUNTIF($B$4:$G$4,"*"&Master!A6&"*")+COUNTIF($B$5:$G$5,"*"&Master!A6&"*")+COUNTIF($B$6:$G$6,"*"&Master!A6&"*") -> 0 | Q9: =COUNTIF($B$13:$G$13,"*"&Master!A6&"*")+COUNTIF($B$14:$G$14,"*"&Master!A6&"*")+COUNTIF($B$15:$G$15,"*"&Master!A6&"*")+COUNTIF($B$16:$G$16,"*"&Master!A6&"*") -> 0 | R9: =SUM(O9:Q9) -> 0 | Z9: =COUNTIF($L$7:$L$12,Master!A9) -> 0
A10: First Base | I10: 6 | N10: =Master!C7 -> Player 6 (#) | O10: =COUNTIF($B$7:$G$7,"*"&Master!A7&"*")+COUNTIF($B$8:$G$8,"*"&Master!A7&"*")+COUNTIF($B$9:$G$9,"*"&Master!A7&"*")+COUNTIF($B$10:$G$10,"*"&Master!A7&"*")+COUNTIF($B$11:$G$11,"*"&Master!A7&"*")+COUNTIF($B$12:$G$12,"*"&Master!A7&"*") -> 0 | P10: =COUNTIF($B$4:$G$4,"*"&Master!A7&"*")+COUNTIF($B$5:$G$5,"*"&Master!A7&"*")+COUNTIF($B$6:$G$6,"*"&Master!A7&"*") -> 0 | Q10: =COUNTIF($B$13:$G$13,"*"&Master!A7&"*")+COUNTIF($B$14:$G$14,"*"&Master!A7&"*")+COUNTIF($B$15:$G$15,"*"&Master!A7&"*")+COUNTIF($B$16:$G$16,"*"&Master!A7&"*") -> 0 | R10: =SUM(O10:Q10) -> 0 | Z10: =COUNTIF($L$7:$L$12,Master!A10) -> 0
A11: Catcher | I11: 7 | N11: =Master!C8 -> Player 7 (#) | O11: =COUNTIF($B$7:$G$7,"*"&Master!A8&"*")+COUNTIF($B$8:$G$8,"*"&Master!A8&"*")+COUNTIF($B$9:$G$9,"*"&Master!A8&"*")+COUNTIF($B$10:$G$10,"*"&Master!A8&"*")+COUNTIF($B$11:$G$11,"*"&Master!A8&"*")+COUNTIF($B$12:$G$12,"*"&Master!A8&"*") -> 0 | P11: =COUNTIF($B$4:$G$4,"*"&Master!A8&"*")+COUNTIF($B$5:$G$5,"*"&Master!A8&"*")+COUNTIF($B$6:$G$6,"*"&Master!A8&"*") -> 0 | Q11: =COUNTIF($B$13:$G$13,"*"&Master!A8&"*")+COUNTIF($B$14:$G$14,"*"&Master!A8&"*")+COUNTIF($B$15:$G$15,"*"&Master!A8&"*")+COUNTIF($B$16:$G$16,"*"&Master!A8&"*") -> 0 | R11: =SUM(O11:Q11) -> 0 | Z11: =COUNTIF($L$7:$L$12,Master!A11) -> 0
A12: Pitcher | I12: 8 | N12: =Master!C9 -> Player 8 (#) | O12: =COUNTIF($B$7:$G$7,"*"&Master!A9&"*")+COUNTIF($B$8:$G$8,"*"&Master!A9&"*")+COUNTIF($B$9:$G$9,"*"&Master!A9&"*")+COUNTIF($B$10:$G$10,"*"&Master!A9&"*")+COUNTIF($B$11:$G$11,"*"&Master!A9&"*")+COUNTIF($B$12:$G$12,"*"&Master!A9&"*") -> 0 | P12: =COUNTIF($B$4:$G$4,"*"&Master!A9&"*")+COUNTIF($B$5:$G$5,"*"&Master!A9&"*")+COUNTIF($B$6:$G$6,"*"&Master!A9&"*") -> 0 | Q12: =COUNTIF($B$13:$G$13,"*"&Master!A9&"*")+COUNTIF($B$14:$G$14,"*"&Master!A9&"*")+COUNTIF($B$15:$G$15,"*"&Master!A9&"*")+COUNTIF($B$16:$G$16,"*"&Master!A9&"*") -> 0 | R12: =SUM(O12:Q12) -> 0 | Z12: =COUNTIF($L$7:$L$12,Master!A12) -> 0
A13: Bench 1 | I13: 9 | N13: =Master!C10 -> Player 9 (#) | O13: =COUNTIF($B$7:$G$7,"*"&Master!A10&"*")+COUNTIF($B$8:$G$8,"*"&Master!A10&"*")+COUNTIF($B$9:$G$9,"*"&Master!A10&"*")+COUNTIF($B$10:$G$10,"*"&Master!A10&"*")+COUNTIF($B$11:$G$11,"*"&Master!A10&"*")+COUNTIF($B$12:$G$12,"*"&Master!A10&"*") -> 0 | P13: =COUNTIF($B$4:$G$4,"*"&Master!A10&"*")+COUNTIF($B$5:$G$5,"*"&Master!A10&"*")+COUNTIF($B$6:$G$6,"*"&Master!A10&"*") -> 0 | Q13: =COUNTIF($B$13:$G$13,"*"&Master!A10&"*")+COUNTIF($B$14:$G$14,"*"&Master!A10&"*")+COUNTIF($B$15:$G$15,"*"&Master!A10&"*")+COUNTIF($B$16:$G$16,"*"&Master!A10&"*") -> 0 | R13: =SUM(O13:Q13) -> 0 | Z13: =COUNTIF($L$7:$L$12,Master!A13) -> 0
A14: Bench 2 | I14: 10 | L14: Player of the Game | N14: =Master!C11 -> Player 10 (#) | O14: =COUNTIF($B$7:$G$7,"*"&Master!A11&"*")+COUNTIF($B$8:$G$8,"*"&Master!A11&"*")+COUNTIF($B$9:$G$9,"*"&Master!A11&"*")+COUNTIF($B$10:$G$10,"*"&Master!A11&"*")+COUNTIF($B$11:$G$11,"*"&Master!A11&"*")+COUNTIF($B$12:$G$12,"*"&Master!A11&"*") -> 0 | P14: =COUNTIF($B$4:$G$4,"*"&Master!A11&"*")+COUNTIF($B$5:$G$5,"*"&Master!A11&"*")+COUNTIF($B$6:$G$6,"*"&Master!A11&"*") -> 0 | Q14: =COUNTIF($B$13:$G$13,"*"&Master!A11&"*")+COUNTIF($B$14:$G$14,"*"&Master!A11&"*")+COUNTIF($B$15:$G$15,"*"&Master!A11&"*")+COUNTIF($B$16:$G$16,"*"&Master!A11&"*") -> 0 | R14: =SUM(O14:Q14) -> 0 | Z14: =COUNTIF($L$7:$L$12,Master!A14) -> 0
A15: Bench 3 | I15: 11 | N15: =Master!C12 -> Player 11 (#) | O15: =COUNTIF($B$7:$G$7,"*"&Master!A12&"*")+COUNTIF($B$8:$G$8,"*"&Master!A12&"*")+COUNTIF($B$9:$G$9,"*"&Master!A12&"*")+COUNTIF($B$10:$G$10,"*"&Master!A12&"*")+COUNTIF($B$11:$G$11,"*"&Master!A12&"*")+COUNTIF($B$12:$G$12,"*"&Master!A12&"*") -> 0 | P15: =COUNTIF($B$4:$G$4,"*"&Master!A12&"*")+COUNTIF($B$5:$G$5,"*"&Master!A12&"*")+COUNTIF($B$6:$G$6,"*"&Master!A12&"*") -> 0 | Q15: =COUNTIF($B$13:$G$13,"*"&Master!A12&"*")+COUNTIF($B$14:$G$14,"*"&Master!A12&"*")+COUNTIF($B$15:$G$15,"*"&Master!A12&"*")+COUNTIF($B$16:$G$16,"*"&Master!A12&"*") -> 0 | R15: =SUM(O15:Q15) -> 0
A16: Bench 4 | I16: 12 | N16: =Master!C13 -> Player 12 (#) | O16: =COUNTIF($B$7:$G$7,"*"&Master!A13&"*")+COUNTIF($B$8:$G$8,"*"&Master!A13&"*")+COUNTIF($B$9:$G$9,"*"&Master!A13&"*")+COUNTIF($B$10:$G$10,"*"&Master!A13&"*")+COUNTIF($B$11:$G$11,"*"&Master!A13&"*")+COUNTIF($B$12:$G$12,"*"&Master!A13&"*") -> 0 | P16: =COUNTIF($B$4:$G$4,"*"&Master!A13&"*")+COUNTIF($B$5:$G$5,"*"&Master!A13&"*")+COUNTIF($B$6:$G$6,"*"&Master!A13&"*") -> 0 | Q16: =COUNTIF($B$13:$G$13,"*"&Master!A13&"*")+COUNTIF($B$14:$G$14,"*"&Master!A13&"*")+COUNTIF($B$15:$G$15,"*"&Master!A13&"*")+COUNTIF($B$16:$G$16,"*"&Master!A13&"*") -> 0 | R16: =SUM(O16:Q16) -> 0
I17: 13 | N17: =Master!C14 -> Player 13 (#) | O17: =COUNTIF($B$7:$G$7,"*"&Master!A14&"*")+COUNTIF($B$8:$G$8,"*"&Master!A14&"*")+COUNTIF($B$9:$G$9,"*"&Master!A14&"*")+COUNTIF($B$10:$G$10,"*"&Master!A14&"*")+COUNTIF($B$11:$G$11,"*"&Master!A14&"*")+COUNTIF($B$12:$G$12,"*"&Master!A14&"*") -> 0 | P17: =COUNTIF($B$4:$G$4,"*"&Master!A14&"*")+COUNTIF($B$5:$G$5,"*"&Master!A14&"*")+COUNTIF($B$6:$G$6,"*"&Master!A14&"*") -> 0 | Q17: =COUNTIF($B$13:$G$13,"*"&Master!A14&"*")+COUNTIF($B$14:$G$14,"*"&Master!A14&"*")+COUNTIF($B$15:$G$15,"*"&Master!A14&"*")+COUNTIF($B$16:$G$16,"*"&Master!A14&"*") -> 0 | R17: =SUM(O17:Q17) -> 0
N18: Totals | O18: =SUM(O5:O17) -> 0 | P18: =SUM(P5:P17) -> 0 | Q18: =SUM(Q5:Q17) -> 0 | R18: =SUM(R5:R17) -> 0
B20: https://freebaseballlineups.com/lineups.html

Sheet Game 2
A1: Game 2 Defensive Lineup | Z1: Absence Helper
Z2: =COUNTIF($L$7:$L$12,Master!A2) -> 0
A3: Position | B3: 1 | C3: 2 | D3: 3 | E3: 4 | F3: 5 | G3: 6 | I3: Batting Order | L3: Players Available | N3: Player Game Summary | Z3: =COUNTIF($L$7:$L$12,Master!A3) -> 0
A4: Left Field | I4: Spot | J4: Player | N4: Player | O4: Infield | P4: Outfield | Q4: Bench | R4: Total | Z4: =COUNTIF($L$7:$L$12,Master!A4) -> 0
A5: Center Field | I5: 1 | N5: =Master!C2 -> Player 1 (#) | O5: =COUNTIF($B$7:$G$7,"*"&Master!A2&"*")+COUNTIF($B$8:$G$8,"*"&Master!A2&"*")+COUNTIF($B$9:$G$9,"*"&Master!A2&"*")+COUNTIF($B$10:$G$10,"*"&Master!A2&"*")+COUNTIF($B$11:$G$11,"*"&Master!A2&"*")+COUNTIF($B$12:$G$12,"*"&Master!A2&"*") -> 0 | P5: =COUNTIF($B$4:$G$4,"*"&Master!A2&"*")+COUNTIF($B$5:$G$5,"*"&Master!A2&"*")+COUNTIF($B$6:$G$6,"*"&Master!A2&"*") -> 0 | Q5: =COUNTIF($B$13:$G$13,"*"&Master!A2&"*")+COUNTIF($B$14:$G$14,"*"&Master!A2&"*")+COUNTIF($B$15:$G$15,"*"&Master!A2&"*")+COUNTIF($B$16:$G$16,"*"&Master!A2&"*") -> 0 | R5: =SUM(O5:Q5) -> 0 | Z5: =COUNTIF($L$7:$L$12,Master!A5) -> 0
A6: Right Field | I6: 2 | L6: Absent Players | N6: =Master!C3 -> Player 2 (#) | O6: =COUNTIF($B$7:$G$7,"*"&Master!A3&"*")+COUNTIF($B$8:$G$8,"*"&Master!A3&"*")+COUNTIF($B$9:$G$9,"*"&Master!A3&"*")+COUNTIF($B$10:$G$10,"*"&Master!A3&"*")+COUNTIF($B$11:$G$11,"*"&Master!A3&"*")+COUNTIF($B$12:$G$12,"*"&Master!A3&"*") -> 0 | P6: =COUNTIF($B$4:$G$4,"*"&Master!A3&"*")+COUNTIF($B$5:$G$5,"*"&Master!A3&"*")+COUNTIF($B$6:$G$6,"*"&Master!A3&"*") -> 0 | Q6: =COUNTIF($B$13:$G$13,"*"&Master!A3&"*")+COUNTIF($B$14:$G$14,"*"&Master!A3&"*")+COUNTIF($B$15:$G$15,"*"&Master!A3&"*")+COUNTIF($B$16:$G$16,"*"&Master!A3&"*") -> 0 | R6: =SUM(O6:Q6) -> 0 | Z6: =COUNTIF($L$7:$L$12,Master!A6) -> 0
A7: Third Base | I7: 3 | N7: =Master!C4 -> Player 3 (#) | O7: =COUNTIF($B$7:$G$7,"*"&Master!A4&"*")+COUNTIF($B$8:$G$8,"*"&Master!A4&"*")+COUNTIF($B$9:$G$9,"*"&Master!A4&"*")+COUNTIF($B$10:$G$10,"*"&Master!A4&"*")+COUNTIF($B$11:$G$11,"*"&Master!A4&"*")+COUNTIF($B$12:$G$12,"*"&Master!A4&"*") -> 0 | P7: =COUNTIF($B$4:$G$4,"*"&Master!A4&"*")+COUNTIF($B$5:$G$5,"*"&Master!A4&"*")+COUNTIF($B$6:$G$6,"*"&Master!A4&"*") -> 0 | Q7: =COUNTIF($B$13:$G$13,"*"&Master!A4&"*")+COUNTIF($B$14:$G$14,"*"&Master!A4&"*")+COUNTIF($B$15:$G$15,"*"&Master!A4&"*")+COUNTIF($B$16:$G$16,"*"&Master!A4&"*") -> 0 | R7: =SUM(O7:Q7) -> 0 | Z7: =COUNTIF($L$7:$L$12,Master!A7) -> 0
A8: Shortstop | I8: 4 | N8: =Master!C5 -> Player 4 (#) | O8: =COUNTIF($B$7:$G$7,"*"&Master!A5&"*")+COUNTIF($B$8:$G$8,"*"&Master!A5&"*")+COUNTIF($B$9:$G$9,"*"&Master!A5&"*")+COUNTIF($B$10:$G$10,"*"&Master!A5&"*")+COUNTIF($B$11:$G$11,"*"&Master!A5&"*")+COUNTIF($B$12:$G$12,"*"&Master!A5&"*") -> 0 | P8: =COUNTIF($B$4:$G$4,"*"&Master!A5&"*")+COUNTIF($B$5:$G$5,"*"&Master!A5&"*")+COUNTIF($B$6:$G$6,"*"&Master!A5&"*") -> 0 | Q8: =COUNTIF($B$13:$G$13,"*"&Master!A5&"*")+COUNTIF($B$14:$G$14,"*"&Master!A5&"*")+COUNTIF($B$15:$G$15,"*"&Master!A5&"*")+COUNTIF($B$16:$G$16,"*"&Master!A5&"*") -> 0 | R8: =SUM(O8:Q8) -> 0 | Z8: =COUNTIF($L$7:$L$12,Master!A8) -> 0
A9: Second Base | I9: 5 | N9: =Master!C6 -> Player 5 (#) | O9: =COUNTIF($B$7:$G$7,"*"&Master!A6&"*")+COUNTIF($B$8:$G$8,"*"&Master!A6&"*")+COUNTIF($B$9:$G$9,"*"&Master!A6&"*")+COUNTIF($B$10:$G$10,"*"&Master!A6&"*")+COUNTIF($B$11:$G$11,"*"&Master!A6&"*")+COUNTIF($B$12:$G$12,"*"&Master!A6&"*") -> 0 | P9: =COUNTIF($B$4:$G$4,"*"&Master!A6&"*")+COUNTIF($B$5:$G$5,"*"&Master!A6&"*")+COUNTIF($B$6:$G$6,"*"&Master!A6&"*") -> 0 | Q9: =COUNTIF($B$13:$G$13,"*"&Master!A6&"*")+COUNTIF($B$14:$G$14,"*"&Master!A6&"*")+COUNTIF($B$15:$G$15,"*"&Master!A6&"*")+COUNTIF($B$16:$G$16,"*"&Master!A6&"*") -> 0 | R9: =SUM(O9:Q9) -> 0 | Z9: =COUNTIF($L$7:$L$12,Master!A9) -> 0
A10: First Base | I10: 6 | N10: =Master!C7 -> Player 6 (#) | O10: =COUNTIF($B$7:$G$7,"*"&Master!A7&"*")+COUNTIF($B$8:$G$8,"*"&Master!A7&"*")+COUNTIF($B$9:$G$9,"*"&Master!A7&"*")+COUNTIF($B$10:$G$10,"*"&Master!A7&"*")+COUNTIF($B$11:$G$11,"*"&Master!A7&"*")+COUNTIF($B$12:$G$12,"*"&Master!A7&"*") -> 0 | P10: =COUNTIF($B$4:$G$4,"*"&Master!A7&"*")+COUNTIF($B$5:$G$5,"*"&Master!A7&"*")+COUNTIF($B$6:$G$6,"*"&Master!A7&"*") -> 0 | Q10: =COUNTIF($B$13:$G$13,"*"&Master!A7&"*")+COUNTIF($B$14:$G$14,"*"&Master!A7&"*")+COUNTIF($B$15:$G$15,"*"&Master!A7&"*")+COUNTIF($B$16:$G$16,"*"&Master!A7&"*") -> 0 | R10: =SUM(O10:Q10) -> 0 | Z10: =COUNTIF($L$7:$L$12,Master!A10) -> 0
A11: Catcher | I11: 7 | N11: =Master!C8 -> Player 7 (#) | O11: =COUNTIF($B$7:$G$7,"*"&Master!A8&"*")+COUNTIF($B$8:$G$8,"*"&Master!A8&"*")+COUNTIF($B$9:$G$9,"*"&Master!A8&"*")+COUNTIF($B$10:$G$10,"*"&Master!A8&"*")+COUNTIF($B$11:$G$11,"*"&Master!A8&"*")+COUNTIF($B$12:$G$12,"*"&Master!A8&"*") -> 0 | P11: =COUNTIF($B$4:$G$4,"*"&Master!A8&"*")+COUNTIF($B$5:$G$5,"*"&Master!A8&"*")+COUNTIF($B$6:$G$6,"*"&Master!A8&"*") -> 0 | Q11: =COUNTIF($B$13:$G$13,"*"&Master!A8&"*")+COUNTIF($B$14:$G$14,"*"&Master!A8&"*")+COUNTIF($B$15:$G$15,"*"&Master!A8&"*")+COUNTIF($B$16:$G$16,"*"&Master!A8&"*") -> 0 | R11: =SUM(O11:Q11) -> 0 | Z11: =COUNTIF($L$7:$L$12,Master!A11) -> 0
A12: Pitcher | I12: 8 | N12: =Master!C9 -> Player 8 (#) | O12: =COUNTIF($B$7:$G$7,"*"&Master!A9&"*")+COUNTIF($B$8:$G$8,"*"&Master!A9&"*")+COUNTIF($B$9:$G$9,"*"&Master!A9&"*")+COUNTIF($B$10:$G$10,"*"&Master!A9&"*")+COUNTIF($B$11:$G$11,"*"&Master!A9&"*")+COUNTIF($B$12:$G$12,"*"&Master!A9&"*") -> 0 | P12: =COUNTIF($B$4:$G$4,"*"&Master!A9&"*")+COUNTIF($B$5:$G$5,"*"&Master!A9&"*")+COUNTIF($B$6:$G$6,"*"&Master!A9&"*") -> 0 | Q12: =COUNTIF($B$13:$G$13,"*"&Master!A9&"*")+COUNTIF($B$14:$G$14,"*"&Master!A9&"*")+COUNTIF($B$15:$G$15,"*"&Master!A9&"*")+COUNTIF($B$16:$G$16,"*"&Master!A9&"*") -> 0 | R12: =SUM(O12:Q12) -> 0 | Z12: =COUNTIF($L$7:$L$12,Master!A12) -> 0
A13: Bench 1 | I13: 9 | N13: =Master!C10 -> Player 9 (#) | O13: =COUNTIF($B$7:$G$7,"*"&Master!A10&"*")+COUNTIF($B$8:$G$8,"*"&Master!A10&"*")+COUNTIF($B$9:$G$9,"*"&Master!A10&"*")+COUNTIF($B$10:$G$10,"*"&Master!A10&"*")+COUNTIF($B$11:$G$11,"*"&Master!A10&"*")+COUNTIF($B$12:$G$12,"*"&Master!A10&"*") -> 0 | P13: =COUNTIF($B$4:$G$4,"*"&Master!A10&"*")+COUNTIF($B$5:$G$5,"*"&Master!A10&"*")+COUNTIF($B$6:$G$6,"*"&Master!A10&"*") -> 0 | Q13: =COUNTIF($B$13:$G$13,"*"&Master!A10&"*")+COUNTIF($B$14:$G$14,"*"&Master!A10&"*")+COUNTIF($B$15:$G$15,"*"&Master!A10&"*")+COUNTIF($B$16:$G$16,"*"&Master!A10&"*") -> 0 | R13: =SUM(O13:Q13) -> 0 | Z13: =COUNTIF($L$7:$L$12,Master!A13) -> 0
A14: Bench 2 | I14: 10 | L14: Player of the Game | N14: =Master!C11 -> Player 10 (#) | O14: =COUNTIF($B$7:$G$7,"*"&Master!A11&"*")+COUNTIF($B$8:$G$8,"*"&Master!A11&"*")+COUNTIF($B$9:$G$9,"*"&Master!A11&"*")+COUNTIF($B$10:$G$10,"*"&Master!A11&"*")+COUNTIF($B$11:$G$11,"*"&Master!A11&"*")+COUNTIF($B$12:$G$12,"*"&Master!A11&"*") -> 0 | P14: =COUNTIF($B$4:$G$4,"*"&Master!A11&"*")+COUNTIF($B$5:$G$5,"*"&Master!A11&"*")+COUNTIF($B$6:$G$6,"*"&Master!A11&"*") -> 0 | Q14: =COUNTIF($B$13:$G$13,"*"&Master!A11&"*")+COUNTIF($B$14:$G$14,"*"&Master!A11&"*")+COUNTIF($B$15:$G$15,"*"&Master!A11&"*")+COUNTIF($B$16:$G$16,"*"&Master!A11&"*") -> 0 | R14: =SUM(O14:Q14) -> 0 | Z14: =COUNTIF($L$7:$L$12,Master!A14) -> 0
A15: Bench 3 | I15: 11 | N15: =Master!C12 -> Player 11 (#) | O15: =COUNTIF($B$7:$G$7,"*"&Master!A12&"*")+COUNTIF($B$8:$G$8,"*"&Master!A12&"*")+COUNTIF($B$9:$G$9,"*"&Master!A12&"*")+COUNTIF($B$10:$G$10,"*"&Master!A12&"*")+COUNTIF($B$11:$G$11,"*"&Master!A12&"*")+COUNTIF($B$12:$G$12,"*"&Master!A12&"*") -> 0 | P15: =COUNTIF($B$4:$G$4,"*"&Master!A12&"*")+COUNTIF($B$5:$G$5,"*"&Master!A12&"*")+COUNTIF($B$6:$G$6,"*"&Master!A12&"*") -> 0 | Q15: =COUNTIF($B$13:$G$13,"*"&Master!A12&"*")+COUNTIF($B$14:$G$14,"*"&Master!A12&"*")+COUNTIF($B$15:$G$15,"*"&Master!A12&"*")+COUNTIF($B$16:$G$16,"*"&Master!A12&"*") -> 0 | R15: =SUM(O15:Q15) -> 0
A16: Bench 4 | I16: 12 | N16: =Master!C13 -> Player 12 (#) | O16: =COUNTIF($B$7:$G$7,"*"&Master!A13&"*")+COUNTIF($B$8:$G$8,"*"&Master!A13&"*")+COUNTIF($B$9:$G$9,"*"&Master!A13&"*")+COUNTIF($B$10:$G$10,"*"&Master!A13&"*")+COUNTIF($B$11:$G$11,"*"&Master!A13&"*")+COUNTIF($B$12:$G$12,"*"&Master!A13&"*") -> 0 | P16: =COUNTIF($B$4:$G$4,"*"&Master!A13&"*")+COUNTIF($B$5:$G$5,"*"&Master!A13&"*")+COUNTIF($B$6:$G$6,"*"&Master!A13&"*") -> 0 | Q16: =COUNTIF($B$13:$G$13,"*"&Master!A13&"*")+COUNTIF($B$14:$G$14,"*"&Master!A13&"*")+COUNTIF($B$15:$G$15,"*"&Master!A13&"*")+COUNTIF($B$16:$G$16,"*"&Master!A13&"*") -> 0 | R16: =SUM(O16:Q16) -> 0
I17: 13 | N17: =Master!C14 -> Player 13 (#) | O17: =COUNTIF($B$7:$G$7,"*"&Master!A14&"*")+COUNTIF($B$8:$G$8,"*"&Master!A14&"*")+COUNTIF($B$9:$G$9,"*"&Master!A14&"*")+COUNTIF($B$10:$G$10,"*"&Master!A14&"*")+COUNTIF($B$11:$G$11,"*"&Master!A14&"*")+COUNTIF($B$12:$G$12,"*"&Master!A14&"*") -> 0 | P17: =COUNTIF($B$4:$G$4,"*"&Master!A14&"*")+COUNTIF($B$5:$G$5,"*"&Master!A14&"*")+COUNTIF($B$6:$G$6,"*"&Master!A14&"*") -> 0 | Q17: =COUNTIF($B$13:$G$13,"*"&Master!A14&"*")+COUNTIF($B$14:$G$14,"*"&Master!A14&"*")+COUNTIF($B$15:$G$15,"*"&Master!A14&"*")+COUNTIF($B$16:$G$16,"*"&Master!A14&"*") -> 0 | R17: =SUM(O17:Q17) -> 0
N18: Totals | O18: =SUM(O5:O17) -> 0 | P18: =SUM(P5:P17) -> 0 | Q18: =SUM(Q5:Q17) -> 0 | R18: =SUM(R5:R17) -> 0
B20: https://freebaseballlineups.com/lineups.html

Sheet Game 3
A1: Game 3 Defensive Lineup | Z1: Absence Helper
Z2: =COUNTIF($L$7:$L$12,Master!A2) -> 0
A3: Position | B3: 1 | C3: 2 | D3: 3 | E3: 4 | F3: 5 | G3: 6 | I3: Batting Order | L3: Players Available | N3: Player Game Summary | Z3: =COUNTIF($L$7:$L$12,Master!A3) -> 0
A4: Left Field | I4: Spot | J4: Player | N4: Player | O4: Infield | P4: Outfield | Q4: Bench | R4: Total | Z4: =COUNTIF($L$7:$L$12,Master!A4) -> 0
A5: Center Field | I5: 1 | N5: =Master!C2 -> Player 1 (#) | O5: =COUNTIF($B$7:$G$7,"*"&Master!A2&"*")+COUNTIF($B$8:$G$8,"*"&Master!A2&"*")+COUNTIF($B$9:$G$9,"*"&Master!A2&"*")+COUNTIF($B$10:$G$10,"*"&Master!A2&"*")+COUNTIF($B$11:$G$11,"*"&Master!A2&"*")+COUNTIF($B$12:$G$12,"*"&Master!A2&"*") -> 0 | P5: =COUNTIF($B$4:$G$4,"*"&Master!A2&"*")+COUNTIF($B$5:$G$5,"*"&Master!A2&"*")+COUNTIF($B$6:$G$6,"*"&Master!A2&"*") -> 0 | Q5: =COUNTIF($B$13:$G$13,"*"&Master!A2&"*")+COUNTIF($B$14:$G$14,"*"&Master!A2&"*")+COUNTIF($B$15:$G$15,"*"&Master!A2&"*")+COUNTIF($B$16:$G$16,"*"&Master!A2&"*") -> 0 | R5: =SUM(O5:Q5) -> 0 | Z5: =COUNTIF($L$7:$L$12,Master!A5) -> 0
A6: Right Field | I6: 2 | L6: Absent Players | N6: =Master!C3 -> Player 2 (#) | O6: =COUNTIF($B$7:$G$7,"*"&Master!A3&"*")+COUNTIF($B$8:$G$8,"*"&Master!A3&"*")+COUNTIF($B$9:$G$9,"*"&Master!A3&"*")+COUNTIF($B$10:$G$10,"*"&Master!A3&"*")+COUNTIF($B$11:$G$11,"*"&Master!A3&"*")+COUNTIF($B$12:$G$12,"*"&Master!A3&"*") -> 0 | P6: =COUNTIF($B$4:$G$4,"*"&Master!A3&"*")+COUNTIF($B$5:$G$5,"*"&Master!A3&"*")+COUNTIF($B$6:$G$6,"*"&Master!A3&"*") -> 0 | Q6: =COUNTIF($B$13:$G$13,"*"&Master!A3&"*")+COUNTIF($B$14:$G$14,"*"&Master!A3&"*")+COUNTIF($B$15:$G$15,"*"&Master!A3&"*")+COUNTIF($B$16:$G$16,"*"&Master!A3&"*") -> 0 | R6: =SUM(O6:Q6) -> 0 | Z6: =COUNTIF($L$7:$L$12,Master!A6) -> 0
A7: Third Base | I7: 3 | N7: =Master!C4 -> Player 3 (#) | O7: =COUNTIF($B$7:$G$7,"*"&Master!A4&"*")+COUNTIF($B$8:$G$8,"*"&Master!A4&"*")+COUNTIF($B$9:$G$9,"*"&Master!A4&"*")+COUNTIF($B$10:$G$10,"*"&Master!A4&"*")+COUNTIF($B$11:$G$11,"*"&Master!A4&"*")+COUNTIF($B$12:$G$12,"*"&Master!A4&"*") -> 0 | P7: =COUNTIF($B$4:$G$4,"*"&Master!A4&"*")+COUNTIF($B$5:$G$5,"*"&Master!A4&"*")+COUNTIF($B$6:$G$6,"*"&Master!A4&"*") -> 0 | Q7: =COUNTIF($B$13:$G$13,"*"&Master!A4&"*")+COUNTIF($B$14:$G$14,"*"&Master!A4&"*")+COUNTIF($B$15:$G$15,"*"&Master!A4&"*")+COUNTIF($B$16:$G$16,"*"&Master!A4&"*") -> 0 | R7: =SUM(O7:Q7) -> 0 | Z7: =COUNTIF($L$7:$L$12,Master!A7) -> 0
A8: Shortstop | I8: 4 | N8: =Master!C5 -> Player 4 (#) | O8: =COUNTIF($B$7:$G$7,"*"&Master!A5&"*")+COUNTIF($B$8:$G$8,"*"&Master!A5&"*")+COUNTIF($B$9:$G$9,"*"&Master!A5&"*")+COUNTIF($B$10:$G$10,"*"&Master!A5&"*")+COUNTIF($B$11:$G$11,"*"&Master!A5&"*")+COUNTIF($B$12:$G$12,"*"&Master!A5&"*") -> 0 | P8: =COUNTIF($B$4:$G$4,"*"&Master!A5&"*")+COUNTIF($B$5:$G$5,"*"&Master!A5&"*")+COUNTIF($B$6:$G$6,"*"&Master!A5&"*") -> 0 | Q8: =COUNTIF($B$13:$G$13,"*"&Master!A5&"*")+COUNTIF($B$14:$G$14,"*"&Master!A5&"*")+COUNTIF($B$15:$G$15,"*"&Master!A5&"*")+COUNTIF($B$16:$G$16,"*"&Master!A5&"*") -> 0 | R8: =SUM(O8:Q8) -> 0 | Z8: =COUNTIF($L$7:$L$12,Master!A8) -> 0
A9: Second Base | I9: 5 | N9: =Master!C6 -> Player 5 (#) | O9: =COUNTIF($B$7:$G$7,"*"&Master!A6&"*")+COUNTIF($B$8:$G$8,"*"&Master!A6&"*")+COUNTIF($B$9:$G$9,"*"&Master!A6&"*")+COUNTIF($B$10:$G$10,"*"&Master!A6&"*")+COUNTIF($B$11:$G$11,"*"&Master!A6&"*")+COUNTIF($B$12:$G$12,"*"&Master!A6&"*") -> 0 | P9: =COUNTIF($B$4:$G$4,"*"&Master!A6&"*")+COUNTIF($B$5:$G$5,"*"&Master!A6&"*")+COUNTIF($B$6:$G$6,"*"&Master!A6&"*") -> 0 | Q9: =COUNTIF($B$13:$G$13,"*"&Master!A6&"*")+COUNTIF($B$14:$G$14,"*"&Master!A6&"*")+COUNTIF($B$15:$G$15,"*"&Master!A6&"*")+COUNTIF($B$16:$G$16,"*"&Master!A6&"*") -> 0 | R9: =SUM(O9:Q9) -> 0 | Z9: =COUNTIF($L$7:$L$12,Master!A9) -> 0
A10: First Base | I10: 6 | N10: =Master!C7 -> Player 6 (#) | O10: =COUNTIF($B$7:$G$7,"*"&Master!A7&"*")+COUNTIF($B$8:$G$8,"*"&Master!A7&"*")+COUNTIF($B$9:$G$9,"*"&Master!A7&"*")+COUNTIF($B$10:$G$10,"*"&Master!A7&"*")+COUNTIF($B$11:$G$11,"*"&Master!A7&"*")+COUNTIF($B$12:$G$12,"*"&Master!A7&"*") -> 0 | P10: =COUNTIF($B$4:$G$4,"*"&Master!A7&"*")+COUNTIF($B$5:$G$5,"*"&Master!A7&"*")+COUNTIF($B$6:$G$6,"*"&Master!A7&"*") -> 0 | Q10: =COUNTIF($B$13:$G$13,"*"&Master!A7&"*")+COUNTIF($B$14:$G$14,"*"&Master!A7&"*")+COUNTIF($B$15:$G$15,"*"&Master!A7&"*")+COUNTIF($B$16:$G$16,"*"&Master!A7&"*") -> 0 | R10: =SUM(O10:Q10) -> 0 | Z10: =COUNTIF($L$7:$L$12,Master!A10) -> 0
A11: Catcher | I11: 7 | N11: =Master!C8 -> Player 7 (#) | O11: =COUNTIF($B$7:$G$7,"*"&Master!A8&"*")+COUNTIF($B$8:$G$8,"*"&Master!A8&"*")+COUNTIF($B$9:$G$9,"*"&Master!A8&"*")+COUNTIF($B$10:$G$10,"*"&Master!A8&"*")+COUNTIF($B$11:$G$11,"*"&Master!A8&"*")+COUNTIF($B$12:$G$12,"*"&Master!A8&"*") -> 0 | P11: =COUNTIF($B$4:$G$4,"*"&Master!A8&"*")+COUNTIF($B$5:$G$5,"*"&Master!A8&"*")+COUNTIF($B$6:$G$6,"*"&Master!A8&"*") -> 0 | Q11: =COUNTIF($B$13:$G$13,"*"&Master!A8&"*")+COUNTIF($B$14:$G$14,"*"&Master!A8&"*")+COUNTIF($B$15:$G$15,"*"&Master!A8&"*")+COUNTIF($B$16:$G$16,"*"&Master!A8&"*") -> 0 | R11: =SUM(O11:Q11) -> 0 | Z11: =COUNTIF($L$7:$L$12,Master!A11) -> 0
A12: Pitcher | I12: 8 | N12: =Master!C9 -> Player 8 (#) | O12: =COUNTIF($B$7:$G$7,"*"&Master!A9&"*")+COUNTIF($B$8:$G$8,"*"&Master!A9&"*")+COUNTIF($B$9:$G$9,"*"&Master!A9&"*")+COUNTIF($B$10:$G$10,"*"&Master!A9&"*")+COUNTIF($B$11:$G$11,"*"&Master!A9&"*")+COUNTIF($B$12:$G$12,"*"&Master!A9&"*") -> 0 | P12: =COUNTIF($B$4:$G$4,"*"&Master!A9&"*")+COUNTIF($B$5:$G$5,"*"&Master!A9&"*")+COUNTIF($B$6:$G$6,"*"&Master!A9&"*") -> 0 | Q12: =COUNTIF($B$13:$G$13,"*"&Master!A9&"*")+COUNTIF($B$14:$G$14,"*"&Master!A9&"*")+COUNTIF($B$15:$G$15,"*"&Master!A9&"*")+COUNTIF($B$16:$G$16,"*"&Master!A9&"*") -> 0 | R12: =SUM(O12:Q12) -> 0 | Z12: =COUNTIF($L$7:$L$12,Master!A12) -> 0
A13: Bench 1 | I13: 9 | N13: =Master!C10 -> Player 9 (#) | O13: =COUNTIF($B$7:$G$7,"*"&Master!A10&"*")+COUNTIF($B$8:$G$8,"*"&Master!A10&"*")+COUNTIF($B$9:$G$9,"*"&Master!A10&"*")+COUNTIF($B$10:$G$10,"*"&Master!A10&"*")+COUNTIF($B$11:$G$11,"*"&Master!A10&"*")+COUNTIF($B$12:$G$12,"*"&Master!A10&"*") -> 0 | P13: =COUNTIF($B$4:$G$4,"*"&Master!A10&"*")+COUNTIF($B$5:$G$5,"*"&Master!A10&"*")+COUNTIF($B$6:$G$6,"*"&Master!A10&"*") -> 0 | Q13: =COUNTIF($B$13:$G$13,"*"&Master!A10&"*")+COUNTIF($B$14:$G$14,"*"&Master!A10&"*")+COUNTIF($B$15:$G$15,"*"&Master!A10&"*")+COUNTIF($B$16:$G$16,"*"&Master!A10&"*") -> 0 | R13: =SUM(O13:Q13) -> 0 | Z13: =COUNTIF($L$7:$L$12,Master!A13) -> 0
A14: Bench 2 | I14: 10 | L14: Player of the Game | N14: =Master!C11 -> Player 10 (#) | O14: =COUNTIF($B$7:$G$7,"*"&Master!A11&"*")+COUNTIF($B$8:$G$8,"*"&Master!A11&"*")+COUNTIF($B$9:$G$9,"*"&Master!A11&"*")+COUNTIF($B$10:$G$10,"*"&Master!A11&"*")+COUNTIF($B$11:$G$11,"*"&Master!A11&"*")+COUNTIF($B$12:$G$12,"*"&Master!A11&"*") -> 0 | P14: =COUNTIF($B$4:$G$4,"*"&Master!A11&"*")+COUNTIF($B$5:$G$5,"*"&Master!A11&"*")+COUNTIF($B$6:$G$6,"*"&Master!A11&"*") -> 0 | Q14: =COUNTIF($B$13:$G$13,"*"&Master!A11&"*")+COUNTIF($B$14:$G$14,"*"&Master!A11&"*")+COUNTIF($B$15:$G$15,"*"&Master!A11&"*")+COUNTIF($B$16:$G$16,"*"&Master!A11&"*") -> 0 | R14: =SUM(O14:Q14) -> 0 | Z14: =COUNTIF($L$7:$L$12,Master!A14) -> 0
A15: Bench 3 | I15: 11 | N15: =Master!C12 -> Player 11 (#) | O15: =COUNTIF($B$7:$G$7,"*"&Master!A12&"*")+COUNTIF($B$8:$G$8,"*"&Master!A12&"*")+COUNTIF($B$9:$G$9,"*"&Master!A12&"*")+COUNTIF($B$10:$G$10,"*"&Master!A12&"*")+COUNTIF($B$11:$G$11,"*"&Master!A12&"*")+COUNTIF($B$12:$G$12,"*"&Master!A12&"*") -> 0 | P15: =COUNTIF($B$4:$G$4,"*"&Master!A12&"*")+COUNTIF($B$5:$G$5,"*"&Master!A12&"*")+COUNTIF($B$6:$G$6,"*"&Master!A12&"*") -> 0 | Q15: =COUNTIF($B$13:$G$13,"*"&Master!A12&"*")+COUNTIF($B$14:$G$14,"*"&Master!A12&"*")+COUNTIF($B$15:$G$15,"*"&Master!A12&"*")+COUNTIF($B$16:$G$16,"*"&Master!A12&"*") -> 0 | R15: =SUM(O15:Q15) -> 0
A16: Bench 4 | I16: 12 | N16: =Master!C13 -> Player 12 (#) | O16: =COUNTIF($B$7:$G$7,"*"&Master!A13&"*")+COUNTIF($B$8:$G$8,"*"&Master!A13&"*")+COUNTIF($B$9:$G$9,"*"&Master!A13&"*")+COUNTIF($B$10:$G$10,"*"&Master!A13&"*")+COUNTIF($B$11:$G$11,"*"&Master!A13&"*")+COUNTIF($B$12:$G$12,"*"&Master!A13&"*") -> 0 | P16: =COUNTIF($B$4:$G$4,"*"&Master!A13&"*")+COUNTIF($B$5:$G$5,"*"&Master!A13&"*")+COUNTIF($B$6:$G$6,"*"&Master!A13&"*") -> 0 | Q16: =COUNTIF($B$13:$G$13,"*"&Master!A13&"*")+COUNTIF($B$14:$G$14,"*"&Master!A13&"*")+COUNTIF($B$15:$G$15,"*"&Master!A13&"*")+COUNTIF($B$16:$G$16,"*"&Master!A13&"*") -> 0 | R16: =SUM(O16:Q16) -> 0
I17: 13 | N17: =Master!C14 -> Player 13 (#) | O17: =COUNTIF($B$7:$G$7,"*"&Master!A14&"*")+COUNTIF($B$8:$G$8,"*"&Master!A14&"*")+COUNTIF($B$9:$G$9,"*"&Master!A14&"*")+COUNTIF($B$10:$G$10,"*"&Master!A14&"*")+COUNTIF($B$11:$G$11,"*"&Master!A14&"*")+COUNTIF($B$12:$G$12,"*"&Master!A14&"*") -> 0 | P17: =COUNTIF($B$4:$G$4,"*"&Master!A14&"*")+COUNTIF($B$5:$G$5,"*"&Master!A14&"*")+COUNTIF($B$6:$G$6,"*"&Master!A14&"*") -> 0 | Q17: =COUNTIF($B$13:$G$13,"*"&Master!A14&"*")+COUNTIF($B$14:$G$14,"*"&Master!A14&"*")+COUNTIF($B$15:$G$15,"*"&Master!A14&"*")+COUNTIF($B$16:$G$16,"*"&Master!A14&"*") -> 0 | R17: =SUM(O17:Q17) -> 0
N18: Totals | O18: =SUM(O5:O17) -> 0 | P18: =SUM(P5:P17) -> 0 | Q18: =SUM(Q5:Q17) -> 0 | R18: =SUM(R5:R17) -> 0
B20: https://freebaseballlineups.com/lineups.html

Sheet Game 4
A1: Game 4 Defensive Lineup | Z1: Absence Helper
Z2: =COUNTIF($L$7:$L$12,Master!A2) -> 0
A3: Position | B3: 1 | C3: 2 | D3: 3 | E3: 4 | F3: 5 | G3: 6 | I3: Batting Order | L3: Players Available | N3: Player Game Summary | Z3: =COUNTIF($L$7:$L$12,Master!A3) -> 0
A4: Left Field | I4: Spot | J4: Player | N4: Player | O4: Infield | P4: Outfield | Q4: Bench | R4: Total | Z4: =COUNTIF($L$7:$L$12,Master!A4) -> 0
A5: Center Field | I5: 1 | N5: =Master!C2 -> Player 1 (#) | O5: =COUNTIF($B$7:$G$7,"*"&Master!A2&"*")+COUNTIF($B$8:$G$8,"*"&Master!A2&"*")+COUNTIF($B$9:$G$9,"*"&Master!A2&"*")+COUNTIF($B$10:$G$10,"*"&Master!A2&"*")+COUNTIF($B$11:$G$11,"*"&Master!A2&"*")+COUNTIF($B$12:$G$12,"*"&Master!A2&"*") -> 0 | P5: =COUNTIF($B$4:$G$4,"*"&Master!A2&"*")+COUNTIF($B$5:$G$5,"*"&Master!A2&"*")+COUNTIF($B$6:$G$6,"*"&Master!A2&"*") -> 0 | Q5: =COUNTIF($B$13:$G$13,"*"&Master!A2&"*")+COUNTIF($B$14:$G$14,"*"&Master!A2&"*")+COUNTIF($B$15:$G$15,"*"&Master!A2&"*")+COUNTIF($B$16:$G$16,"*"&Master!A2&"*") -> 0 | R5: =SUM(O5:Q5) -> 0 | Z5: =COUNTIF($L$7:$L$12,Master!A5) -> 0
A6: Right Field | I6: 2 | L6: Absent Players | N6: =Master!C3 -> Player 2 (#) | O6: =COUNTIF($B$7:$G$7,"*"&Master!A3&"*")+COUNTIF($B$8:$G$8,"*"&Master!A3&"*")+COUNTIF($B$9:$G$9,"*"&Master!A3&"*")+COUNTIF($B$10:$G$10,"*"&Master!A3&"*")+COUNTIF($B$11:$G$11,"*"&Master!A3&"*")+COUNTIF($B$12:$G$12,"*"&Master!A3&"*") -> 0 | P6: =COUNTIF($B$4:$G$4,"*"&Master!A3&"*")+COUNTIF($B$5:$G$5,"*"&Master!A3&"*")+COUNTIF($B$6:$G$6,"*"&Master!A3&"*") -> 0 | Q6: =COUNTIF($B$13:$G$13,"*"&Master!A3&"*")+COUNTIF($B$14:$G$14,"*"&Master!A3&"*")+COUNTIF($B$15:$G$15,"*"&Master!A3&"*")+COUNTIF($B$16:$G$16,"*"&Master!A3&"*") -> 0 | R6: =SUM(O6:Q6) -> 0 | Z6: =COUNTIF($L$7:$L$12,Master!A6) -> 0
A7: Third Base | I7: 3 | N7: =Master!C4 -> Player 3 (#) | O7: =COUNTIF($B$7:$G$7,"*"&Master!A4&"*")+COUNTIF($B$8:$G$8,"*"&Master!A4&"*")+COUNTIF($B$9:$G$9,"*"&Master!A4&"*")+COUNTIF($B$10:$G$10,"*"&Master!A4&"*")+COUNTIF($B$11:$G$11,"*"&Master!A4&"*")+COUNTIF($B$12:$G$12,"*"&Master!A4&"*") -> 0 | P7: =COUNTIF($B$4:$G$4,"*"&Master!A4&"*")+COUNTIF($B$5:$G$5,"*"&Master!A4&"*")+COUNTIF($B$6:$G$6,"*"&Master!A4&"*") -> 0 | Q7: =COUNTIF($B$13:$G$13,"*"&Master!A4&"*")+COUNTIF($B$14:$G$14,"*"&Master!A4&"*")+COUNTIF($B$15:$G$15,"*"&Master!A4&"*")+COUNTIF($B$16:$G$16,"*"&Master!A4&"*") -> 0 | R7: =SUM(O7:Q7) -> 0 | Z7: =COUNTIF($L$7:$L$12,Master!A7) -> 0
A8: Shortstop | I8: 4 | N8: =Master!C5 -> Player 4 (#) | O8: =COUNTIF($B$7:$G$7,"*"&Master!A5&"*")+COUNTIF($B$8:$G$8,"*"&Master!A5&"*")+COUNTIF($B$9:$G$9,"*"&Master!A5&"*")+COUNTIF($B$10:$G$10,"*"&Master!A5&"*")+COUNTIF($B$11:$G$11,"*"&Master!A5&"*")+COUNTIF($B$12:$G$12,"*"&Master!A5&"*") -> 0 | P8: =COUNTIF($B$4:$G$4,"*"&Master!A5&"*")+COUNTIF($B$5:$G$5,"*"&Master!A5&"*")+COUNTIF($B$6:$G$6,"*"&Master!A5&"*") -> 0 | Q8: =COUNTIF($B$13:$G$13,"*"&Master!A5&"*")+COUNTIF($B$14:$G$14,"*"&Master!A5&"*")+COUNTIF($B$15:$G$15,"*"&Master!A5&"*")+COUNTIF($B$16:$G$16,"*"&Master!A5&"*") -> 0 | R8: =SUM(O8:Q8) -> 0 | Z8: =COUNTIF($L$7:$L$12,Master!A8) -> 0
A9: Second Base | I9: 5 | N9: =Master!C6 -> Player 5 (#) | O9: =COUNTIF($B$7:$G$7,"*"&Master!A6&"*")+COUNTIF($B$8:$G$8,"*"&Master!A6&"*")+COUNTIF($B$9:$G$9,"*"&Master!A6&"*")+COUNTIF($B$10:$G$10,"*"&Master!A6&"*")+COUNTIF($B$11:$G$11,"*"&Master!A6&"*")+COUNTIF($B$12:$G$12,"*"&Master!A6&"*") -> 0 | P9: =COUNTIF($B$4:$G$4,"*"&Master!A6&"*")+COUNTIF($B$5:$G$5,"*"&Master!A6&"*")+COUNTIF($B$6:$G$6,"*"&Master!A6&"*") -> 0 | Q9: =COUNTIF($B$13:$G$13,"*"&Master!A6&"*")+COUNTIF($B$14:$G$14,"*"&Master!A6&"*")+COUNTIF($B$15:$G$15,"*"&Master!A6&"*")+COUNTIF($B$16:$G$16,"*"&Master!A6&"*") -> 0 | R9: =SUM(O9:Q9) -> 0 | Z9: =COUNTIF($L$7:$L$12,Master!A9) -> 0
A10: First Base | I10: 6 | N10: =Master!C7 -> Player 6 (#) | O10: =COUNTIF($B$7:$G$7,"*"&Master!A7&"*")+COUNTIF($B$8:$G$8,"*"&Master!A7&"*")+COUNTIF($B$9:$G$9,"*"&Master!A7&"*")+COUNTIF($B$10:$G$10,"*"&Master!A7&"*")+COUNTIF($B$11:$G$11,"*"&Master!A7&"*")+COUNTIF($B$12:$G$12,"*"&Master!A7&"*") -> 0 | P10: =COUNTIF($B$4:$G$4,"*"&Master!A7&"*")+COUNTIF($B$5:$G$5,"*"&Master!A7&"*")+COUNTIF($B$6:$G$6,"*"&Master!A7&"*") -> 0 | Q10: =COUNTIF($B$13:$G$13,"*"&Master!A7&"*")+COUNTIF($B$14:$G$14,"*"&Master!A7&"*")+COUNTIF($B$15:$G$15,"*"&Master!A7&"*")+COUNTIF($B$16:$G$16,"*"&Master!A7&"*") -> 0 | R10: =SUM(O10:Q10) -> 0 | Z10: =COUNTIF($L$7:$L$12,Master!A10) -> 0
A11: Catcher | I11: 7 | N11: =Master!C8 -> Player 7 (#) | O11: =COUNTIF($B$7:$G$7,"*"&Master!A8&"*")+COUNTIF($B$8:$G$8,"*"&Master!A8&"*")+COUNTIF($B$9:$G$9,"*"&Master!A8&"*")+COUNTIF($B$10:$G$10,"*"&Master!A8&"*")+COUNTIF($B$11:$G$11,"*"&Master!A8&"*")+COUNTIF($B$12:$G$12,"*"&Master!A8&"*") -> 0 | P11: =COUNTIF($B$4:$G$4,"*"&Master!A8&"*")+COUNTIF($B$5:$G$5,"*"&Master!A8&"*")+COUNTIF($B$6:$G$6,"*"&Master!A8&"*") -> 0 | Q11: =COUNTIF($B$13:$G$13,"*"&Master!A8&"*")+COUNTIF($B$14:$G$14,"*"&Master!A8&"*")+COUNTIF($B$15:$G$15,"*"&Master!A8&"*")+COUNTIF($B$16:$G$16,"*"&Master!A8&"*") -> 0 | R11: =SUM(O11:Q11) -> 0 | Z11: =COUNTIF($L$7:$L$12,Master!A11) -> 0
A12: Pitcher | I12: 8 | N12: =Master!C9 -> Player 8 (#) | O12: =COUNTIF($B$7:$G$7,"*"&Master!A9&"*")+COUNTIF($B$8:$G$8,"*"&Master!A9&"*")+COUNTIF($B$9:$G$9,"*"&Master!A9&"*")+COUNTIF($B$10:$G$10,"*"&Master!A9&"*")+COUNTIF($B$11:$G$11,"*"&Master!A9&"*")+COUNTIF($B$12:$G$12,"*"&Master!A9&"*") -> 0 | P12: =COUNTIF($B$4:$G$4,"*"&Master!A9&"*")+COUNTIF($B$5:$G$5,"*"&Master!A9&"*")+COUNTIF($B$6:$G$6,"*"&Master!A9&"*") -> 0 | Q12: =COUNTIF($B$13:$G$13,"*"&Master!A9&"*")+COUNTIF($B$14:$G$14,"*"&Master!A9&"*")+COUNTIF($B$15:$G$15,"*"&Master!A9&"*")+COUNTIF($B$16:$G$16,"*"&Master!A9&"*") -> 0 | R12: =SUM(O12:Q12) -> 0 | Z12: =COUNTIF($L$7:$L$12,Master!A12) -> 0
A13: Bench 1 | I13: 9 | N13: =Master!C10 -> Player 9 (#) | O13: =COUNTIF($B$7:$G$7,"*"&Master!A10&"*")+COUNTIF($B$8:$G$8,"*"&Master!A10&"*")+COUNTIF($B$9:$G$9,"*"&Master!A10&"*")+COUNTIF($B$10:$G$10,"*"&Master!A10&"*")+COUNTIF($B$11:$G$11,"*"&Master!A10&"*")+COUNTIF($B$12:$G$12,"*"&Master!A10&"*") -> 0 | P13: =COUNTIF($B$4:$G$4,"*"&Master!A10&"*")+COUNTIF($B$5:$G$5,"*"&Master!A10&"*")+COUNTIF($B$6:$G$6,"*"&Master!A10&"*") -> 0 | Q13: =COUNTIF($B$13:$G$13,"*"&Master!A10&"*")+COUNTIF($B$14:$G$14,"*"&Master!A10&"*")+COUNTIF($B$15:$G$15,"*"&Master!A10&"*")+COUNTIF($B$16:$G$16,"*"&Master!A10&"*") -> 0 | R13: =SUM(O13:Q13) -> 0 | Z13: =COUNTIF($L$7:$L$12,Master!A13) -> 0
A14: Bench 2 | I14: 10 | L14: Player of the Game | N14: =Master!C11 -> Player 10 (#) | O14: =COUNTIF($B$7:$G$7,"*"&Master!A11&"*")+COUNTIF($B$8:$G$8,"*"&Master!A11&"*")+COUNTIF($B$9:$G$9,"*"&Master!A11&"*")+COUNTIF($B$10:$G$10,"*"&Master!A11&"*")+COUNTIF($B$11:$G$11,"*"&Master!A11&"*")+COUNTIF($B$12:$G$12,"*"&Master!A11&"*") -> 0 | P14: =COUNTIF($B$4:$G$4,"*"&Master!A11&"*")+COUNTIF($B$5:$G$5,"*"&Master!A11&"*")+COUNTIF($B$6:$G$6,"*"&Master!A11&"*") -> 0 | Q14: =COUNTIF($B$13:$G$13,"*"&Master!A11&"*")+COUNTIF($B$14:$G$14,"*"&Master!A11&"*")+COUNTIF($B$15:$G$15,"*"&Master!A11&"*")+COUNTIF($B$16:$G$16,"*"&Master!A11&"*") -> 0 | R14: =SUM(O14:Q14) -> 0 | Z14: =COUNTIF($L$7:$L$12,Master!A14) -> 0
A15: Bench 3 | I15: 11 | N15: =Master!C12 -> Player 11 (#) | O15: =COUNTIF($B$7:$G$7,"*"&Master!A12&"*")+COUNTIF($B$8:$G$8,"*"&Master!A12&"*")+COUNTIF($B$9:$G$9,"*"&Master!A12&"*")+COUNTIF($B$10:$G$10,"*"&Master!A12&"*")+COUNTIF($B$11:$G$11,"*"&Master!A12&"*")+COUNTIF($B$12:$G$12,"*"&Master!A12&"*") -> 0 | P15: =COUNTIF($B$4:$G$4,"*"&Master!A12&"*")+COUNTIF($B$5:$G$5,"*"&Master!A12&"*")+COUNTIF($B$6:$G$6,"*"&Master!A12&"*") -> 0 | Q15: =COUNTIF($B$13:$G$13,"*"&Master!A12&"*")+COUNTIF($B$14:$G$14,"*"&Master!A12&"*")+COUNTIF($B$15:$G$15,"*"&Master!A12&"*")+COUNTIF($B$16:$G$16,"*"&Master!A12&"*") -> 0 | R15: =SUM(O15:Q15) -> 0
A16: Bench 4 | I16: 12 | N16: =Master!C13 -> Player 12 (#) | O16: =COUNTIF($B$7:$G$7,"*"&Master!A13&"*")+COUNTIF($B$8:$G$8,"*"&Master!A13&"*")+COUNTIF($B$9:$G$9,"*"&Master!A13&"*")+COUNTIF($B$10:$G$10,"*"&Master!A13&"*")+COUNTIF($B$11:$G$11,"*"&Master!A13&"*")+COUNTIF($B$12:$G$12,"*"&Master!A13&"*") -> 0 | P16: =COUNTIF($B$4:$G$4,"*"&Master!A13&"*")+COUNTIF($B$5:$G$5,"*"&Master!A13&"*")+COUNTIF($B$6:$G$6,"*"&Master!A13&"*") -> 0 | Q16: =COUNTIF($B$13:$G$13,"*"&Master!A13&"*")+COUNTIF($B$14:$G$14,"*"&Master!A13&"*")+COUNTIF($B$15:$G$15,"*"&Master!A13&"*")+COUNTIF($B$16:$G$16,"*"&Master!A13&"*") -> 0 | R16: =SUM(O16:Q16) -> 0
I17: 13 | N17: =Master!C14 -> Player 13 (#) | O17: =COUNTIF($B$7:$G$7,"*"&Master!A14&"*")+COUNTIF($B$8:$G$8,"*"&Master!A14&"*")+COUNTIF($B$9:$G$9,"*"&Master!A14&"*")+COUNTIF($B$10:$G$10,"*"&Master!A14&"*")+COUNTIF($B$11:$G$11,"*"&Master!A14&"*")+COUNTIF($B$12:$G$12,"*"&Master!A14&"*") -> 0 | P17: =COUNTIF($B$4:$G$4,"*"&Master!A14&"*")+COUNTIF($B$5:$G$5,"*"&Master!A14&"*")+COUNTIF($B$6:$G$6,"*"&Master!A14&"*") -> 0 | Q17: =COUNTIF($B$13:$G$13,"*"&Master!A14&"*")+COUNTIF($B$14:$G$14,"*"&Master!A14&"*")+COUNTIF($B$15:$G$15,"*"&Master!A14&"*")+COUNTIF($B$16:$G$16,"*"&Master!A14&"*") -> 0 | R17: =SUM(O17:Q17) -> 0
N18: Totals | O18: =SUM(O5:O17) -> 0 | P18: =SUM(P5:P17) -> 0 | Q18: =SUM(Q5:Q17) -> 0 | R18: =SUM(R5:R17) -> 0
B20: https://freebaseballlineups.com/lineups.html

Sheet Game 5
A1: Game 5 Defensive Lineup | Z1: Absence Helper
Z2: =COUNTIF($L$7:$L$12,Master!A2) -> 0
A3: Position | B3: 1 | C3: 2 | D3: 3 | E3: 4 | F3: 5 | G3: 6 | I3: Batting Order | L3: Players Available | N3: Player Game Summary | Z3: =COUNTIF($L$7:$L$12,Master!A3) -> 0
A4: Left Field | I4: Spot | J4: Player | N4: Player | O4: Infield | P4: Outfield | Q4: Bench | R4: Total | Z4: =COUNTIF($L$7:$L$12,Master!A4) -> 0
A5: Center Field | I5: 1 | N5: =Master!C2 -> Player 1 (#) | O5: =COUNTIF($B$7:$G$7,"*"&Master!A2&"*")+COUNTIF($B$8:$G$8,"*"&Master!A2&"*")+COUNTIF($B$9:$G$9,"*"&Master!A2&"*")+COUNTIF($B$10:$G$10,"*"&Master!A2&"*")+COUNTIF($B$11:$G$11,"*"&Master!A2&"*")+COUNTIF($B$12:$G$12,"*"&Master!A2&"*") -> 0 | P5: =COUNTIF($B$4:$G$4,"*"&Master!A2&"*")+COUNTIF($B$5:$G$5,"*"&Master!A2&"*")+COUNTIF($B$6:$G$6,"*"&Master!A2&"*") -> 0 | Q5: =COUNTIF($B$13:$G$13,"*"&Master!A2&"*")+COUNTIF($B$14:$G$14,"*"&Master!A2&"*")+COUNTIF($B$15:$G$15,"*"&Master!A2&"*")+COUNTIF($B$16:$G$16,"*"&Master!A2&"*") -> 0 | R5: =SUM(O5:Q5) -> 0 | Z5: =COUNTIF($L$7:$L$12,Master!A5) -> 0
A6: Right Field | I6: 2 | L6: Absent Players | N6: =Master!C3 -> Player 2 (#) | O6: =COUNTIF($B$7:$G$7,"*"&Master!A3&"*")+COUNTIF($B$8:$G$8,"*"&Master!A3&"*")+COUNTIF($B$9:$G$9,"*"&Master!A3&"*")+COUNTIF($B$10:$G$10,"*"&Master!A3&"*")+COUNTIF($B$11:$G$11,"*"&Master!A3&"*")+COUNTIF($B$12:$G$12,"*"&Master!A3&"*") -> 0 | P6: =COUNTIF($B$4:$G$4,"*"&Master!A3&"*")+COUNTIF($B$5:$G$5,"*"&Master!A3&"*")+COUNTIF($B$6:$G$6,"*"&Master!A3&"*") -> 0 | Q6: =COUNTIF($B$13:$G$13,"*"&Master!A3&"*")+COUNTIF($B$14:$G$14,"*"&Master!A3&"*")+COUNTIF($B$15:$G$15,"*"&Master!A3&"*")+COUNTIF($B$16:$G$16,"*"&Master!A3&"*") -> 0 | R6: =SUM(O6:Q6) -> 0 | Z6: =COUNTIF($L$7:$L$12,Master!A6) -> 0
A7: Third Base | I7: 3 | N7: =Master!C4 -> Player 3 (#) | O7: =COUNTIF($B$7:$G$7,"*"&Master!A4&"*")+COUNTIF($B$8:$G$8,"*"&Master!A4&"*")+COUNTIF($B$9:$G$9,"*"&Master!A4&"*")+COUNTIF($B$10:$G$10,"*"&Master!A4&"*")+COUNTIF($B$11:$G$11,"*"&Master!A4&"*")+COUNTIF($B$12:$G$12,"*"&Master!A4&"*") -> 0 | P7: =COUNTIF($B$4:$G$4,"*"&Master!A4&"*")+COUNTIF($B$5:$G$5,"*"&Master!A4&"*")+COUNTIF($B$6:$G$6,"*"&Master!A4&"*") -> 0 | Q7: =COUNTIF($B$13:$G$13,"*"&Master!A4&"*")+COUNTIF($B$14:$G$14,"*"&Master!A4&"*")+COUNTIF($B$15:$G$15,"*"&Master!A4&"*")+COUNTIF($B$16:$G$16,"*"&Master!A4&"*") -> 0 | R7: =SUM(O7:Q7) -> 0 | Z7: =COUNTIF($L$7:$L$12,Master!A7) -> 0
A8: Shortstop | I8: 4 | N8: =Master!C5 -> Player 4 (#) | O8: =COUNTIF($B$7:$G$7,"*"&Master!A5&"*")+COUNTIF($B$8:$G$8,"*"&Master!A5&"*")+COUNTIF($B$9:$G$9,"*"&Master!A5&"*")+COUNTIF($B$10:$G$10,"*"&Master!A5&"*")+COUNTIF($B$11:$G$11,"*"&Master!A5&"*")+COUNTIF($B$12:$G$12,"*"&Master!A5&"*") -> 0 | P8: =COUNTIF($B$4:$G$4,"*"&Master!A5&"*")+COUNTIF($B$5:$G$5,"*"&Master!A5&"*")+COUNTIF($B$6:$G$6,"*"&Master!A5&"*") -> 0 | Q8: =COUNTIF($B$13:$G$13,"*"&Master!A5&"*")+COUNTIF($B$14:$G$14,"*"&Master!A5&"*")+COUNTIF($B$15:$G$15,"*"&Master!A5&"*")+COUNTIF($B$16:$G$16,"*"&Master!A5&"*") -> 0 | R8: =SUM(O8:Q8) -> 0 | Z8: =COUNTIF($L$7:$L$12,Master!A8) -> 0
A9: Second Base | I9: 5 | N9: =Master!C6 -> Player 5 (#) | O9: =COUNTIF($B$7:$G$7,"*"&Master!A6&"*")+COUNTIF($B$8:$G$8,"*"&Master!A6&"*")+COUNTIF($B$9:$G$9,"*"&Master!A6&"*")+COUNTIF($B$10:$G$10,"*"&Master!A6&"*")+COUNTIF($B$11:$G$11,"*"&Master!A6&"*")+COUNTIF($B$12:$G$12,"*"&Master!A6&"*") -> 0 | P9: =COUNTIF($B$4:$G$4,"*"&Master!A6&"*")+COUNTIF($B$5:$G$5,"*"&Master!A6&"*")+COUNTIF($B$6:$G$6,"*"&Master!A6&"*") -> 0 | Q9: =COUNTIF($B$13:$G$13,"*"&Master!A6&"*")+COUNTIF($B$14:$G$14,"*"&Master!A6&"*")+COUNTIF($B$15:$G$15,"*"&Master!A6&"*")+COUNTIF($B$16:$G$16,"*"&Master!A6&"*") -> 0 | R9: =SUM(O9:Q9) -> 0 | Z9: =COUNTIF($L$7:$L$12,Master!A9) -> 0
A10: First Base | I10: 6 | N10: =Master!C7 -> Player 6 (#) | O10: =COUNTIF($B$7:$G$7,"*"&Master!A7&"*")+COUNTIF($B$8:$G$8,"*"&Master!A7&"*")+COUNTIF($B$9:$G$9,"*"&Master!A7&"*")+COUNTIF($B$10:$G$10,"*"&Master!A7&"*")+COUNTIF($B$11:$G$11,"*"&Master!A7&"*")+COUNTIF($B$12:$G$12,"*"&Master!A7&"*") -> 0 | P10: =COUNTIF($B$4:$G$4,"*"&Master!A7&"*")+COUNTIF($B$5:$G$5,"*"&Master!A7&"*")+COUNTIF($B$6:$G$6,"*"&Master!A7&"*") -> 0 | Q10: =COUNTIF($B$13:$G$13,"*"&Master!A7&"*")+COUNTIF($B$14:$G$14,"*"&Master!A7&"*")+COUNTIF($B$15:$G$15,"*"&Master!A7&"*")+COUNTIF($B$16:$G$16,"*"&Master!A7&"*") -> 0 | R10: =SUM(O10:Q10) -> 0 | Z10: =COUNTIF($L$7:$L$12,Master!A10) -> 0
A11: Catcher | I11: 7 | N11: =Master!C8 -> Player 7 (#) | O11: =COUNTIF($B$7:$G$7,"*"&Master!A8&"*")+COUNTIF($B$8:$G$8,"*"&Master!A8&"*")+COUNTIF($B$9:$G$9,"*"&Master!A8&"*")+COUNTIF($B$10:$G$10,"*"&Master!A8&"*")+COUNTIF($B$11:$G$11,"*"&Master!A8&"*")+COUNTIF($B$12:$G$12,"*"&Master!A8&"*") -> 0 | P11: =COUNTIF($B$4:$G$4,"*"&Master!A8&"*")+COUNTIF($B$5:$G$5,"*"&Master!A8&"*")+COUNTIF($B$6:$G$6,"*"&Master!A8&"*") -> 0 | Q11: =COUNTIF($B$13:$G$13,"*"&Master!A8&"*")+COUNTIF($B$14:$G$14,"*"&Master!A8&"*")+COUNTIF($B$15:$G$15,"*"&Master!A8&"*")+COUNTIF($B$16:$G$16,"*"&Master!A8&"*") -> 0 | R11: =SUM(O11:Q11) -> 0 | Z11: =COUNTIF($L$7:$L$12,Master!A11) -> 0
A12: Pitcher | I12: 8 | N12: =Master!C9 -> Player 8 (#) | O12: =COUNTIF($B$7:$G$7,"*"&Master!A9&"*")+COUNTIF($B$8:$G$8,"*"&Master!A9&"*")+COUNTIF($B$9:$G$9,"*"&Master!A9&"*")+COUNTIF($B$10:$G$10,"*"&Master!A9&"*")+COUNTIF($B$11:$G$11,"*"&Master!A9&"*")+COUNTIF($B$12:$G$12,"*"&Master!A9&"*") -> 0 | P12: =COUNTIF($B$4:$G$4,"*"&Master!A9&"*")+COUNTIF($B$5:$G$5,"*"&Master!A9&"*")+COUNTIF($B$6:$G$6,"*"&Master!A9&"*") -> 0 | Q12: =COUNTIF($B$13:$G$13,"*"&Master!A9&"*")+COUNTIF($B$14:$G$14,"*"&Master!A9&"*")+COUNTIF($B$15:$G$15,"*"&Master!A9&"*")+COUNTIF($B$16:$G$16,"*"&Master!A9&"*") -> 0 | R12: =SUM(O12:Q12) -> 0 | Z12: =COUNTIF($L$7:$L$12,Master!A12) -> 0
A13: Bench 1 | I13: 9 | N13: =Master!C10 -> Player 9 (#) | O13: =COUNTIF($B$7:$G$7,"*"&Master!A10&"*")+COUNTIF($B$8:$G$8,"*"&Master!A10&"*")+COUNTIF($B$9:$G$9,"*"&Master!A10&"*")+COUNTIF($B$10:$G$10,"*"&Master!A10&"*")+COUNTIF($B$11:$G$11,"*"&Master!A10&"*")+COUNTIF($B$12:$G$12,"*"&Master!A10&"*") -> 0 | P13: =COUNTIF($B$4:$G$4,"*"&Master!A10&"*")+COUNTIF($B$5:$G$5,"*"&Master!A10&"*")+COUNTIF($B$6:$G$6,"*"&Master!A10&"*") -> 0 | Q13: =COUNTIF($B$13:$G$13,"*"&Master!A10&"*")+COUNTIF($B$14:$G$14,"*"&Master!A10&"*")+COUNTIF($B$15:$G$15,"*"&Master!A10&"*")+COUNTIF($B$16:$G$16,"*"&Master!A10&"*") -> 0 | R13: =SUM(O13:Q13) -> 0 | Z13: =COUNTIF($L$7:$L$12,Master!A13) -> 0
A14: Bench 2 | I14: 10 | L14: Player of the Game | N14: =Master!C11 -> Player 10 (#) | O14: =COUNTIF($B$7:$G$7,"*"&Master!A11&"*")+COUNTIF($B$8:$G$8,"*"&Master!A11&"*")+COUNTIF($B$9:$G$9,"*"&Master!A11&"*")+COUNTIF($B$10:$G$10,"*"&Master!A11&"*")+COUNTIF($B$11:$G$11,"*"&Master!A11&"*")+COUNTIF($B$12:$G$12,"*"&Master!A11&"*") -> 0 | P14: =COUNTIF($B$4:$G$4,"*"&Master!A11&"*")+COUNTIF($B$5:$G$5,"*"&Master!A11&"*")+COUNTIF($B$6:$G$6,"*"&Master!A11&"*") -> 0 | Q14: =COUNTIF($B$13:$G$13,"*"&Master!A11&"*")+COUNTIF($B$14:$G$14,"*"&Master!A11&"*")+COUNTIF($B$15:$G$15,"*"&Master!A11&"*")+COUNTIF($B$16:$G$16,"*"&Master!A11&"*") -> 0 | R14: =SUM(O14:Q14) -> 0 | Z14: =COUNTIF($L$7:$L$12,Master!A14) -> 0
A15: Bench 3 | I15: 11 | N15: =Master!C12 -> Player 11 (#) | O15: =COUNTIF($B$7:$G$7,"*"&Master!A12&"*")+COUNTIF($B$8:$G$8,"*"&Master!A12&"*")+COUNTIF($B$9:$G$9,"*"&Master!A12&"*")+COUNTIF($B$10:$G$10,"*"&Master!A12&"*")+COUNTIF($B$11:$G$11,"*"&Master!A12&"*")+COUNTIF($B$12:$G$12,"*"&Master!A12&"*") -> 0 | P15: =COUNTIF($B$4:$G$4,"*"&Master!A12&"*")+COUNTIF($B$5:$G$5,"*"&Master!A12&"*")+COUNTIF($B$6:$G$6,"*"&Master!A12&"*") -> 0 | Q15: =COUNTIF($B$13:$G$13,"*"&Master!A12&"*")+COUNTIF($B$14:$G$14,"*"&Master!A12&"*")+COUNTIF($B$15:$G$15,"*"&Master!A12&"*")+COUNTIF($B$16:$G$16,"*"&Master!A12&"*") -> 0 | R15: =SUM(O15:Q15) -> 0
A16: Bench 4 | I16: 12 | N16: =Master!C13 -> Player 12 (#) | O16: =COUNTIF($B$7:$G$7,"*"&Master!A13&"*")+COUNTIF($B$8:$G$8,"*"&Master!A13&"*")+COUNTIF($B$9:$G$9,"*"&Master!A13&"*")+COUNTIF($B$10:$G$10,"*"&Master!A13&"*")+COUNTIF($B$11:$G$11,"*"&Master!A13&"*")+COUNTIF($B$12:$G$12,"*"&Master!A13&"*") -> 0 | P16: =COUNTIF($B$4:$G$4,"*"&Master!A13&"*")+COUNTIF($B$5:$G$5,"*"&Master!A13&"*")+COUNTIF($B$6:$G$6,"*"&Master!A13&"*") -> 0 | Q16: =COUNTIF($B$13:$G$13,"*"&Master!A13&"*")+COUNTIF($B$14:$G$14,"*"&Master!A13&"*")+COUNTIF($B$15:$G$15,"*"&Master!A13&"*")+COUNTIF($B$16:$G$16,"*"&Master!A13&"*") -> 0 | R16: =SUM(O16:Q16) -> 0
I17: 13 | N17: =Master!C14 -> Player 13 (#) | O17: =COUNTIF($B$7:$G$7,"*"&Master!A14&"*")+COUNTIF($B$8:$G$8,"*"&Master!A14&"*")+COUNTIF($B$9:$G$9,"*"&Master!A14&"*")+COUNTIF($B$10:$G$10,"*"&Master!A14&"*")+COUNTIF($B$11:$G$11,"*"&Master!A14&"*")+COUNTIF($B$12:$G$12,"*"&Master!A14&"*") -> 0 | P17: =COUNTIF($B$4:$G$4,"*"&Master!A14&"*")+COUNTIF($B$5:$G$5,"*"&Master!A14&"*")+COUNTIF($B$6:$G$6,"*"&Master!A14&"*") -> 0 | Q17: =COUNTIF($B$13:$G$13,"*"&Master!A14&"*")+COUNTIF($B$14:$G$14,"*"&Master!A14&"*")+COUNTIF($B$15:$G$15,"*"&Master!A14&"*")+COUNTIF($B$16:$G$16,"*"&Master!A14&"*") -> 0 | R17: =SUM(O17:Q17) -> 0
N18: Totals | O18: =SUM(O5:O17) -> 0 | P18: =SUM(P5:P17) -> 0 | Q18: =SUM(Q5:Q17) -> 0 | R18: =SUM(R5:R17) -> 0
B20: https://freebaseballlineups.com/lineups.html

Sheet Game 6
A1: Game 6 Defensive Lineup | Z1: Absence Helper
Z2: =COUNTIF($L$7:$L$12,Master!A2) -> 0
A3: Position | B3: 1 | C3: 2 | D3: 3 | E3: 4 | F3: 5 | G3: 6 | I3: Batting Order | L3: Players Available | N3: Player Game Summary | Z3: =COUNTIF($L$7:$L$12,Master!A3) -> 0
A4: Left Field | I4: Spot | J4: Player | N4: Player | O4: Infield | P4: Outfield | Q4: Bench | R4: Total | Z4: =COUNTIF($L$7:$L$12,Master!A4) -> 0
A5: Center Field | I5: 1 | N5: =Master!C2 -> Player 1 (#) | O5: =COUNTIF($B$7:$G$7,"*"&Master!A2&"*")+COUNTIF($B$8:$G$8,"*"&Master!A2&"*")+COUNTIF($B$9:$G$9,"*"&Master!A2&"*")+COUNTIF($B$10:$G$10,"*"&Master!A2&"*")+COUNTIF($B$11:$G$11,"*"&Master!A2&"*")+COUNTIF($B$12:$G$12,"*"&Master!A2&"*") -> 0 | P5: =COUNTIF($B$4:$G$4,"*"&Master!A2&"*")+COUNTIF($B$5:$G$5,"*"&Master!A2&"*")+COUNTIF($B$6:$G$6,"*"&Master!A2&"*") -> 0 | Q5: =COUNTIF($B$13:$G$13,"*"&Master!A2&"*")+COUNTIF($B$14:$G$14,"*"&Master!A2&"*")+COUNTIF($B$15:$G$15,"*"&Master!A2&"*")+COUNTIF($B$16:$G$16,"*"&Master!A2&"*") -> 0 | R5: =SUM(O5:Q5) -> 0 | Z5: =COUNTIF($L$7:$L$12,Master!A5) -> 0
A6: Right Field | I6: 2 | L6: Absent Players | N6: =Master!C3 -> Player 2 (#) | O6: =COUNTIF($B$7:$G$7,"*"&Master!A3&"*")+COUNTIF($B$8:$G$8,"*"&Master!A3&"*")+COUNTIF($B$9:$G$9,"*"&Master!A3&"*")+COUNTIF($B$10:$G$10,"*"&Master!A3&"*")+COUNTIF($B$11:$G$11,"*"&Master!A3&"*")+COUNTIF($B$12:$G$12,"*"&Master!A3&"*") -> 0 | P6: =COUNTIF($B$4:$G$4,"*"&Master!A3&"*")+COUNTIF($B$5:$G$5,"*"&Master!A3&"*")+COUNTIF($B$6:$G$6,"*"&Master!A3&"*") -> 0 | Q6: =COUNTIF($B$13:$G$13,"*"&Master!A3&"*")+COUNTIF($B$14:$G$14,"*"&Master!A3&"*")+COUNTIF($B$15:$G$15,"*"&Master!A3&"*")+COUNTIF($B$16:$G$16,"*"&Master!A3&"*") -> 0 | R6: =SUM(O6:Q6) -> 0 | Z6: =COUNTIF($L$7:$L$12,Master!A6) -> 0
A7: Third Base | I7: 3 | N7: =Master!C4 -> Player 3 (#) | O7: =COUNTIF($B$7:$G$7,"*"&Master!A4&"*")+COUNTIF($B$8:$G$8,"*"&Master!A4&"*")+COUNTIF($B$9:$G$9,"*"&Master!A4&"*")+COUNTIF($B$10:$G$10,"*"&Master!A4&"*")+COUNTIF($B$11:$G$11,"*"&Master!A4&"*")+COUNTIF($B$12:$G$12,"*"&Master!A4&"*") -> 0 | P7: =COUNTIF($B$4:$G$4,"*"&Master!A4&"*")+COUNTIF($B$5:$G$5,"*"&Master!A4&"*")+COUNTIF($B$6:$G$6,"*"&Master!A4&"*") -> 0 | Q7: =COUNTIF($B$13:$G$13,"*"&Master!A4&"*")+COUNTIF($B$14:$G$14,"*"&Master!A4&"*")+COUNTIF($B$15:$G$15,"*"&Master!A4&"*")+COUNTIF($B$16:$G$16,"*"&Master!A4&"*") -> 0 | R7: =SUM(O7:Q7) -> 0 | Z7: =COUNTIF($L$7:$L$12,Master!A7) -> 0
A8: Shortstop | I8: 4 | N8: =Master!C5 -> Player 4 (#) | O8: =COUNTIF($B$7:$G$7,"*"&Master!A5&"*")+COUNTIF($B$8:$G$8,"*"&Master!A5&"*")+COUNTIF($B$9:$G$9,"*"&Master!A5&"*")+COUNTIF($B$10:$G$10,"*"&Master!A5&"*")+COUNTIF($B$11:$G$11,"*"&Master!A5&"*")+COUNTIF($B$12:$G$12,"*"&Master!A5&"*") -> 0 | P8: =COUNTIF($B$4:$G$4,"*"&Master!A5&"*")+COUNTIF($B$5:$G$5,"*"&Master!A5&"*")+COUNTIF($B$6:$G$6,"*"&Master!A5&"*") -> 0 | Q8: =COUNTIF($B$13:$G$13,"*"&Master!A5&"*")+COUNTIF($B$14:$G$14,"*"&Master!A5&"*")+COUNTIF($B$15:$G$15,"*"&Master!A5&"*")+COUNTIF($B$16:$G$16,"*"&Master!A5&"*") -> 0 | R8: =SUM(O8:Q8) -> 0 | Z8: =COUNTIF($L$7:$L$12,Master!A8) -> 0
A9: Second Base | I9: 5 | N9: =Master!C6 -> Player 5 (#) | O9: =COUNTIF($B$7:$G$7,"*"&Master!A6&"*")+COUNTIF($B$8:$G$8,"*"&Master!A6&"*")+COUNTIF($B$9:$G$9,"*"&Master!A6&"*")+COUNTIF($B$10:$G$10,"*"&Master!A6&"*")+COUNTIF($B$11:$G$11,"*"&Master!A6&"*")+COUNTIF($B$12:$G$12,"*"&Master!A6&"*") -> 0 | P9: =COUNTIF($B$4:$G$4,"*"&Master!A6&"*")+COUNTIF($B$5:$G$5,"*"&Master!A6&"*")+COUNTIF($B$6:$G$6,"*"&Master!A6&"*") -> 0 | Q9: =COUNTIF($B$13:$G$13,"*"&Master!A6&"*")+COUNTIF($B$14:$G$14,"*"&Master!A6&"*")+COUNTIF($B$15:$G$15,"*"&Master!A6&"*")+COUNTIF($B$16:$G$16,"*"&Master!A6&"*") -> 0 | R9: =SUM(O9:Q9) -> 0 | Z9: =COUNTIF($L$7:$L$12,Master!A9) -> 0
A10: First Base | I10: 6 | N10: =Master!C7 -> Player 6 (#) | O10: =COUNTIF($B$7:$G$7,"*"&Master!A7&"*")+COUNTIF($B$8:$G$8,"*"&Master!A7&"*")+COUNTIF($B$9:$G$9,"*"&Master!A7&"*")+COUNTIF($B$10:$G$10,"*"&Master!A7&"*")+COUNTIF($B$11:$G$11,"*"&Master!A7&"*")+COUNTIF($B$12:$G$12,"*"&Master!A7&"*") -> 0 | P10: =COUNTIF($B$4:$G$4,"*"&Master!A7&"*")+COUNTIF($B$5:$G$5,"*"&Master!A7&"*")+COUNTIF($B$6:$G$6,"*"&Master!A7&"*") -> 0 | Q10: =COUNTIF($B$13:$G$13,"*"&Master!A7&"*")+COUNTIF($B$14:$G$14,"*"&Master!A7&"*")+COUNTIF($B$15:$G$15,"*"&Master!A7&"*")+COUNTIF($B$16:$G$16,"*"&Master!A7&"*") -> 0 | R10: =SUM(O10:Q10) -> 0 | Z10: =COUNTIF($L$7:$L$12,Master!A10) -> 0
A11: Catcher | I11: 7 | N11: =Master!C8 -> Player 7 (#) | O11: =COUNTIF($B$7:$G$7,"*"&Master!A8&"*")+COUNTIF($B$8:$G$8,"*"&Master!A8&"*")+COUNTIF($B$9:$G$9,"*"&Master!A8&"*")+COUNTIF($B$10:$G$10,"*"&Master!A8&"*")+COUNTIF($B$11:$G$11,"*"&Master!A8&"*")+COUNTIF($B$12:$G$12,"*"&Master!A8&"*") -> 0 | P11: =COUNTIF($B$4:$G$4,"*"&Master!A8&"*")+COUNTIF($B$5:$G$5,"*"&Master!A8&"*")+COUNTIF($B$6:$G$6,"*"&Master!A8&"*") -> 0 | Q11: =COUNTIF($B$13:$G$13,"*"&Master!A8&"*")+COUNTIF($B$14:$G$14,"*"&Master!A8&"*")+COUNTIF($B$15:$G$15,"*"&Master!A8&"*")+COUNTIF($B$16:$G$16,"*"&Master!A8&"*") -> 0 | R11: =SUM(O11:Q11) -> 0 | Z11: =COUNTIF($L$7:$L$12,Master!A11) -> 0
A12: Pitcher | I12: 8 | N12: =Master!C9 -> Player 8 (#) | O12: =COUNTIF($B$7:$G$7,"*"&Master!A9&"*")+COUNTIF($B$8:$G$8,"*"&Master!A9&"*")+COUNTIF($B$9:$G$9,"*"&Master!A9&"*")+COUNTIF($B$10:$G$10,"*"&Master!A9&"*")+COUNTIF($B$11:$G$11,"*"&Master!A9&"*")+COUNTIF($B$12:$G$12,"*"&Master!A9&"*") -> 0 | P12: =COUNTIF($B$4:$G$4,"*"&Master!A9&"*")+COUNTIF($B$5:$G$5,"*"&Master!A9&"*")+COUNTIF($B$6:$G$6,"*"&Master!A9&"*") -> 0 | Q12: =COUNTIF($B$13:$G$13,"*"&Master!A9&"*")+COUNTIF($B$14:$G$14,"*"&Master!A9&"*")+COUNTIF($B$15:$G$15,"*"&Master!A9&"*")+COUNTIF($B$16:$G$16,"*"&Master!A9&"*") -> 0 | R12: =SUM(O12:Q12) -> 0 | Z12: =COUNTIF($L$7:$L$12,Master!A12) -> 0
A13: Bench 1 | I13: 9 | N13: =Master!C10 -> Player 9 (#) | O13: =COUNTIF($B$7:$G$7,"*"&Master!A10&"*")+COUNTIF($B$8:$G$8,"*"&Master!A10&"*")+COUNTIF($B$9:$G$9,"*"&Master!A10&"*")+COUNTIF($B$10:$G$10,"*"&Master!A10&"*")+COUNTIF($B$11:$G$11,"*"&Master!A10&"*")+COUNTIF($B$12:$G$12,"*"&Master!A10&"*") -> 0 | P13: =COUNTIF($B$4:$G$4,"*"&Master!A10&"*")+COUNTIF($B$5:$G$5,"*"&Master!A10&"*")+COUNTIF($B$6:$G$6,"*"&Master!A10&"*") -> 0 | Q13: =COUNTIF($B$13:$G$13,"*"&Master!A10&"*")+COUNTIF($B$14:$G$14,"*"&Master!A10&"*")+COUNTIF($B$15:$G$15,"*"&Master!A10&"*")+COUNTIF($B$16:$G$16,"*"&Master!A10&"*") -> 0 | R13: =SUM(O13:Q13) -> 0 | Z13: =COUNTIF($L$7:$L$12,Master!A13) -> 0
A14: Bench 2 | I14: 10 | L14: Player of the Game | N14: =Master!C11 -> Player 10 (#) | O14: =COUNTIF($B$7:$G$7,"*"&Master!A11&"*")+COUNTIF($B$8:$G$8,"*"&Master!A11&"*")+COUNTIF($B$9:$G$9,"*"&Master!A11&"*")+COUNTIF($B$10:$G$10,"*"&Master!A11&"*")+COUNTIF($B$11:$G$11,"*"&Master!A11&"*")+COUNTIF($B$12:$G$12,"*"&Master!A11&"*") -> 0 | P14: =COUNTIF($B$4:$G$4,"*"&Master!A11&"*")+COUNTIF($B$5:$G$5,"*"&Master!A11&"*")+COUNTIF($B$6:$G$6,"*"&Master!A11&"*") -> 0 | Q14: =COUNTIF($B$13:$G$13,"*"&Master!A11&"*")+COUNTIF($B$14:$G$14,"*"&Master!A11&"*")+COUNTIF($B$15:$G$15,"*"&Master!A11&"*")+COUNTIF($B$16:$G$16,"*"&Master!A11&"*") -> 0 | R14: =SUM(O14:Q14) -> 0 | Z14: =COUNTIF($L$7:$L$12,Master!A14) -> 0
A15: Bench 3 | I15: 11 | N15: =Master!C12 -> Player 11 (#) | O15: =COUNTIF($B$7:$G$7,"*"&Master!A12&"*")+COUNTIF($B$8:$G$8,"*"&Master!A12&"*")+COUNTIF($B$9:$G$9,"*"&Master!A12&"*")+COUNTIF($B$10:$G$10,"*"&Master!A12&"*")+COUNTIF($B$11:$G$11,"*"&Master!A12&"*")+COUNTIF($B$12:$G$12,"*"&Master!A12&"*") -> 0 | P15: =COUNTIF($B$4:$G$4,"*"&Master!A12&"*")+COUNTIF($B$5:$G$5,"*"&Master!A12&"*")+COUNTIF($B$6:$G$6,"*"&Master!A12&"*") -> 0 | Q15: =COUNTIF($B$13:$G$13,"*"&Master!A12&"*")+COUNTIF($B$14:$G$14,"*"&Master!A12&"*")+COUNTIF($B$15:$G$15,"*"&Master!A12&"*")+COUNTIF($B$16:$G$16,"*"&Master!A12&"*") -> 0 | R15: =SUM(O15:Q15) -> 0
A16: Bench 4 | I16: 12 | N16: =Master!C13 -> Player 12 (#) | O16: =COUNTIF($B$7:$G$7,"*"&Master!A13&"*")+COUNTIF($B$8:$G$8,"*"&Master!A13&"*")+COUNTIF($B$9:$G$9,"*"&Master!A13&"*")+COUNTIF($B$10:$G$10,"*"&Master!A13&"*")+COUNTIF($B$11:$G$11,"*"&Master!A13&"*")+COUNTIF($B$12:$G$12,"*"&Master!A13&"*") -> 0 | P16: =COUNTIF($B$4:$G$4,"*"&Master!A13&"*")+COUNTIF($B$5:$G$5,"*"&Master!A13&"*")+COUNTIF($B$6:$G$6,"*"&Master!A13&"*") -> 0 | Q16: =COUNTIF($B$13:$G$13,"*"&Master!A13&"*")+COUNTIF($B$14:$G$14,"*"&Master!A13&"*")+COUNTIF($B$15:$G$15,"*"&Master!A13&"*")+COUNTIF($B$16:$G$16,"*"&Master!A13&"*") -> 0 | R16: =SUM(O16:Q16) -> 0
I17: 13 | N17: =Master!C14 -> Player 13 (#) | O17: =COUNTIF($B$7:$G$7,"*"&Master!A14&"*")+COUNTIF($B$8:$G$8,"*"&Master!A14&"*")+COUNTIF($B$9:$G$9,"*"&Master!A14&"*")+COUNTIF($B$10:$G$10,"*"&Master!A14&"*")+COUNTIF($B$11:$G$11,"*"&Master!A14&"*")+COUNTIF($B$12:$G$12,"*"&Master!A14&"*") -> 0 | P17: =COUNTIF($B$4:$G$4,"*"&Master!A14&"*")+COUNTIF($B$5:$G$5,"*"&Master!A14&"*")+COUNTIF($B$6:$G$6,"*"&Master!A14&"*") -> 0 | Q17: =COUNTIF($B$13:$G$13,"*"&Master!A14&"*")+COUNTIF($B$14:$G$14,"*"&Master!A14&"*")+COUNTIF($B$15:$G$15,"*"&Master!A14&"*")+COUNTIF($B$16:$G$16,"*"&Master!A14&"*") -> 0 | R17: =SUM(O17:Q17) -> 0
N18: Totals | O18: =SUM(O5:O17) -> 0 | P18: =SUM(P5:P17) -> 0 | Q18: =SUM(Q5:Q17) -> 0 | R18: =SUM(R5:R17) -> 0
B20: https://freebaseballlineups.com/lineups.html

Sheet Game 7
A1: Game 7 Defensive Lineup | Z1: Absence Helper
Z2: =COUNTIF($L$7:$L$12,Master!A2) -> 0
A3: Position | B3: 1 | C3: 2 | D3: 3 | E3: 4 | F3: 5 | G3: 6 | I3: Batting Order | L3: Players Available | N3: Player Game Summary | Z3: =COUNTIF($L$7:$L$12,Master!A3) -> 0
A4: Left Field | I4: Spot | J4: Player | N4: Player | O4: Infield | P4: Outfield | Q4: Bench | R4: Total | Z4: =COUNTIF($L$7:$L$12,Master!A4) -> 0
A5: Center Field | I5: 1 | N5: =Master!C2 -> Player 1 (#) | O5: =COUNTIF($B$7:$G$7,"*"&Master!A2&"*")+COUNTIF($B$8:$G$8,"*"&Master!A2&"*")+COUNTIF($B$9:$G$9,"*"&Master!A2&"*")+COUNTIF($B$10:$G$10,"*"&Master!A2&"*")+COUNTIF($B$11:$G$11,"*"&Master!A2&"*")+COUNTIF($B$12:$G$12,"*"&Master!A2&"*") -> 0 | P5: =COUNTIF($B$4:$G$4,"*"&Master!A2&"*")+COUNTIF($B$5:$G$5,"*"&Master!A2&"*")+COUNTIF($B$6:$G$6,"*"&Master!A2&"*") -> 0 | Q5: =COUNTIF($B$13:$G$13,"*"&Master!A2&"*")+COUNTIF($B$14:$G$14,"*"&Master!A2&"*")+COUNTIF($B$15:$G$15,"*"&Master!A2&"*")+COUNTIF($B$16:$G$16,"*"&Master!A2&"*") -> 0 | R5: =SUM(O5:Q5) -> 0 | Z5: =COUNTIF($L$7:$L$12,Master!A5) -> 0
A6: Right Field | I6: 2 | L6: Absent Players | N6: =Master!C3 -> Player 2 (#) | O6: =COUNTIF($B$7:$G$7,"*"&Master!A3&"*")+COUNTIF($B$8:$G$8,"*"&Master!A3&"*")+COUNTIF($B$9:$G$9,"*"&Master!A3&"*")+COUNTIF($B$10:$G$10,"*"&Master!A3&"*")+COUNTIF($B$11:$G$11,"*"&Master!A3&"*")+COUNTIF($B$12:$G$12,"*"&Master!A3&"*") -> 0 | P6: =COUNTIF($B$4:$G$4,"*"&Master!A3&"*")+COUNTIF($B$5:$G$5,"*"&Master!A3&"*")+COUNTIF($B$6:$G$6,"*"&Master!A3&"*") -> 0 | Q6: =COUNTIF($B$13:$G$13,"*"&Master!A3&"*")+COUNTIF($B$14:$G$14,"*"&Master!A3&"*")+COUNTIF($B$15:$G$15,"*"&Master!A3&"*")+COUNTIF($B$16:$G$16,"*"&Master!A3&"*") -> 0 | R6: =SUM(O6:Q6) -> 0 | Z6: =COUNTIF($L$7:$L$12,Master!A6) -> 0
A7: Third Base | I7: 3 | N7: =Master!C4 -> Player 3 (#) | O7: =COUNTIF($B$7:$G$7,"*"&Master!A4&"*")+COUNTIF($B$8:$G$8,"*"&Master!A4&"*")+COUNTIF($B$9:$G$9,"*"&Master!A4&"*")+COUNTIF($B$10:$G$10,"*"&Master!A4&"*")+COUNTIF($B$11:$G$11,"*"&Master!A4&"*")+COUNTIF($B$12:$G$12,"*"&Master!A4&"*") -> 0 | P7: =COUNTIF($B$4:$G$4,"*"&Master!A4&"*")+COUNTIF($B$5:$G$5,"*"&Master!A4&"*")+COUNTIF($B$6:$G$6,"*"&Master!A4&"*") -> 0 | Q7: =COUNTIF($B$13:$G$13,"*"&Master!A4&"*")+COUNTIF($B$14:$G$14,"*"&Master!A4&"*")+COUNTIF($B$15:$G$15,"*"&Master!A4&"*")+COUNTIF($B$16:$G$16,"*"&Master!A4&"*") -> 0 | R7: =SUM(O7:Q7) -> 0 | Z7: =COUNTIF($L$7:$L$12,Master!A7) -> 0
A8: Shortstop | I8: 4 | N8: =Master!C5 -> Player 4 (#) | O8: =COUNTIF($B$7:$G$7,"*"&Master!A5&"*")+COUNTIF($B$8:$G$8,"*"&Master!A5&"*")+COUNTIF($B$9:$G$9,"*"&Master!A5&"*")+COUNTIF($B$10:$G$10,"*"&Master!A5&"*")+COUNTIF($B$11:$G$11,"*"&Master!A5&"*")+COUNTIF($B$12:$G$12,"*"&Master!A5&"*") -> 0 | P8: =COUNTIF($B$4:$G$4,"*"&Master!A5&"*")+COUNTIF($B$5:$G$5,"*"&Master!A5&"*")+COUNTIF($B$6:$G$6,"*"&Master!A5&"*") -> 0 | Q8: =COUNTIF($B$13:$G$13,"*"&Master!A5&"*")+COUNTIF($B$14:$G$14,"*"&Master!A5&"*")+COUNTIF($B$15:$G$15,"*"&Master!A5&"*")+COUNTIF($B$16:$G$16,"*"&Master!A5&"*") -> 0 | R8: =SUM(O8:Q8) -> 0 | Z8: =COUNTIF($L$7:$L$12,Master!A8) -> 0
A9: Second Base | I9: 5 | N9: =Master!C6 -> Player 5 (#) | O9: =COUNTIF($B$7:$G$7,"*"&Master!A6&"*")+COUNTIF($B$8:$G$8,"*"&Master!A6&"*")+COUNTIF($B$9:$G$9,"*"&Master!A6&"*")+COUNTIF($B$10:$G$10,"*"&Master!A6&"*")+COUNTIF($B$11:$G$11,"*"&Master!A6&"*")+COUNTIF($B$12:$G$12,"*"&Master!A6&"*") -> 0 | P9: =COUNTIF($B$4:$G$4,"*"&Master!A6&"*")+COUNTIF($B$5:$G$5,"*"&Master!A6&"*")+COUNTIF($B$6:$G$6,"*"&Master!A6&"*") -> 0 | Q9: =COUNTIF($B$13:$G$13,"*"&Master!A6&"*")+COUNTIF($B$14:$G$14,"*"&Master!A6&"*")+COUNTIF($B$15:$G$15,"*"&Master!A6&"*")+COUNTIF($B$16:$G$16,"*"&Master!A6&"*") -> 0 | R9: =SUM(O9:Q9) -> 0 | Z9: =COUNTIF($L$7:$L$12,Master!A9) -> 0
A10: First Base | I10: 6 | N10: =Master!C7 -> Player 6 (#) | O10: =COUNTIF($B$7:$G$7,"*"&Master!A7&"*")+COUNTIF($B$8:$G$8,"*"&Master!A7&"*")+COUNTIF($B$9:$G$9,"*"&Master!A7&"*")+COUNTIF($B$10:$G$10,"*"&Master!A7&"*")+COUNTIF($B$11:$G$11,"*"&Master!A7&"*")+COUNTIF($B$12:$G$12,"*"&Master!A7&"*") -> 0 | P10: =COUNTIF($B$4:$G$4,"*"&Master!A7&"*")+COUNTIF($B$5:$G$5,"*"&Master!A7&"*")+COUNTIF($B$6:$G$6,"*"&Master!A7&"*") -> 0 | Q10: =COUNTIF($B$13:$G$13,"*"&Master!A7&"*")+COUNTIF($B$14:$G$14,"*"&Master!A7&"*")+COUNTIF($B$15:$G$15,"*"&Master!A7&"*")+COUNTIF($B$16:$G$16,"*"&Master!A7&"*") -> 0 | R10: =SUM(O10:Q10) -> 0 | Z10: =COUNTIF($L$7:$L$12,Master!A10) -> 0
A11: Catcher | I11: 7 | N11: =Master!C8 -> Player 7 (#) | O11: =COUNTIF($B$7:$G$7,"*"&Master!A8&"*")+COUNTIF($B$8:$G$8,"*"&Master!A8&"*")+COUNTIF($B$9:$G$9,"*"&Master!A8&"*")+COUNTIF($B$10:$G$10,"*"&Master!A8&"*")+COUNTIF($B$11:$G$11,"*"&Master!A8&"*")+COUNTIF($B$12:$G$12,"*"&Master!A8&"*") -> 0 | P11: =COUNTIF($B$4:$G$4,"*"&Master!A8&"*")+COUNTIF($B$5:$G$5,"*"&Master!A8&"*")+COUNTIF($B$6:$G$6,"*"&Master!A8&"*") -> 0 | Q11: =COUNTIF($B$13:$G$13,"*"&Master!A8&"*")+COUNTIF($B$14:$G$14,"*"&Master!A8&"*")+COUNTIF($B$15:$G$15,"*"&Master!A8&"*")+COUNTIF($B$16:$G$16,"*"&Master!A8&"*") -> 0 | R11: =SUM(O11:Q11) -> 0 | Z11: =COUNTIF($L$7:$L$12,Master!A11) -> 0
A12: Pitcher | I12: 8 | N12: =Master!C9 -> Player 8 (#) | O12: =COUNTIF($B$7:$G$7,"*"&Master!A9&"*")+COUNTIF($B$8:$G$8,"*"&Master!A9&"*")+COUNTIF($B$9:$G$9,"*"&Master!A9&"*")+COUNTIF($B$10:$G$10,"*"&Master!A9&"*")+COUNTIF($B$11:$G$11,"*"&Master!A9&"*")+COUNTIF($B$12:$G$12,"*"&Master!A9&"*") -> 0 | P12: =COUNTIF($B$4:$G$4,"*"&Master!A9&"*")+COUNTIF($B$5:$G$5,"*"&Master!A9&"*")+COUNTIF($B$6:$G$6,"*"&Master!A9&"*") -> 0 | Q12: =COUNTIF($B$13:$G$13,"*"&Master!A9&"*")+COUNTIF($B$14:$G$14,"*"&Master!A9&"*")+COUNTIF($B$15:$G$15,"*"&Master!A9&"*")+COUNTIF($B$16:$G$16,"*"&Master!A9&"*") -> 0 | R12: =SUM(O12:Q12) -> 0 | Z12: =COUNTIF($L$7:$L$12,Master!A12) -> 0
A13: Bench 1 | I13: 9 | N13: =Master!C10 -> Player 9 (#) | O13: =COUNTIF($B$7:$G$7,"*"&Master!A10&"*")+COUNTIF($B$8:$G$8,"*"&Master!A10&"*")+COUNTIF($B$9:$G$9,"*"&Master!A10&"*")+COUNTIF($B$10:$G$10,"*"&Master!A10&"*")+COUNTIF($B$11:$G$11,"*"&Master!A10&"*")+COUNTIF($B$12:$G$12,"*"&Master!A10&"*") -> 0 | P13: =COUNTIF($B$4:$G$4,"*"&Master!A10&"*")+COUNTIF($B$5:$G$5,"*"&Master!A10&"*")+COUNTIF($B$6:$G$6,"*"&Master!A10&"*") -> 0 | Q13: =COUNTIF($B$13:$G$13,"*"&Master!A10&"*")+COUNTIF($B$14:$G$14,"*"&Master!A10&"*")+COUNTIF($B$15:$G$15,"*"&Master!A10&"*")+COUNTIF($B$16:$G$16,"*"&Master!A10&"*") -> 0 | R13: =SUM(O13:Q13) -> 0 | Z13: =COUNTIF($L$7:$L$12,Master!A13) -> 0
A14: Bench 2 | I14: 10 | L14: Player of the Game | N14: =Master!C11 -> Player 10 (#) | O14: =COUNTIF($B$7:$G$7,"*"&Master!A11&"*")+COUNTIF($B$8:$G$8,"*"&Master!A11&"*")+COUNTIF($B$9:$G$9,"*"&Master!A11&"*")+COUNTIF($B$10:$G$10,"*"&Master!A11&"*")+COUNTIF($B$11:$G$11,"*"&Master!A11&"*")+COUNTIF($B$12:$G$12,"*"&Master!A11&"*") -> 0 | P14: =COUNTIF($B$4:$G$4,"*"&Master!A11&"*")+COUNTIF($B$5:$G$5,"*"&Master!A11&"*")+COUNTIF($B$6:$G$6,"*"&Master!A11&"*") -> 0 | Q14: =COUNTIF($B$13:$G$13,"*"&Master!A11&"*")+COUNTIF($B$14:$G$14,"*"&Master!A11&"*")+COUNTIF($B$15:$G$15,"*"&Master!A11&"*")+COUNTIF($B$16:$G$16,"*"&Master!A11&"*") -> 0 | R14: =SUM(O14:Q14) -> 0 | Z14: =COUNTIF($L$7:$L$12,Master!A14) -> 0
A15: Bench 3 | I15: 11 | N15: =Master!C12 -> Player 11 (#) | O15: =COUNTIF($B$7:$G$7,"*"&Master!A12&"*")+COUNTIF($B$8:$G$8,"*"&Master!A12&"*")+COUNTIF($B$9:$G$9,"*"&Master!A12&"*")+COUNTIF($B$10:$G$10,"*"&Master!A12&"*")+COUNTIF($B$11:$G$11,"*"&Master!A12&"*")+COUNTIF($B$12:$G$12,"*"&Master!A12&"*") -> 0 | P15: =COUNTIF($B$4:$G$4,"*"&Master!A12&"*")+COUNTIF($B$5:$G$5,"*"&Master!A12&"*")+COUNTIF($B$6:$G$6,"*"&Master!A12&"*") -> 0 | Q15: =COUNTIF($B$13:$G$13,"*"&Master!A12&"*")+COUNTIF($B$14:$G$14,"*"&Master!A12&"*")+COUNTIF($B$15:$G$15,"*"&Master!A12&"*")+COUNTIF($B$16:$G$16,"*"&Master!A12&"*") -> 0 | R15: =SUM(O15:Q15) -> 0
A16: Bench 4 | I16: 12 | N16: =Master!C13 -> Player 12 (#) | O16: =COUNTIF($B$7:$G$7,"*"&Master!A13&"*")+COUNTIF($B$8:$G$8,"*"&Master!A13&"*")+COUNTIF($B$9:$G$9,"*"&Master!A13&"*")+COUNTIF($B$10:$G$10,"*"&Master!A13&"*")+COUNTIF($B$11:$G$11,"*"&Master!A13&"*")+COUNTIF($B$12:$G$12,"*"&Master!A13&"*") -> 0 | P16: =COUNTIF($B$4:$G$4,"*"&Master!A13&"*")+COUNTIF($B$5:$G$5,"*"&Master!A13&"*")+COUNTIF($B$6:$G$6,"*"&Master!A13&"*") -> 0 | Q16: =COUNTIF($B$13:$G$13,"*"&Master!A13&"*")+COUNTIF($B$14:$G$14,"*"&Master!A13&"*")+COUNTIF($B$15:$G$15,"*"&Master!A13&"*")+COUNTIF($B$16:$G$16,"*"&Master!A13&"*") -> 0 | R16: =SUM(O16:Q16) -> 0
I17: 13 | N17: =Master!C14 -> Player 13 (#) | O17: =COUNTIF($B$7:$G$7,"*"&Master!A14&"*")+COUNTIF($B$8:$G$8,"*"&Master!A14&"*")+COUNTIF($B$9:$G$9,"*"&Master!A14&"*")+COUNTIF($B$10:$G$10,"*"&Master!A14&"*")+COUNTIF($B$11:$G$11,"*"&Master!A14&"*")+COUNTIF($B$12:$G$12,"*"&Master!A14&"*") -> 0 | P17: =COUNTIF($B$4:$G$4,"*"&Master!A14&"*")+COUNTIF($B$5:$G$5,"*"&Master!A14&"*")+COUNTIF($B$6:$G$6,"*"&Master!A14&"*") -> 0 | Q17: =COUNTIF($B$13:$G$13,"*"&Master!A14&"*")+COUNTIF($B$14:$G$14,"*"&Master!A14&"*")+COUNTIF($B$15:$G$15,"*"&Master!A14&"*")+COUNTIF($B$16:$G$16,"*"&Master!A14&"*") -> 0 | R17: =SUM(O17:Q17) -> 0
N18: Totals | O18: =SUM(O5:O17) -> 0 | P18: =SUM(P5:P17) -> 0 | Q18: =SUM(Q5:Q17) -> 0 | R18: =SUM(R5:R17) -> 0
B20: https://freebaseballlineups.com/lineups.html

Sheet Game 8
A1: Game 8 Defensive Lineup | Z1: Absence Helper
Z2: =COUNTIF($L$7:$L$12,Master!A2) -> 0
A3: Position | B3: 1 | C3: 2 | D3: 3 | E3: 4 | F3: 5 | G3: 6 | I3: Batting Order | L3: Players Available | N3: Player Game Summary | Z3: =COUNTIF($L$7:$L$12,Master!A3) -> 0
A4: Left Field | I4: Spot | J4: Player | N4: Player | O4: Infield | P4: Outfield | Q4: Bench | R4: Total | Z4: =COUNTIF($L$7:$L$12,Master!A4) -> 0
A5: Center Field | I5: 1 | N5: =Master!C2 -> Player 1 (#) | O5: =COUNTIF($B$7:$G$7,"*"&Master!A2&"*")+COUNTIF($B$8:$G$8,"*"&Master!A2&"*")+COUNTIF($B$9:$G$9,"*"&Master!A2&"*")+COUNTIF($B$10:$G$10,"*"&Master!A2&"*")+COUNTIF($B$11:$G$11,"*"&Master!A2&"*")+COUNTIF($B$12:$G$12,"*"&Master!A2&"*") -> 0 | P5: =COUNTIF($B$4:$G$4,"*"&Master!A2&"*")+COUNTIF($B$5:$G$5,"*"&Master!A2&"*")+COUNTIF($B$6:$G$6,"*"&Master!A2&"*") -> 0 | Q5: =COUNTIF($B$13:$G$13,"*"&Master!A2&"*")+COUNTIF($B$14:$G$14,"*"&Master!A2&"*")+COUNTIF($B$15:$G$15,"*"&Master!A2&"*")+COUNTIF($B$16:$G$16,"*"&Master!A2&"*") -> 0 | R5: =SUM(O5:Q5) -> 0 | Z5: =COUNTIF($L$7:$L$12,Master!A5) -> 0
A6: Right Field | I6: 2 | L6: Absent Players | N6: =Master!C3 -> Player 2 (#) | O6: =COUNTIF($B$7:$G$7,"*"&Master!A3&"*")+COUNTIF($B$8:$G$8,"*"&Master!A3&"*")+COUNTIF($B$9:$G$9,"*"&Master!A3&"*")+COUNTIF($B$10:$G$10,"*"&Master!A3&"*")+COUNTIF($B$11:$G$11,"*"&Master!A3&"*")+COUNTIF($B$12:$G$12,"*"&Master!A3&"*") -> 0 | P6: =COUNTIF($B$4:$G$4,"*"&Master!A3&"*")+COUNTIF($B$5:$G$5,"*"&Master!A3&"*")+COUNTIF($B$6:$G$6,"*"&Master!A3&"*") -> 0 | Q6: =COUNTIF($B$13:$G$13,"*"&Master!A3&"*")+COUNTIF($B$14:$G$14,"*"&Master!A3&"*")+COUNTIF($B$15:$G$15,"*"&Master!A3&"*")+COUNTIF($B$16:$G$16,"*"&Master!A3&"*") -> 0 | R6: =SUM(O6:Q6) -> 0 | Z6: =COUNTIF($L$7:$L$12,Master!A6) -> 0
A7: Third Base | I7: 3 | N7: =Master!C4 -> Player 3 (#) | O7: =COUNTIF($B$7:$G$7,"*"&Master!A4&"*")+COUNTIF($B$8:$G$8,"*"&Master!A4&"*")+COUNTIF($B$9:$G$9,"*"&Master!A4&"*")+COUNTIF($B$10:$G$10,"*"&Master!A4&"*")+COUNTIF($B$11:$G$11,"*"&Master!A4&"*")+COUNTIF($B$12:$G$12,"*"&Master!A4&"*") -> 0 | P7: =COUNTIF($B$4:$G$4,"*"&Master!A4&"*")+COUNTIF($B$5:$G$5,"*"&Master!A4&"*")+COUNTIF($B$6:$G$6,"*"&Master!A4&"*") -> 0 | Q7: =COUNTIF($B$13:$G$13,"*"&Master!A4&"*")+COUNTIF($B$14:$G$14,"*"&Master!A4&"*")+COUNTIF($B$15:$G$15,"*"&Master!A4&"*")+COUNTIF($B$16:$G$16,"*"&Master!A4&"*") -> 0 | R7: =SUM(O7:Q7) -> 0 | Z7: =COUNTIF($L$7:$L$12,Master!A7) -> 0
A8: Shortstop | I8: 4 | N8: =Master!C5 -> Player 4 (#) | O8: =COUNTIF($B$7:$G$7,"*"&Master!A5&"*")+COUNTIF($B$8:$G$8,"*"&Master!A5&"*")+COUNTIF($B$9:$G$9,"*"&Master!A5&"*")+COUNTIF($B$10:$G$10,"*"&Master!A5&"*")+COUNTIF($B$11:$G$11,"*"&Master!A5&"*")+COUNTIF($B$12:$G$12,"*"&Master!A5&"*") -> 0 | P8: =COUNTIF($B$4:$G$4,"*"&Master!A5&"*")+COUNTIF($B$5:$G$5,"*"&Master!A5&"*")+COUNTIF($B$6:$G$6,"*"&Master!A5&"*") -> 0 | Q8: =COUNTIF($B$13:$G$13,"*"&Master!A5&"*")+COUNTIF($B$14:$G$14,"*"&Master!A5&"*")+COUNTIF($B$15:$G$15,"*"&Master!A5&"*")+COUNTIF($B$16:$G$16,"*"&Master!A5&"*") -> 0 | R8: =SUM(O8:Q8) -> 0 | Z8: =COUNTIF($L$7:$L$12,Master!A8) -> 0
A9: Second Base | I9: 5 | N9: =Master!C6 -> Player 5 (#) | O9: =COUNTIF($B$7:$G$7,"*"&Master!A6&"*")+COUNTIF($B$8:$G$8,"*"&Master!A6&"*")+COUNTIF($B$9:$G$9,"*"&Master!A6&"*")+COUNTIF($B$10:$G$10,"*"&Master!A6&"*")+COUNTIF($B$11:$G$11,"*"&Master!A6&"*")+COUNTIF($B$12:$G$12,"*"&Master!A6&"*") -> 0 | P9: =COUNTIF($B$4:$G$4,"*"&Master!A6&"*")+COUNTIF($B$5:$G$5,"*"&Master!A6&"*")+COUNTIF($B$6:$G$6,"*"&Master!A6&"*") -> 0 | Q9: =COUNTIF($B$13:$G$13,"*"&Master!A6&"*")+COUNTIF($B$14:$G$14,"*"&Master!A6&"*")+COUNTIF($B$15:$G$15,"*"&Master!A6&"*")+COUNTIF($B$16:$G$16,"*"&Master!A6&"*") -> 0 | R9: =SUM(O9:Q9) -> 0 | Z9: =COUNTIF($L$7:$L$12,Master!A9) -> 0
A10: First Base | I10: 6 | N10: =Master!C7 -> Player 6 (#) | O10: =COUNTIF($B$7:$G$7,"*"&Master!A7&"*")+COUNTIF($B$8:$G$8,"*"&Master!A7&"*")+COUNTIF($B$9:$G$9,"*"&Master!A7&"*")+COUNTIF($B$10:$G$10,"*"&Master!A7&"*")+COUNTIF($B$11:$G$11,"*"&Master!A7&"*")+COUNTIF($B$12:$G$12,"*"&Master!A7&"*") -> 0 | P10: =COUNTIF($B$4:$G$4,"*"&Master!A7&"*")+COUNTIF($B$5:$G$5,"*"&Master!A7&"*")+COUNTIF($B$6:$G$6,"*"&Master!A7&"*") -> 0 | Q10: =COUNTIF($B$13:$G$13,"*"&Master!A7&"*")+COUNTIF($B$14:$G$14,"*"&Master!A7&"*")+COUNTIF($B$15:$G$15,"*"&Master!A7&"*")+COUNTIF($B$16:$G$16,"*"&Master!A7&"*") -> 0 | R10: =SUM(O10:Q10) -> 0 | Z10: =COUNTIF($L$7:$L$12,Master!A10) -> 0
