Workbook

Sheet Master
A1: Player Name | B1: Jersey # | C1: Display Name
A2: Player 1 | C2: =A2&" (#"&B2&")" -> Player 1 (#)
A3: Player 2 | C3: =A3&" (#"&B3&")" -> Player 2 (#)
A4: Player 3 | C4: =A4&" (#"&B4&")" -> Player 3 (#)
A5: Player 4 | C5: =A5&" (#"&B5&")" -> Player 4 (#)
A6: Player 5 | C6: =A6&" (#"&B6&")" -> Player 5 (#)
A7: Player 6 | C7: =A7&" (#"&B7&")" -> Player 6 (#)
A8: Player 7 | C8: =A8&" (#"&B8&")" -> Player 7 (#)
A9: Player 8 | C9: =A9&" (#"&B9&")" -> Player 8 (#)
A10: Player 9 | C10: =A10&" (#"&B10&")" -> Player 9 (#)
A11: Player 10 | C11: =A11&" (#"&B11&")" -> Player 10 (#)
A12: Player 11 | C12: =A12&" (#"&B12&")" -> Player 11 (#)
A13: Player 12 | C13: =A13&" (#"&B13&")" -> Player 12 (#)
A14: Player 13 | C14: =A14&" (#"&B14&")" -> Player 13 (#)
A16: Tracking Summary
B17: Pitcher | C17: Catcher | D17: First Base | E17: Second Base | F17: Shortstop | G17: Third Base | H17: Left Field | I17: Center Field | J17: Right Field | K17: Bench | M17: Infield Total | N17: Outfield Total | O17: Bench Total | P17: Total Innings | Q17: Infield % | R17: Outfield % | S17: Bench % | U17: Avg Innings Team | V17: Games Absent | W17: Player of Game
A18: =A2 -> Player 1 | B18: =COUNTIF('Game 1'!$B$12:$G$12,"*"&$A18&"*")+COUNTIF('Game 2'!$B$12:$G$12,"*"&$A18&"*")+COUNTIF('Game 3'!$B$12:$G$12,"*"&$A18&"*")+COUNTIF('Game 4'!$B$12:$G$12,"*"&$A18&"*")+COUNTIF('Game 5'!$B$12:$G$12,"*"&$A18&"*")+COUNTIF('Game 6'!$B$12:$G$12,"*"&$A18&"*")+COUNTIF('Game 7'!$B$12:$G$12,"*"&$A18&"*")+COUNTIF('Game 8'!$B$12:$G$12,"*"&$A18&"*")+COUNTIF('Game 9'!$B$12:$G$12,"*"&$A18&"*")+COUNTIF('Game 10'!$B$12:$G$12,"*"&$A18&"*")+COUNTIF('Game 11'!$B$12:$G$12,"*"&$A18&"*")+COUNTIF('Game 12'!$B$12:$G$12,"*"&$A18&"*")+COUNTIF('Game 13'!$B$12:$G$12,"*"&$A18&"*")+COUNTIF('Game 14'!$B$12:$G$12,"*"&$A18&"*")+COUNTIF('Game 15'!$B$12:$G$12,"*"&$A18&"*")+COUNTIF('Game 16'!$B$12:$G$12,"*"&$A18&"*") -> 0 | C18: =COUNTIF('Game 1'!$B$11:$G$11,"*"&$A18&"*")+COUNTIF('Game 2'!$B$11:$G$11,"*"&$A18&"*")+COUNTIF('Game 3'!$B$11:$G$11,"*"&$A18&"*")+COUNTIF('Game 4'!$B$11:$G$11,"*"&$A18&"*")+COUNTIF('Game 5'!$B$11:$G$11,"*"&$A18&"*")+COUNTIF('Game 6'!$B$11:$G$11,"*"&$A18&"*")+COUNTIF('Game 7'!$B$11:$G$11,"*"&$A18&"*")+COUNTIF('Game 8'!$B$11:$G$11,"*"&$A18&"*")+COUNTIF('Game 9'!$B$11:$G$11,"*"&$A18&"*")+COUNTIF('Game 10'!$B$11:$G$11,"*"&$A18&"*")+COUNTIF('Game 11'!$B$11:$G$11,"*"&$A18&"*")+COUNTIF('Game 12'!$B$11:$G$11,"*"&$A18&"*")+COUNTIF('Game 13'!$B$11:$G$11,"*"&$A18&"*")+COUNTIF('Game 14'!$B$11:$G$11,"*"&$A18&"*")+COUNTIF('Game 15'!$B$11:$G$11,"*"&$A18&"*")+COUNTIF('Game 16'!$B$11:$G$11,"*"&$A18&"*") -> 0 | D18: =COUNTIF('Game 1'!$B$10:$G$10,"*"&$A18&"*")+COUNTIF('Game 2'!$B$10:$G$10,"*"&$A18&"*")+COUNTIF('Game 3'!$B$10:$G$10,"*"&$A18&"*")+COUNTIF('Game 4'!$B$10:$G$10,"*"&$A18&"*")+COUNTIF('Game 5'!$B$10:$G$10,"*"&$A18&"*")+COUNTIF('Game 6'!$B$10:$G$10,"*"&$A18&"*")+COUNTIF('Game 7'!$B$10:$G$10,"*"&$A18&"*")+COUNTIF('Game 8'!$B$10:$G$10,"*"&$A18&"*")+COUNTIF('Game 9'!$B$10:$G$10,"*"&$A18&"*")+COUNTIF('Game 10'!$B$10:$G$10,"*"&$A18&"*")+COUNTIF('Game 11'!$B$10:$G$10,"*"&$A18&"*")+COUNTIF('Game 12'!$B$10:$G$10,"*"&$A18&"*")+COUNTIF('Game 13'!$B$10:$G$10,"*"&$A18&"*")+COUNTIF('Game 14'!$B$10:$G$10,"*"&$A18&"*")+COUNTIF('Game 15'!$B$10:$G$10,"*"&$A18&"*")+COUNTIF('Game 16'!$B$10:$G$10,"*"&$A18&"*") -> 0 | E18: =COUNTIF('Game 1'!$B$9:$G$9,"*"&$A18&"*")+COUNTIF('Game 2'!$B$9:$G$9,"*"&$A18&"*")+COUNTIF('Game 3'!$B$9:$G$9,"*"&$A18&"*")+COUNTIF('Game 4'!$B$9:$G$9,"*"&$A18&"*")+COUNTIF('Game 5'!$B$9:$G$9,"*"&$A18&"*")+COUNTIF('Game 6'!$B$9:$G$9,"*"&$A18&"*")+COUNTIF('Game 7'!$B$9:$G$9,"*"&$A18&"*")+COUNTIF('Game 8'!$B$9:$G$9,"*"&$A18&"*")+COUNTIF('Game 9'!$B$9:$G$9,"*"&$A18&"*")+COUNTIF('Game 10'!$B$9:$G$9,"*"&$A18&"*")+COUNTIF('Game 11'!$B$9:$G$9,"*"&$A18&"*")+COUNTIF('Game 12'!$B$9:$G$9,"*"&$A18&"*")+COUNTIF('Game 13'!$B$9:$G$9,"*"&$A18&"*")+COUNTIF('Game 14'!$B$9:$G$9,"*"&$A18&"*")+COUNTIF('Game 15'!$B$9:$G$9,"*"&$A18&"*")+COUNTIF('Game 16'!$B$9:$G$9,"*"&$A18&"*") -> 0 | F18: =COUNTIF('Game 1'!$B$8:$G$8,"*"&$A18&"*")+COUNTIF('Game 2'!$B$8:$G$8,"*"&$A18&"*")+COUNTIF('Game 3'!$B$8:$G$8,"*"&$A18&"*")+COUNTIF('Game 4'!$B$8:$G$8,"*"&$A18&"*")+COUNTIF('Game 5'!$B$8:$G$8,"*"&$A18&"*")+COUNTIF('Game 6'!$B$8:$G$8,"*"&$A18&"*")+COUNTIF('Game 7'!$B$8:$G$8,"*"&$A18&"*")+COUNTIF('Game 8'!$B$8:$G$8,"*"&$A18&"*")+COUNTIF('Game 9'!$B$8:$G$8,"*"&$A18&"*")+COUNTIF('Game 10'!$B$8:$G$8,"*"&$A18&"*")+COUNTIF('Game 11'!$B$8:$G$8,"*"&$A18&"*")+COUNTIF('Game 12'!$B$8:$G$8,"*"&$A18&"*")+COUNTIF('Game 13'!$B$8:$G$8,"*"&$A18&"*")+COUNTIF('Game 14'!$B$8:$G$8,"*"&$A18&"*")+COUNTIF('Game 15'!$B$8:$G$8,"*"&$A18&"*")+COUNTIF('Game 16'!$B$8:$G$8,"*"&$A18&"*") -> 0 | G18: =COUNTIF('Game 1'!$B$7:$G$7,"*"&$A18&"*")+COUNTIF('Game 2'!$B$7:$G$7,"*"&$A18&"*")+COUNTIF('Game 3'!$B$7:$G$7,"*"&$A18&"*")+COUNTIF('Game 4'!$B$7:$G$7,"*"&$A18&"*")+COUNTIF('Game 5'!$B$7:$G$7,"*"&$A18&"*")+COUNTIF('Game 6'!$B$7:$G$7,"*"&$A18&"*")+COUNTIF('Game 7'!$B$7:$G$7,"*"&$A18&"*")+COUNTIF('Game 8'!$B$7:$G$7,"*"&$A18&"*")+COUNTIF('Game 9'!$B$7:$G$7,"*"&$A18&"*")+COUNTIF('Game 10'!$B$7:$G$7,"*"&$A18&"*")+COUNTIF('Game 11'!$B$7:$G$7,"*"&$A18&"*")+COUNTIF('Game 12'!$B$7:$G$7,"*"&$A18&"*")+COUNTIF('Game 13'!$B$7:$G$7,"*"&$A18&"*")+COUNTIF('Game 14'!$B$7:$G$7,"*"&$A18&"*")+COUNTIF('Game 15'!$B$7:$G$7,"*"&$A18&"*")+COUNTIF('Game 16'!$B$7:$G$7,"*"&$A18&"*") -> 0 | H18: =COUNTIF('Game 1'!$B$4:$G$4,"*"&$A18&"*")+COUNTIF('Game 2'!$B$4:$G$4,"*"&$A18&"*")+COUNTIF('Game 3'!$B$4:$G$4,"*"&$A18&"*")+COUNTIF('Game 4'!$B$4:$G$4,"*"&$A18&"*")+COUNTIF('Game 5'!$B$4:$G$4,"*"&$A18&"*")+COUNTIF('Game 6'!$B$4:$G$4,"*"&$A18&"*")+COUNTIF('Game 7'!$B$4:$G$4,"*"&$A18&"*")+COUNTIF('Game 8'!$B$4:$G$4,"*"&$A18&"*")+COUNTIF('Game 9'!$B$4:$G$4,"*"&$A18&"*")+COUNTIF('Game 10'!$B$4:$G$4,"*"&$A18&"*")+COUNTIF('Game 11'!$B$4:$G$4,"*"&$A18&"*")+COUNTIF('Game 12'!$B$4:$G$4,"*"&$A18&"*")+COUNTIF('Game 13'!$B$4:$G$4,"*"&$A18&"*")+COUNTIF('Game 14'!$B$4:$G$4,"*"&$A18&"*")+COUNTIF('Game 15'!$B$4:$G$4,"*"&$A18&"*")+COUNTIF('Game 16'!$B$4:$G$4,"*"&$A18&"*") -> 0 | I18: =COUNTIF('Game 1'!$B$5:$G$5,"*"&$A18&"*")+COUNTIF('Game 2'!$B$5:$G$5,"*"&$A18&"*")+COUNTIF('Game 3'!$B$5:$G$5,"*"&$A18&"*")+COUNTIF('Game 4'!$B$5:$G$5,"*"&$A18&"*")+COUNTIF('Game 5'!$B$5:$G$5,"*"&$A18&"*")+COUNTIF('Game 6'!$B$5:$G$5,"*"&$A18&"*")+COUNTIF('Game 7'!$B$5:$G$5,"*"&$A18&"*")+COUNTIF('Game 8'!$B$5:$G$5,"*"&$A18&"*")+COUNTIF('Game 9'!$B$5:$G$5,"*"&$A18&"*")+COUNTIF('Game 10'!$B$5:$G$5,"*"&$A18&"*")+COUNTIF('Game 11'!$B$5:$G$5,"*"&$A18&"*")+COUNTIF('Game 12'!$B$5:$G$5,"*"&$A18&"*")+COUNTIF('Game 13'!$B$5:$G$5,"*"&$A18&"*")+COUNTIF('Game 14'!$B$5:$G$5,"*"&$A18&"*")+COUNTIF('Game 15'!$B$5:$G$5,"*"&$A18&"*")+COUNTIF('Game 16'!$B$5:$G$5,"*"&$A18&"*") -> 0 | J18: =COUNTIF('Game 1'!$B$6:$G$6,"*"&$A18&"*")+COUNTIF('Game 2'!$B$6:$G$6,"*"&$A18&"*")+COUNTIF('Game 3'!$B$6:$G$6,"*"&$A18&"*")+COUNTIF('Game 4'!$B$6:$G$6,"*"&$A18&"*")+COUNTIF('Game 5'!$B$6:$G$6,"*"&$A18&"*")+COUNTIF('Game 6'!$B$6:$G$6,"*"&$A18&"*")+COUNTIF('Game 7'!$B$6:$G$6,"*"&$A18&"*")+COUNTIF('Game 8'!$B$6:$G$6,"*"&$A18&"*")+COUNTIF('Game 9'!$B$6:$G$6,"*"&$A18&"*")+COUNTIF('Game 10'!$B$6:$G$6,"*"&$A18&"*")+COUNTIF('Game 11'!$B$6:$G$6,"*"&$A18&"*")+COUNTIF('Game 12'!$B$6:$G$6,"*"&$A18&"*")+COUNTIF('Game 13'!$B$6:$G$6,"*"&$A18&"*")+COUNTIF('Game 14'!$B$6:$G$6,"*"&$A18&"*")+COUNTIF('Game 15'!$B$6:$G$6,"*"&$A18&"*")+COUNTIF('Game 16'!$B$6:$G$6,"*"&$A18&"*") -> 0 | K18: =COUNTIF('Game 1'!$B$13:$G$13,"*"&$A18&"*")+COUNTIF('Game 1'!$B$14:$G$14,"*"&$A18&"*")+COUNTIF('Game 1'!$B$15:$G$15,"*"&$A18&"*")+COUNTIF('Game 1'!$B$16:$G$16,"*"&$A18&"*")+COUNTIF('Game 2'!$B$13:$G$13,"*"&$A18&"*")+COUNTIF('Game 2'!$B$14:$G$14,"*"&$A18&"*")+COUNTIF('Game 2'!$B$15:$G$15,"*"&$A18&"*")+COUNTIF('Game 2'!$B$16:$G$16,"*"&$A18&"*")+COUNTIF('Game 3'!$B$13:$G$13,"*"&$A18&"*")+COUNTIF('Game 3'!$B$14:$G$14,"*"&$A18&"*")+COUNTIF('Game 3'!$B$15:$G$15,"*"&$A18&"*")+COUNTIF('Game 3'!$B$16:$G$16,"*"&$A18&"*")+COUNTIF('Game 4'!$B$13:$G$13,"*"&$A18&"*")+COUNTIF('Game 4'!$B$14:$G$14,"*"&$A18&"*")+COUNTIF('Game 4'!$B$15:$G$15,"*"&$A18&"*")+COUNTIF('Game 4'!$B$16:$G$16,"*"&$A18&"*")+COUNTIF('Game 5'!$B$13:$G$13,"*"&$A18&"*")+COUNTIF('Game 5'!$B$14:$G$14,"*"&$A18&"*")+COUNTIF('Game 5'!$B$15:$G$15,"*"&$A18&"*")+COUNTIF('Game 5'!$B$16:$G$16,"*"&$A18&"*")+COUNTIF('Game 6'!$B$13:$G$13,"*"&$A18&"*")+COUNTIF('Game 6'!$B$14:$G$14,"*"&$A18&"*")+COUNTIF('Game 6'!$B$15:$G$15,"*"&$A18&"*")+COUNTIF('Game 6'!$B$16:$G$16,"*"&$A18&"*")+COUNTIF('Game 7'!$B$13:$G$13,"*"&$A18&"*")+COUNTIF('Game 7'!$B$14:$G$14,"*"&$A18&"*")+COUNTIF('Game 7'!$B$15:$G$15,"*"&$A18&"*")+COUNTIF('Game 7'!$B$16:$G$16,"*"&$A18&"*")+COUNTIF('Game 8'!$B$13:$G$13,"*"&$A18&"*")+COUNTIF('Game 8'!$B$14:$G$14,"*"&$A18&"*")+COUNTIF('Game 8'!$B$15:$G$15,"*"&$A18&"*")+COUNTIF('Game 8'!$B$16:$G$16,"*"&$A18&"*")+COUNTIF('Game 9'!$B$13:$G$13,"*"&$A18&"*")+COUNTIF('Game 9'!$B$14:$G$14,"*"&$A18&"*")+COUNTIF('Game 9'!$B$15:$G$15,"*"&$A18&"*")+COUNTIF('Game 9'!$B$16:$G$16,"*"&$A18&"*")+COUNTIF('Game 10'!$B$13:$G$13,"*"&$A18&"*")+COUNTIF('Game 10'!$B$14:$G$14,"*"&$A18&"*")+COUNTIF('Game 10'!$B$15:$G$15,"*"&$A18&"*")+COUNTIF('Game 10'!$B$16:$G$16,"*"&$A18&"*")+COUNTIF('Game 11'!$B$13:$G$13,"*"&$A18&"*")+COUNTIF('Game 11'!$B$14:$G$14,"*"&$A18&"*")+COUNTIF('Game 11'!$B$15:$G$15,"*"&$A18&"*")+COUNTIF('Game 11'!$B$16:$G$16,"*"&$A18&"*")+COUNTIF('Game 12'!$B$13:$G$13,"*"&$A18&"*")+COUNTIF('Game 12'!$B$14:$G$14,"*"&$A18&"*")+COUNTIF('Game 12'!$B$15:$G$15,"*"&$A18&"*")+COUNTIF('Game 12'!$B$16:$G$16,"*"&$A18&"*")+COUNTIF('Game 13'!$B$13:$G$13,"*"&$A18&"*")+COUNTIF('Game 13'!$B$14:$G$14,"*"&$A18&"*")+COUNTIF('Game 13'!$B$15:$G$15,"*"&$A18&"*")+COUNTIF('Game 13'!$B$16:$G$16,"*"&$A18&"*")+COUNTIF('Game 14'!$B$13:$G$13,"*"&$A18&"*")+COUNTIF('Game 14'!$B$14:$G$14,"*"&$A18&"*")+COUNTIF('Game 14'!$B$15:$G$15,"*"&$A18&"*")+COUNTIF('Game 14'!$B$16:$G$16,"*"&$A18&"*")+COUNTIF('Game 15'!$B$13:$G$13,"*"&$A18&"*")+COUNTIF('Game 15'!$B$14:$G$14,"*"&$A18&"*")+COUNTIF('Game 15'!$B$15:$G$15,"*"&$A18&"*")+COUNTIF('Game 15'!$B$16:$G$16,"*"&$A18&"*")+COUNTIF('Game 16'!$B$13:$G$13,"*"&$A18&"*")+COUNTIF('Game 16'!$B$14:$G$14,"*"&$A18&"*")+COUNTIF('Game 16'!$B$15:$G$15,"*"&$A18&"*")+COUNTIF('Game 16'!$B$16:$G$16,"*"&$A18&"*") -> 0 | L18: =A18 -> Player 1 | M18: =SUM(B18:G18) -> 0 | N18: =SUM(H18:J18) -> 0 | O18: =K18 -> 0 | P18: =SUM(M18:O18) -> 0 | Q18: =IF(P18=0,0,M18/P18) -> 0 | R18: =IF(P18=0,0,N18/P18) -> 0 | S18: =IF(P18=0,0,O18/P18) -> 0 | U18: =AVERAGE(P18:P30) -> 0 | V18: ='Game 1'!Z2+'Game 2'!Z2+'Game 3'!Z2+'Game 4'!Z2+'Game 5'!Z2+'Game 6'!Z2+'Game 7'!Z2+'Game 8'!Z2+'Game 9'!Z2+'Game 10'!Z2+'Game 11'!Z2+'Game 12'!Z2+'Game 13'!Z2+'Game 14'!Z2+'Game 15'!Z2+'Game 16'!Z2 -> 0 | W18: =COUNTIF('Game 1'!$L$15,"*"&$A18&"*")+COUNTIF('Game 2'!$L$15,"*"&$A18&"*")+COUNTIF('Game 3'!$L$15,"*"&$A18&"*")+COUNTIF('Game 4'!$L$15,"*"&$A18&"*")+COUNTIF('Game 5'!$L$15,"*"&$A18&"*")+COUNTIF('Game 6'!$L$15,"*"&$A18&"*")+COUNTIF('Game 7'!$L$15,"*"&$A18&"*")+COUNTIF('Game 8'!$L$15,"*"&$A18&"*")+COUNTIF('Game 9'!$L$15,"*"&$A18&"*")+COUNTIF('Game 10'!$L$15,"*"&$A18&"*")+COUNTIF('Game 11'!$L$15,"*"&$A18&"*")+COUNTIF('Game 12'!$L$15,"*"&$A18&"*")+COUNTIF('Game 13'!$L$15,"*"&$A18&"*")+COUNTIF('Game 14'!$L$15,"*"&$A18&"*")+COUNTIF('Game 15'!$L$15,"*"&$A18&"*")+COUNTIF('Game 16'!$L$15,"*"&$A18&"*") -> 0
A19: =A3 -> Player 2 | B19: =COUNTIF('Game 1'!$B$12:$G$12,"*"&$A19&"*")+COUNTIF('Game 2'!$B$12:$G$12,"*"&$A19&"*")+COUNTIF('Game 3'!$B$12:$G$12,"*"&$A19&"*")+COUNTIF('Game 4'!$B$12:$G$12,"*"&$A19&"*")+COUNTIF('Game 5'!$B$12:$G$12,"*"&$A19&"*")+COUNTIF('Game 6'!$B$12:$G$12,"*"&$A19&"*")+COUNTIF('Game 7'!$B$12:$G$12,"*"&$A19&"*")+COUNTIF('Game 8'!$B$12:$G$12,"*"&$A19&"*")+COUNTIF('Game 9'!$B$12:$G$12,"*"&$A19&"*")+COUNTIF('Game 10'!$B$12:$G$12,"*"&$A19&"*")+COUNTIF('Game 11'!$B$12:$G$12,"*"&$A19&"*")+COUNTIF('Game 12'!$B$12:$G$12,"*"&$A19&"*")+COUNTIF('Game 13'!$B$12:$G$12,"*"&$A19&"*")+COUNTIF('Game 14'!$B$12:$G$12,"*"&$A19&"*")+COUNTIF('Game 15'!$B$12:$G$12,"*"&$A19&"*")+COUNTIF('Game 16'!$B$12:$G$12,"*"&$A19&"*") -> 0 | C19: =COUNTIF('Game 1'!$B$11:$G$11,"*"&$A19&"*")+COUNTIF('Game 2'!$B$11:$G$11,"*"&$A19&"*")+COUNTIF('Game 3'!$B$11:$G$11,"*"&$A19&"*")+COUNTIF('Game 4'!$B$11:$G$11,"*"&$A19&"*")+COUNTIF('Game 5'!$B$11:$G$11,"*"&$A19&"*")+COUNTIF('Game 6'!$B$11:$G$11,"*"&$A19&"*")+COUNTIF('Game 7'!$B$11:$G$11,"*"&$A19&"*")+COUNTIF('Game 8'!$B$11:$G$11,"*"&$A19&"*")+COUNTIF('Game 9'!$B$11:$G$11,"*"&$A19&"*")+COUNTIF('Game 10'!$B$11:$G$11,"*"&$A19&"*")+COUNTIF('Game 11'!$B$11:$G$11,"*"&$A19&"*")+COUNTIF('Game 12'!$B$11:$G$11,"*"&$A19&"*")+COUNTIF('Game 13'!$B$11:$G$11,"*"&$A19&"*")+COUNTIF('Game 14'!$B$11:$G$11,"*"&$A19&"*")+COUNTIF('Game 15'!$B$11:$G$11,"*"&$A19&"*")+COUNTIF('Game 16'!$B$11:$G$11,"*"&$A19&"*") -> 0 | D19: =COUNTIF('Game 1'!$B$10:$G$10,"*"&$A19&"*")+COUNTIF('Game 2'!$B$10:$G$10,"*"&$A19&"*")+COUNTIF('Game 3'!$B$10:$G$10,"*"&$A19&"*")+COUNTIF('Game 4'!$B$10:$G$10,"*"&$A19&"*")+COUNTIF('Game 5'!$B$10:$G$10,"*"&$A19&"*")+COUNTIF('Game 6'!$B$10:$G$10,"*"&$A19&"*")+COUNTIF('Game 7'!$B$10:$G$10,"*"&$A19&"*")+COUNTIF('Game 8'!$B$10:$G$10,"*"&$A19&"*")+COUNTIF('Game 9'!$B$10:$G$10,"*"&$A19&"*")+COUNTIF('Game 10'!$B$10:$G$10,"*"&$A19&"*")+COUNTIF('Game 11'!$B$10:$G$10,"*"&$A19&"*")+COUNTIF('Game 12'!$B$10:$G$10,"*"&$A19&"*")+COUNTIF('Game 13'!$B$10:$G$10,"*"&$A19&"*")+COUNTIF('Game 14'!$B$10:$G$10,"*"&$A19&"*")+COUNTIF('Game 15'!$B$10:$G$10,"*"&$A19&"*")+COUNTIF('Game 16'!$B$10:$G$10,"*"&$A19&"*") -> 0 | E19: =COUNTIF('Game 1'!$B$9:$G$9,"*"&$A19&"*")+COUNTIF('Game 2'!$B$9:$G$9,"*"&$A19&"*")+COUNTIF('Game 3'!$B$9:$G$9,"*"&$A19&"*")+COUNTIF('Game 4'!$B$9:$G$9,"*"&$A19&"*")+COUNTIF('Game 5'!$B$9:$G$9,"*"&$A19&"*")+COUNTIF('Game 6'!$B$9:$G$9,"*"&$A19&"*")+COUNTIF('Game 7'!$B$9:$G$9,"*"&$A19&"*")+COUNTIF('Game 8'!$B$9:$G$9,"*"&$A19&"*")+COUNTIF('Game 9'!$B$9:$G$9,"*"&$A19&"*")+COUNTIF('Game 10'!$B$9:$G$9,"*"&$A19&"*")+COUNTIF('Game 11'!$B$9:$G$9,"*"&$A19&"*")+COUNTIF('Game 12'!$B$9:$G$9,"*"&$A19&"*")+COUNTIF('Game 13'!$B$9:$G$9,"*"&$A19&"*")+COUNTIF('Game 14'!$B$9:$G$9,"*"&$A19&"*")+COUNTIF('Game 15'!$B$9:$G$9,"*"&$A19&"*")+COUNTIF('Game 16'!$B$9:$G$9,"*"&$A19&"*") -> 0 | F19: =COUNTIF('Game 1'!$B$8:$G$8,"*"&$A19&"*")+COUNTIF('Game 2'!$B$8:$G$8,"*"&$A19&"*")+COUNTIF('Game 3'!$B$8:$G$8,"*"&$A19&"*")+COUNTIF('Game 4'!$B$8:$G$8,"*"&$A19&"*")+COUNTIF('Game 5'!$B$8:$G$8,"*"&$A19&"*")+COUNTIF('Game 6'!$B$8:$G$8,"*"&$A19&"*")+COUNTIF('Game 7'!$B$8:$G$8,"*"&$A19&"*")+COUNTIF('Game 8'!$B$8:$G$8,"*"&$A19&"*")+COUNTIF('Game 9'!$B$8:$G$8,"*"&$A19&"*")+COUNTIF('Game 10'!$B$8:$G$8,"*"&$A19&"*")+COUNTIF('Game 11'!$B$8:$G$8,"*"&$A19&"*")+COUNTIF('Game 12'!$B$8:$G$8,"*"&$A19&"*")+COUNTIF('Game 13'!$B$8:$G$8,"*"&$A19&"*")+COUNTIF('Game 14'!$B$8:$G$8,"*"&$A19&"*")+COUNTIF('Game 15'!$B$8:$G$8,"*"&$A19&"*")+COUNTIF('Game 16'!$B$8:$G$8,"*"&$A19&"*") -> 0 | G19: =COUNTIF('Game 1'!$B$7:$G$7,"*"&$A19&"*")+COUNTIF('Game 2'!$B$7:$G$7,"*"&$A19&"*")+COUNTIF('Game 3'!$B$7:$G$7,"*"&$A19&"*")+COUNTIF('Game 4'!$B$7:$G$7,"*"&$A19&"*")+COUNTIF('Game 5'!$B$7:$G$7,"*"&$A19&"*")+COUNTIF('Game 6'!$B$7:$G$7,"*"&$A19&"*")+COUNTIF('Game 7'!$B$7:$G$7,"*"&$A19&"*")+COUNTIF('Game 8'!$B$7:$G$7,"*"&$A19&"*")+COUNTIF('Game 9'!$B$7:$G$7,"*"&$A19&"*")+COUNTIF('Game 10'!$B$7:$G$7,"*"&$A19&"*")+COUNTIF('Game 11'!$B$7:$G$7,"*"&$A19&"*")+COUNTIF('Game 12'!$B$7:$G$7,"*"&$A19&"*")+COUNTIF('Game 13'!$B$7:$G$7,"*"&$A19&"*")+COUNTIF('Game 14'!$B$7:$G$7,"*"&$A19&"*")+COUNTIF('Game 15'!$B$7:$G$7,"*"&$A19&"*")+COUNTIF('Game 16'!$B$7:$G$7,"*"&$A19&"*") -> 0 | H19: =COUNTIF('Game 1'!$B$4:$G$4,"*"&$A19&"*")+COUNTIF('Game 2'!$B$4:$G$4,"*"&$A19&"*")+COUNTIF('Game 3'!$B$4:$G$4,"*"&$A19&"*")+COUNTIF('Game 4'!$B$4:$G$4,"*"&$A19&"*")+COUNTIF('Game 5'!$B$4:$G$4,"*"&$A19&"*")+COUNTIF('Game 6'!$B$4:$G$4,"*"&$A19&"*")+COUNTIF('Game 7'!$B$4:$G$4,"*"&$A19&"*")+COUNTIF('Game 8'!$B$4:$G$4,"*"&$A19&"*")+COUNTIF('Game 9'!$B$4:$G$4,"*"&$A19&"*")+COUNTIF('Game 10'!$B$4:$G$4,"*"&$A19&"*")+COUNTIF('Game 11'!$B$4:$G$4,"*"&$A19&"*")+COUNTIF('Game 12'!$B$4:$G$4,"*"&$A19&"*")+COUNTIF('Game 13'!$B$4:$G$4,"*"&$A19&"*")+COUNTIF('Game 14'!$B$4:$G$4,"*"&$A19&"*")+COUNTIF('Game 15'!$B$4:$G$4,"*"&$A19&"*")+COUNTIF('Game 16'!$B$4:$G$4,"*"&$A19&"*") -> 0 | I19: =COUNTIF('Game 1'!$B$5:$G$5,"*"&$A19&"*")+COUNTIF('Game 2'!$B$5:$G$5,"*"&$A19&"*")+COUNTIF('Game 3'!$B$5:$G$5,"*"&$A19&"*")+COUNTIF('Game 4'!$B$5:$G$5,"*"&$A19&"*")+COUNTIF('Game 5'!$B$5:$G$5,"*"&$A19&"*")+COUNTIF('Game 6'!$B$5:$G$5,"*"&$A19&"*")+COUNTIF('Game 7'!$B$5:$G$5,"*"&$A19&"*")+COUNTIF('Game 8'!$B$5:$G$5,"*"&$A19&"*")+COUNTIF('Game 9'!$B$5:$G$5,"*"&$A19&"*")+COUNTIF('Game 10'!$B$5:$G$5,"*"&$A19&"*")+COUNTIF('Game 11'!$B$5:$G$5,"*"&$A19&"*")+COUNTIF('Game 12'!$B$5:$G$5,"*"&$A19&"*")+COUNTIF('Game 13'!$B$5:$G$5,"*"&$A19&"*")+COUNTIF('Game 14'!$B$5:$G$5,"*"&$A19&"*")+COUNTIF('Game 15'!$B$5:$G$5,"*"&$A19&"*")+COUNTIF('Game 16'!$B$5:$G$5,"*"&$A19&"*") -> 0 | J19: =COUNTIF('Game 1'!$B$6:$G$6,"*"&$A19&"*")+COUNTIF('Game 2'!$B$6:$G$6,"*"&$A19&"*")+COUNTIF('Game 3'!$B$6:$G$6,"*"&$A19&"*")+COUNTIF('Game 4'!$B$6:$G$6,"*"&$A19&"*")+COUNTIF('Game 5'!$B$6:$G$6,"*"&$A19&"*")+COUNTIF('Game 6'!$B$6:$G$6,"*"&$A19&"*")+COUNTIF('Game 7'!$B$6:$G$6,"*"&$A19&"*")+COUNTIF('Game 8'!$B$6:$G$6,"*"&$A19&"*")+COUNTIF('Game 9'!$B$6:$G$6,"*"&$A19&"*")+COUNTIF('Game 10'!$B$6:$G$6,"*"&$A19&"*")+COUNTIF('Game 11'!$B$6:$G$6,"*"&$A19&"*")+COUNTIF('Game 12'!$B$6:$G$6,"*"&$A19&"*")+COUNTIF('Game 13'!$B$6:$G$6,"*"&$A19&"*")+COUNTIF('Game 14'!$B$6:$G$6,"*"&$A19&"*")+COUNTIF('Game 15'!$B$6:$G$6,"*"&$A19&"*")+COUNTIF('Game 16'!$B$6:$G$6,"*"&$A19&"*") -> 0 | K19: =COUNTIF('Game 1'!$B$13:$G$13,"*"&$A19&"*")+COUNTIF('Game 1'!$B$14:$G$14,"*"&$A19&"*")+COUNTIF('Game 1'!$B$15:$G$15,"*"&$A19&"*")+COUNTIF('Game 1'!$B$16:$G$16,"*"&$A19&"*")+COUNTIF('Game 2'!$B$13:$G$13,"*"&$A19&"*")+COUNTIF('Game 2'!$B$14:$G$14,"*"&$A19&"*")+COUNTIF('Game 2'!$B$15:$G$15,"*"&$A19&"*")+COUNTIF('Game 2'!$B$16:$G$16,"*"&$A19&"*")+COUNTIF('Game 3'!$B$13:$G$13,"*"&$A19&"*")+COUNTIF('Game 3'!$B$14:$G$14,"*"&$A19&"*")+COUNTIF('Game 3'!$B$15:$G$15,"*"&$A19&"*")+COUNTIF('Game 3'!$B$16:$G$16,"*"&$A19&"*")+COUNTIF('Game 4'!$B$13:$G$13,"*"&$A19&"*")+COUNTIF('Game 4'!$B$14:$G$14,"*"&$A19&"*")+COUNTIF('Game 4'!$B$15:$G$15,"*"&$A19&"*")+COUNTIF('Game 4'!$B$16:$G$16,"*"&$A19&"*")+COUNTIF('Game 5'!$B$13:$G$13,"*"&$A19&"*")+COUNTIF('Game 5'!$B$14:$G$14,"*"&$A19&"*")+COUNTIF('Game 5'!$B$15:$G$15,"*"&$A19&"*")+COUNTIF('Game 5'!$B$16:$G$16,"*"&$A19&"*")+COUNTIF('Game 6'!$B$13:$G$13,"*"&$A19&"*")+COUNTIF('Game 6'!$B$14:$G$14,"*"&$A19&"*")+COUNTIF('Game 6'!$B$15:$G$15,"*"&$A19&"*")+COUNTIF('Game 6'!$B$16:$G$16,"*"&$A19&"*")+COUNTIF('Game 7'!$B$13:$G$13,"*"&$A19&"*")+COUNTIF('Game 7'!$B$14:$G$14,"*"&$A19&"*")+COUNTIF('Game 7'!$B$15:$G$15,"*"&$A19&"*")+COUNTIF('Game 7'!$B$16:$G$16,"*"&$A19&"*")+COUNTIF('Game 8'!$B$13:$G$13,"*"&$A19&"*")+COUNTIF('Game 8'!$B$14:$G$14,"*"&$A19&"*")+COUNTIF('Game 8'!$B$15:$G$15,"*"&$A19&"*")+COUNTIF('Game 8'!$B$16:$G$16,"*"&$A19&"*")+COUNTIF('Game 9'!$B$13:$G$13,"*"&$A19&"*")+COUNTIF('Game 9'!$B$14:$G$14,"*"&$A19&"*")+COUNTIF('Game 9'!$B$15:$G$15,"*"&$A19&"*")+COUNTIF('Game 9'!$B$16:$G$16,"*"&$A19&"*")+COUNTIF('Game 10'!$B$13:$G$13,"*"&$A19&"*")+COUNTIF('Game 10'!$B$14:$G$14,"*"&$A19&"*")+COUNTIF('Game 10'!$B$15:$G$15,"*"&$A19&"*")+COUNTIF('Game 10'!$B$16:$G$16,"*"&$A19&"*")+COUNTIF('Game 11'!$B$13:$G$13,"*"&$A19&"*")+COUNTIF('Game 11'!$B$14:$G$14,"*"&$A19&"*")+COUNTIF('Game 11'!$B$15:$G$15,"*"&$A19&"*")+COUNTIF('Game 11'!$B$16:$G$16,"*"&$A19&"*")+COUNTIF('Game 12'!$B$13:$G$13,"*"&$A19&"*")+COUNTIF('Game 12'!$B$14:$G$14,"*"&$A19&"*")+COUNTIF('Game 12'!$B$15:$G$15,"*"&$A19&"*")+COUNTIF('Game 12'!$B$16:$G$16,"*"&$A19&"*")+COUNTIF('Game 13'!$B$13:$G$13,"*"&$A19&"*")+COUNTIF('Game 13'!$B$14:$G$14,"*"&$A19&"*")+COUNTIF('Game 13'!$B$15:$G$15,"*"&$A19&"*")+COUNTIF('Game 13'!$B$16:$G$16,"*"&$A19&"*")+COUNTIF('Game 14'!$B$13:$G$13,"*"&$A19&"*")+COUNTIF('Game 14'!$B$14:$G$14,"*"&$A19&"*")+COUNTIF('Game 14'!$B$15:$G$15,"*"&$A19&"*")+COUNTIF('Game 14'!$B$16:$G$16,"*"&$A19&"*")+COUNTIF('Game 15'!$B$13:$G$13,"*"&$A19&"*")+COUNTIF('Game 15'!$B$14:$G$14,"*"&$A19&"*")+COUNTIF('Game 15'!$B$15:$G$15,"*"&$A19&"*")+COUNTIF('Game 15'!$B$16:$G$16,"*"&$A19&"*")+COUNTIF('Game 16'!$B$13:$G$13,"*"&$A19&"*")+COUNTIF('Game 16'!$B$14:$G$14,"*"&$A19&"*")+COUNTIF('Game 16'!$B$15:$G$15,"*"&$A19&"*")+COUNTIF('Game 16'!$B$16:$G$16,"*"&$A19&"*") -> 0 | L19: =A19 -> Player 2 | M19: =SUM(B19:G19) -> 0 | N19: =SUM(H19:J19) -> 0 | O19: =K19 -> 0 | P19: =SUM(M19:O19) -> 0 | Q19: =IF(P19=0,0,M19/P19) -> 0 | R19: =IF(P19=0,0,N19/P19) -> 0 | S19: =IF(P19=0,0,O19/P19) -> 0 | V19: ='Game 1'!Z3+'Game 2'!Z3+'Game 3'!Z3+'Game 4'!Z3+'Game 5'!Z3+'Game 6'!Z3+'Game 7'!Z3+'Game 8'!Z3+'Game 9'!Z3+'Game 10'!Z3+'Game 11'!Z3+'Game 12'!Z3+'Game 13'!Z3+'Game 14'!Z3+'Game 15'!Z3+'Game 16'!Z3 -> 0 | W19: =COUNTIF('Game 1'!$L$15,"*"&$A19&"*")+COUNTIF('Game 2'!$L$15,"*"&$A19&"*")+COUNTIF('Game 3'!$L$15,"*"&$A19&"*")+COUNTIF('Game 4'!$L$15,"*"&$A19&"*")+COUNTIF('Game 5'!$L$15,"*"&$A19&"*")+COUNTIF('Game 6'!$L$15,"*"&$A19&"*")+COUNTIF('Game 7'!$L$15,"*"&$A19&"*")+COUNTIF('Game 8'!$L$15,"*"&$A19&"*")+COUNTIF('Game 9'!$L$15,"*"&$A19&"*")+COUNTIF('Game 10'!$L$15,"*"&$A19&"*")+COUNTIF('Game 11'!$L$15,"*"&$A19&"*")+COUNTIF('Game 12'!$L$15,"*"&$A19&"*")+COUNTIF('Game 13'!$L$15,"*"&$A19&"*")+COUNTIF('Game 14'!$L$15,"*"&$A19&"*")+COUNTIF('Game 15'!$L$15,"*"&$A19&"*")+COUNTIF('Game 16'!$L$15,"*"&$A19&"*") -> 0
A20: =A4 -> Player 3 | B20: =COUNTIF('Game 1'!$B$12:$G$12,"*"&$A20&"*")+COUNTIF('Game 2'!$B$12:$G$12,"*"&$A20&"*")+COUNTIF('Game 3'!$B$12:$G$12,"*"&$A20&"*")+COUNTIF('Game 4'!$B$12:$G$12,"*"&$A20&"*")+COUNTIF('Game 5'!$B$12:$G$12,"*"&$A20&"*")+COUNTIF('Game 6'!$B$12:$G$12,"*"&$A20&"*")+COUNTIF('Game 7'!$B$12:$G$12,"*"&$A20&"*")+COUNTIF('Game 8'!$B$12:$G$12,"*"&$A20&"*")+COUNTIF('Game 9'!$B$12:$G$12,"*"&$A20&"*")+COUNTIF('Game 10'!$B$12:$G$12,"*"&$A20&"*")+COUNTIF('Game 11'!$B$12:$G$12,"*"&$A20&"*")+COUNTIF('Game 12'!$B$12:$G$12,"*"&$A20&"*")+COUNTIF('Game 13'!$B$12:$G$12,"*"&$A20&"*")+COUNTIF('Game 14'!$B$12:$G$12,"*"&$A20&"*")+COUNTIF('Game 15'!$B$12:$G$12,"*"&$A20&"*")+COUNTIF('Game 16'!$B$12:$G$12,"*"&$A20&"*") -> 0 | C20: =COUNTIF('Game 1'!$B$11:$G$11,"*"&$A20&"*")+COUNTIF('Game 2'!$B$11:$G$11,"*"&$A20&"*")+COUNTIF('Game 3'!$B$11:$G$11,"*"&$A20&"*")+COUNTIF('Game 4'!$B$11:$G$11,"*"&$A20&"*")+COUNTIF('Game 5'!$B$11:$G$11,"*"&$A20&"*")+COUNTIF('Game 6'!$B$11:$G$11,"*"&$A20&"*")+COUNTIF('Game 7'!$B$11:$G$11,"*"&$A20&"*")+COUNTIF('Game 8'!$B$11:$G$11,"*"&$A20&"*")+COUNTIF('Game 9'!$B$11:$G$11,"*"&$A20&"*")+COUNTIF('Game 10'!$B$11:$G$11,"*"&$A20&"*")+COUNTIF('Game 11'!$B$11:$G$11,"*"&$A20&"*")+COUNTIF('Game 12'!$B$11:$G$11,"*"&$A20&"*")+COUNTIF('Game 13'!$B$11:$G$11,"*"&$A20&"*")+COUNTIF('Game 14'!$B$11:$G$11,"*"&$A20&"*")+COUNTIF('Game 15'!$B$11:$G$11,"*"&$A20&"*")+COUNTIF('Game 16'!$B$11:$G$11,"*"&$A20&"*") -> 0 | D20: =COUNTIF('Game 1'!$B$10:$G$10,"*"&$A20&"*")+COUNTIF('Game 2'!$B$10:$G$10,"*"&$A20&"*")+COUNTIF('Game 3'!$B$10:$G$10,"*"&$A20&"*")+COUNTIF('Game 4'!$B$10:$G$10,"*"&$A20&"*")+COUNTIF('Game 5'!$B$10:$G$10,"*"&$A20&"*")+COUNTIF('Game 6'!$B$10:$G$10,"*"&$A20&"*")+COUNTIF('Game 7'!$B$10:$G$10,"*"&$A20&"*")+COUNTIF('Game 8'!$B$10:$G$10,"*"&$A20&"*")+COUNTIF('Game 9'!$B$10:$G$10,"*"&$A20&"*")+COUNTIF('Game 10'!$B$10:$G$10,"*"&$A20&"*")+COUNTIF('Game 11'!$B$10:$G$10,"*"&$A20&"*")+COUNTIF('Game 12'!$B$10:$G$10,"*"&$A20&"*")+COUNTIF('Game 13'!$B$10:$G$10,"*"&$A20&"*")+COUNTIF('Game 14'!$B$10:$G$10,"*"&$A20&"*")+COUNTIF('Game 15'!$B$10:$G$10,"*"&$A20&"*")+COUNTIF('Game 16'!$B$10:$G$10,"*"&$A20&"*") -> 0 | E20: =COUNTIF('Game 1'!$B$9:$G$9,"*"&$A20&"*")+COUNTIF('Game 2'!$B$9:$G$9,"*"&$A20&"*")+COUNTIF('Game 3'!$B$9:$G$9,"*"&$A20&"*")+COUNTIF('Game 4'!$B$9:$G$9,"*"&$A20&"*")+COUNTIF('Game 5'!$B$9:$G$9,"*"&$A20&"*")+COUNTIF('Game 6'!$B$9:$G$9,"*"&$A20&"*")+COUNTIF('Game 7'!$B$9:$G$9,"*"&$A20&"*")+COUNTIF('Game 8'!$B$9:$G$9,"*"&$A20&"*")+COUNTIF('Game 9'!$B$9:$G$9,"*"&$A20&"*")+COUNTIF('Game 10'!$B$9:$G$9,"*"&$A20&"*")+COUNTIF('Game 11'!$B$9:$G$9,"*"&$A20&"*")+COUNTIF('Game 12'!$B$9:$G$9,"*"&$A20&"*")+COUNTIF('Game 13'!$B$9:$G$9,"*"&$A20&"*")+COUNTIF('Game 14'!$B$9:$G$9,"*"&$A20&"*")+COUNTIF('Game 15'!$B$9:$G$9,"*"&$A20&"*")+COUNTIF('Game 16'!$B$9:$G$9,"*"&$A20&"*") -> 0 | F20: =COUNTIF('Game 1'!$B$8:$G$8,"*"&$A20&"*")+COUNTIF('Game 2'!$B$8:$G$8,"*"&$A20&"*")+COUNTIF('Game 3'!$B$8:$G$8,"*"&$A20&"*")+COUNTIF('Game 4'!$B$8:$G$8,"*"&$A20&"*")+COUNTIF('Game 5'!$B$8:$G$8,"*"&$A20&"*")+COUNTIF('Game 6'!$B$8:$G$8,"*"&$A20&"*")+COUNTIF('Game 7'!$B$8:$G$8,"*"&$A20&"*")+COUNTIF('Game 8'!$B$8:$G$8,"*"&$A20&"*")+COUNTIF('Game 9'!$B$8:$G$8,"*"&$A20&"*")+COUNTIF('Game 10'!$B$8:$G$8,"*"&$A20&"*")+COUNTIF('Game 11'!$B$8:$G$8,"*"&$A20&"*")+COUNTIF('Game 12'!$B$8:$G$8,"*"&$A20&"*")+COUNTIF('Game 13'!$B$8:$G$8,"*"&$A20&"*")+COUNTIF('Game 14'!$B$8:$G$8,"*"&$A20&"*")+COUNTIF('Game 15'!$B$8:$G$8,"*"&$A20&"*")+COUNTIF('Game 16'!$B$8:$G$8,"*"&$A20&"*") -> 0 | G20: =COUNTIF('Game 1'!$B$7:$G$7,"*"&$A20&"*")+COUNTIF('Game 2'!$B$7:$G$7,"*"&$A20&"*")+COUNTIF('Game 3'!$B$7:$G$7,"*"&$A20&"*")+COUNTIF('Game 4'!$B$7:$G$7,"*"&$A20&"*")+COUNTIF('Game 5'!$B$7:$G$7,"*"&$A20&"*")+COUNTIF('Game 6'!$B$7:$G$7,"*"&$A20&"*")+COUNTIF('Game 7'!$B$7:$G$7,"*"&$A20&"*")+COUNTIF('Game 8'!$B$7:$G$7,"*"&$A20&"*")+COUNTIF('Game 9'!$B$7:$G$7,"*"&$A20&"*")+COUNTIF('Game 10'!$B$7:$G$7,"*"&$A20&"*")+COUNTIF('Game 11'!$B$7:$G$7,"*"&$A20&"*")+COUNTIF('Game 12'!$B$7:$G$7,"*"&$A20&"*")+COUNTIF('Game 13'!$B$7:$G$7,"*"&$A20&"*")+COUNTIF('Game 14'!$B$7:$G$7,"*"&$A20&"*")+COUNTIF('Game 15'!$B$7:$G$7,"*"&$A20&"*")+COUNTIF('Game 16'!$B$7:$G$7,"*"&$A20&"*") -> 0 | H20: =COUNTIF('Game 1'!$B$4:$G$4,"*"&$A20&"*")+COUNTIF('Game 2'!$B$4:$G$4,"*"&$A20&"*")+COUNTIF('Game 3'!$B$4:$G$4,"*"&$A20&"*")+COUNTIF('Game 4'!$B$4:$G$4,"*"&$A20&"*")+COUNTIF('Game 5'!$B$4:$G$4,"*"&$A20&"*")+COUNTIF('Game 6'!$B$4:$G$4,"*"&$A20&"*")+COUNTIF('Game 7'!$B$4:$G$4,"*"&$A20&"*")+COUNTIF('Game 8'!$B$4:$G$4,"*"&$A20&"*")+COUNTIF('Game 9'!$B$4:$G$4,"*"&$A20&"*")+COUNTIF('Game 10'!$B$4:$G$4,"*"&$A20&"*")+COUNTIF('Game 11'!$B$4:$G$4,"*"&$A20&"*")+COUNTIF('Game 12'!$B$4:$G$4,"*"&$A20&"*")+COUNTIF('Game 13'!$B$4:$G$4,"*"&$A20&"*")+COUNTIF('Game 14'!$B$4:$G$4,"*"&$A20&"*")+COUNTIF('Game 15'!$B$4:$G$4,"*"&$A20&"*")+COUNTIF('Game 16'!$B$4:$G$4,"*"&$A20&"*") -> 0 | I20: =COUNTIF('Game 1'!$B$5:$G$5,"*"&$A20&"*")+COUNTIF('Game 2'!$B$5:$G$5,"*"&$A20&"*")+COUNTIF('Game 3'!$B$5:$G$5,"*"&$A20&"*")+COUNTIF('Game 4'!$B$5:$G$5,"*"&$A20&"*")+COUNTIF('Game 5'!$B$5:$G$5,"*"&$A20&"*")+COUNTIF('Game 6'!$B$5:$G$5,"*"&$A20&"*")+COUNTIF('Game 7'!$B$5:$G$5,"*"&$A20&"*")+COUNTIF('Game 8'!$B$5:$G$5,"*"&$A20&"*")+COUNTIF('Game 9'!$B$5:$G$5,"*"&$A20&"*")+COUNTIF('Game 10'!$B$5:$G$5,"*"&$A20&"*")+COUNTIF('Game 11'!$B$5:$G$5,"*"&$A20&"*")+COUNTIF('Game 12'!$B$5:$G$5,"*"&$A20&"*")+COUNTIF('Game 13'!$B$5:$G$5,"*"&$A20&"*")+COUNTIF('Game 14'!$B$5:$G$5,"*"&$A20&"*")+COUNTIF('Game 15'!$B$5:$G$5,"*"&$A20&"*")+COUNTIF('Game 16'!$B$5:$G$5,"*"&$A20&"*") -> 0 | J20: =COUNTIF('Game 1'!$B$6:$G$6,"*"&$A20&"*")+COUNTIF('Game 2'!$B$6:$G$6,"*"&$A20&"*")+COUNTIF('Game 3'!$B$6:$G$6,"*"&$A20&"*")+COUNTIF('Game 4'!$B$6:$G$6,"*"&$A20&"*")+COUNTIF('Game 5'!$B$6:$G$6,"*"&$A20&"*")+COUNTIF('Game 6'!$B$6:$G$6,"*"&$A20&"*")+COUNTIF('Game 7'!$B$6:$G$6,"*"&$A20&"*")+COUNTIF('Game 8'!$B$6:$G$6,"*"&$A20&"*")+COUNTIF('Game 9'!$B$6:$G$6,"*"&$A20&"*")+COUNTIF('Game 10'!$B$6:$G$6,"*"&$A20&"*")+COUNTIF('Game 11'!$B$6:$G$6,"*"&$A20&"*")+COUNTIF('Game 12'!$B$6:$G$6,"*"&$A20&"*")+COUNTIF('Game 13'!$B$6:$G$6,"*"&$A20&"*")+COUNTIF('Game 14'!$B$6:$G$6,"*"&$A20&"*")+COUNTIF('Game 15'!$B$6:$G$6,"*"&$A20&"*")+COUNTIF('Game 16'!$B$6:$G$6,"*"&$A20&"*") -> 0 | K20: =COUNTIF('Game 1'!$B$13:$G$13,"*"&$A20&"*")+COUNTIF('Game 1'!$B$14:$G$14,"*"&$A20&"*")+COUNTIF('Game 1'!$B$15:$G$15,"*"&$A20&"*")+COUNTIF('Game 1'!$B$16:$G$16,"*"&$A20&"*")+COUNTIF('Game 2'!$B$13:$G$13,"*"&$A20&"*")+COUNTIF('Game 2'!$B$14:$G$14,"*"&$A20&"*")+COUNTIF('Game 2'!$B$15:$G$15,"*"&$A20&"*")+COUNTIF('Game 2'!$B$16:$G$16,"*"&$A20&"*")+COUNTIF('Game 3'!$B$13:$G$13,"*"&$A20&"*")+COUNTIF('Game 3'!$B$14:$G$14,"*"&$A20&"*")+COUNTIF('Game 3'!$B$15:$G$15,"*"&$A20&"*")+COUNTIF('Game 3'!$B$16:$G$16,"*"&$A20&"*")+COUNTIF('Game 4'!$B$13:$G$13,"*"&$A20&"*")+COUNTIF('Game 4'!$B$14:$G$14,"*"&$A20&"*")+COUNTIF('Game 4'!$B$15:$G$15,"*"&$A20&"*")+COUNTIF('Game 4'!$B$16:$G$16,"*"&$A20&"*")+COUNTIF('Game 5'!$B$13:$G$13,"*"&$A20&"*")+COUNTIF('Game 5'!$B$14:$G$14,"*"&$A20&"*")+COUNTIF('Game 5'!$B$15:$G$15,"*"&$A20&"*")+COUNTIF('Game 5'!$B$16:$G$16,"*"&$A20&"*")+COUNTIF('Game 6'!$B$13:$G$13,"*"&$A20&"*")+COUNTIF('Game 6'!$B$14:$G$14,"*"&$A20&"*")+COUNTIF('Game 6'!$B$15:$G$15,"*"&$A20&"*")+COUNTIF('Game 6'!$B$16:$G$16,"*"&$A20&"*")+COUNTIF('Game 7'!$B$13:$G$13,"*"&$A20&"*")+COUNTIF('Game 7'!$B$14:$G$14,"*"&$A20&"*")+COUNTIF('Game 7'!$B$15:$G$15,"*"&$A20&"*")+COUNTIF('Game 7'!$B$16:$G$16,"*"&$A20&"*")+COUNTIF('Game 8'!$B$13:$G$13,"*"&$A20&"*")+COUNTIF('Game 8'!$B$14:$G$14,"*"&$A20&"*")+COUNTIF('Game 8'!$B$15:$G$15,"*"&$A20&"*")+COUNTIF('Game 8'!$B$16:$G$16,"*"&$A20&"*")+COUNTIF('Game 9'!$B$13:$G$13,"*"&$A20&"*")+COUNTIF('Game 9'!$B$14:$G$14,"*"&$A20&"*")+COUNTIF('Game 9'!$B$15:$G$15,"*"&$A20&"*")+COUNTIF('Game 9'!$B$16:$G$16,"*"&$A20&"*")+COUNTIF('Game 10'!$B$13:$G$13,"*"&$A20&"*")+COUNTIF('Game 10'!$B$14:$G$14,"*"&$A20&"*")+COUNTIF('Game 10'!$B$15:$G$15,"*"&$A20&"*")+COUNTIF('Game 10'!$B$16:$G$16,"*"&$A20&"*")+COUNTIF('Game 11'!$B$13:$G$13,"*"&$A20&"*")+COUNTIF('Game 11'!$B$14:$G$14,"*"&$A20&"*")+COUNTIF('Game 11'!$B$15:$G$15,"*"&$A20&"*")+COUNTIF('Game 11'!$B$16:$G$16,"*"&$A20&"*")+COUNTIF('Game 12'!$B$13:$G$13,"*"&$A20&"*")+COUNTIF('Game 12'!$B$14:$G$14,"*"&$A20&"*")+COUNTIF('Game 12'!$B$15:$G$15,"*"&$A20&"*")+COUNTIF('Game 12'!$B$16:$G$16,"*"&$A20&"*")+COUNTIF('Game 13'!$B$13:$G$13,"*"&$A20&"*")+COUNTIF('Game 13'!$B$14:$G$14,"*"&$A20&"*")+COUNTIF('Game 13'!$B$15:$G$15,"*"&$A20&"*")+COUNTIF('Game 13'!$B$16:$G$16,"*"&$A20&"*")+COUNTIF('Game 14'!$B$13:$G$13,"*"&$A20&"*")+COUNTIF('Game 14'!$B$14:$G$14,"*"&$A20&"*")+COUNTIF('Game 14'!$B$15:$G$15,"*"&$A20&"*")+COUNTIF('Game 14'!$B$16:$G$16,"*"&$A20&"*")+COUNTIF('Game 15'!$B$13:$G$13,"*"&$A20&"*")+COUNTIF('Game 15'!$B$14:$G$14,"*"&$A20&"*")+COUNTIF('Game 15'!$B$15:$G$15,"*"&$A20&"*")+COUNTIF('Game 15'!$B$16:$G$16,"*"&$A20&"*")+COUNTIF('Game 16'!$B$13:$G$13,"*"&$A20&"*")+COUNTIF('Game 16'!$B$14:$G$14,"*"&$A20&"*")+COUNTIF('Game 16'!$B$15:$G$15,"*"&$A20&"*")+COUNTIF('Game 16'!$B$16:$G$16,"*"&$A20&"*") -> 0 | L20: =A20 -> Player 3 | M20: =SUM(B20:G20) -> 0 | N20: =SUM(H20:J20) -> 0 | O20: =K20 -> 0 | P20: =SUM(M20:O20) -> 0 | Q20: =IF(P20=0,0,M20/P20) -> 0 | R20: =IF(P20=0,0,N20/P20) -> 0 | S20: =IF(P20=0,0,O20/P20) -> 0 | V20: ='Game 1'!Z4+'Game 2'!Z4+'Game 3'!Z4+'Game 4'!Z4+'Game 5'!Z4+'Game 6'!Z4+'Game 7'!Z4+'Game 8'!Z4+'Game 9'!Z4+'Game 10'!Z4+'Game 11'!Z4+'Game 12'!Z4+'Game 13'!Z4+'Game 14'!Z4+'Game 15'!Z4+'Game 16'!Z4 -> 0 | W20: =COUNTIF('Game 1'!$L$15,"*"&$A20&"*")+COUNTIF('Game 2'!$L$15,"*"&$A20&"*")+COUNTIF('Game 3'!$L$15,"*"&$A20&"*")+COUNTIF('Game 4'!$L$15,"*"&$A20&"*")+COUNTIF('Game 5'!$L$15,"*"&$A20&"*")+COUNTIF('Game 6'!$L$15,"*"&$A20&"*")+COUNTIF('Game 7'!$L$15,"*"&$A20&"*")+COUNTIF('Game 8'!$L$15,"*"&$A20&"*")+COUNTIF('Game 9'!$L$15,"*"&$A20&"*")+COUNTIF('Game 10'!$L$15,"*"&$A20&"*")+COUNTIF('Game 11'!$L$15,"*"&$A20&"*")+COUNTIF('Game 12'!$L$15,"*"&$A20&"*")+COUNTIF('Game 13'!$L$15,"*"&$A20&"*")+COUNTIF('Game 14'!$L$15,"*"&$A20&"*")+COUNTIF('Game 15'!$L$15,"*"&$A20&"*")+COUNTIF('Game 16'!$L$15,"*"&$A20&"*") -> 0
A21: =A5 -> Player 4 | B21: =COUNTIF('Game 1'!$B$12:$G$12,"*"&$A21&"*")+COUNTIF('Game 2'!$B$12:$G$12,"*"&$A21&"*")+COUNTIF('Game 3'!$B$12:$G$12,"*"&$A21&"*")+COUNTIF('Game 4'!$B$12:$G$12,"*"&$A21&"*")+COUNTIF('Game 5'!$B$12:$G$12,"*"&$A21&"*")+COUNTIF('Game 6'!$B$12:$G$12,"*"&$A21&"*")+COUNTIF('Game 7'!$B$12:$G$12,"*"&$A21&"*")+COUNTIF('Game 8'!$B$12:$G$12,"*"&$A21&"*")+COUNTIF('Game 9'!$B$12:$G$12,"*"&$A21&"*")+COUNTIF('Game 10'!$B$12:$G$12,"*"&$A21&"*")+COUNTIF('Game 11'!$B$12:$G$12,"*"&$A21&"*")+COUNTIF('Game 12'!$B$12:$G$12,"*"&$A21&"*")+COUNTIF('Game 13'!$B$12:$G$12,"*"&$A21&"*")+COUNTIF('Game 14'!$B$12:$G$12,"*"&$A21&"*")+COUNTIF('Game 15'!$B$12:$G$12,"*"&$A21&"*")+COUNTIF('Game 16'!$B$12:$G$12,"*"&$A21&"*") -> 0 | C21: =COUNTIF('Game 1'!$B$11:$G$11,"*"&$A21&"*")+COUNTIF('Game 2'!$B$11:$G$11,"*"&$A21&"*")+COUNTIF('Game 3'!$B$11:$G$11,"*"&$A21&"*")+COUNTIF('Game 4'!$B$11:$G$11,"*"&$A21&"*")+COUNTIF('Game 5'!$B$11:$G$11,"*"&$A21&"*")+COUNTIF('Game 6'!$B$11:$G$11,"*"&$A21&"*")+COUNTIF('Game 7'!$B$11:$G$11,"*"&$A21&"*")+COUNTIF('Game 8'!$B$11:$G$11,"*"&$A21&"*")+COUNTIF('Game 9'!$B$11:$G$11,"*"&$A21&"*")+COUNTIF('Game 10'!$B$11:$G$11,"*"&$A21&"*")+COUNTIF('Game 11'!$B$11:$G$11,"*"&$A21&"*")+COUNTIF('Game 12'!$B$11:$G$11,"*"&$A21&"*")+COUNTIF('Game 13'!$B$11:$G$11,"*"&$A21&"*")+COUNTIF('Game 14'!$B$11:$G$11,"*"&$A21&"*")+COUNTIF('Game 15'!$B$11:$G$11,"*"&$A21&"*")+COUNTIF('Game 16'!$B$11:$G$11,"*"&$A21&"*") -> 0 | D21: =COUNTIF('Game 1'!$B$10:$G$10,"*"&$A21&"*")+COUNTIF('Game 2'!$B$10:$G$10,"*"&$A21&"*")+COUNTIF('Game 3'!$B$10:$G$10,"*"&$A21&"*")+COUNTIF('Game 4'!$B$10:$G$10,"*"&$A21&"*")+COUNTIF('Game 5'!$B$10:$G$10,"*"&$A21&"*")+COUNTIF('Game 6'!$B$10:$G$10,"*"&$A21&"*")+COUNTIF('Game 7'!$B$10:$G$10,"*"&$A21&"*")+COUNTIF('Game 8'!$B$10:$G$10,"*"&$A21&"*")+COUNTIF('Game 9'!$B$10:$G$10,"*"&$A21&"*")+COUNTIF('Game 10'!$B$10:$G$10,"*"&$A21&"*")+COUNTIF('Game 11'!$B$10:$G$10,"*"&$A21&"*")+COUNTIF('Game 12'!$B$10:$G$10,"*"&$A21&"*")+COUNTIF('Game 13'!$B$10:$G$10,"*"&$A21&"*")+COUNTIF('Game 14'!$B$10:$G$10,"*"&$A21&"*")+COUNTIF('Game 15'!$B$10:$G$10,"*"&$A21&"*")+COUNTIF('Game 16'!$B$10:$G$10,"*"&$A21&"*") -> 0 | E21: =COUNTIF('Game 1'!$B$9:$G$9,"*"&$A21&"*")+COUNTIF('Game 2'!$B$9:$G$9,"*"&$A21&"*")+COUNTIF('Game 3'!$B$9:$G$9,"*"&$A21&"*")+COUNTIF('Game 4'!$B$9:$G$9,"*"&$A21&"*")+COUNTIF('Game 5'!$B$9:$G$9,"*"&$A21&"*")+COUNTIF('Game 6'!$B$9:$G$9,"*"&$A21&"*")+COUNTIF('Game 7'!$B$9:$G$9,"*"&$A21&"*")+COUNTIF('Game 8'!$B$9:$G$9,"*"&$A21&"*")+COUNTIF('Game 9'!$B$9:$G$9,"*"&$A21&"*")+COUNTIF('Game 10'!$B$9:$G$9,"*"&$A21&"*")+COUNTIF('Game 11'!$B$9:$G$9,"*"&$A21&"*")+COUNTIF('Game 12'!$B$9:$G$9,"*"&$A21&"*")+COUNTIF('Game 13'!$B$9:$G$9,"*"&$A21&"*")+COUNTIF('Game 14'!$B$9:$G$9,"*"&$A21&"*")+COUNTIF('Game 15'!$B$9:$G$9,"*"&$A21&"*")+COUNTIF('Game 16'!$B$9:$G$9,"*"&$A21&"*") -> 0 | F21: =COUNTIF('Game 1'!$B$8:$G$8,"*"&$A21&"*")+COUNTIF('Game 2'!$B$8:$G$8,"*"&$A21&"*")+COUNTIF('Game 3'!$B$8:$G$8,"*"&$A21&"*")+COUNTIF('Game 4'!$B$8:$G$8,"*"&$A21&"*")+COUNTIF('Game 5'!$B$8:$G$8,"*"&$A21&"*")+COUNTIF('Game 6'!$B$8:$G$8,"*"&$A21&"*")+COUNTIF('Game 7'!$B$8:$G$8,"*"&$A21&"*")+COUNTIF('Game 8'!$B$8:$G$8,"*"&$A21&"*")+COUNTIF('Game 9'!$B$8:$G$8,"*"&$A21&"*")+COUNTIF('Game 10'!$B$8:$G$8,"*"&$A21&"*")+COUNTIF('Game 11'!$B$8:$G$8,"*"&$A21&"*")+COUNTIF('Game 12'!$B$8:$G$8,"*"&$A21&"*")+COUNTIF('Game 13'!$B$8:$G$8,"*"&$A21&"*")+COUNTIF('Game 14'!$B$8:$G$8,"*"&$A21&"*")+COUNTIF('Game 15'!$B$8:$G$8,"*"&$A21&"*")+COUNTIF('Game 16'!$B$8:$G$8,"*"&$A21&"*") -> 0 | G21: =COUNTIF('Game 1'!$B$7:$G$7,"*"&$A21&"*")+COUNTIF('Game 2'!$B$7:$G$7,"*"&$A21&"*")+COUNTIF('Game 3'!$B$7:$G$7,"*"&$A21&"*")+COUNTIF('Game 4'!$B$7:$G$7,"*"&$A21&"*")+COUNTIF('Game 5'!$B$7:$G$7,"*"&$A21&"*")+COUNTIF('Game 6'!$B$7:$G$7,"*"&$A21&"*")+COUNTIF('Game 7'!$B$7:$G$7,"*"&$A21&"*")+COUNTIF('Game 8'!$B$7:$G$7,"*"&$A21&"*")+COUNTIF('Game 9'!$B$7:$G$7,"*"&$A21&"*")+COUNTIF('Game 10'!$B$7:$G$7,"*"&$A21&"*")+COUNTIF('Game 11'!$B$7:$G$7,"*"&$A21&"*")+COUNTIF('Game 12'!$B$7:$G$7,"*"&$A21&"*")+COUNTIF('Game 13'!$B$7:$G$7,"*"&$A21&"*")+COUNTIF('Game 14'!$B$7:$G$7,"*"&$A21&"*")+COUNTIF('Game 15'!$B$7:$G$7,"*"&$A21&"*")+COUNTIF('Game 16'!$B$7:$G$7,"*"&$A21&"*") -> 0 | H21: =COUNTIF('Game 1'!$B$4:$G$4,"*"&$A21&"*")+COUNTIF('Game 2'!$B$4:$G$4,"*"&$A21&"*")+COUNTIF('Game 3'!$B$4:$G$4,"*"&$A21&"*")+COUNTIF('Game 4'!$B$4:$G$4,"*"&$A21&"*")+COUNTIF('Game 5'!$B$4:$G$4,"*"&$A21&"*")+COUNTIF('Game 6'!$B$4:$G$4,"*"&$A21&"*")+COUNTIF('Game 7'!$B$4:$G$4,"*"&$A21&"*")+COUNTIF('Game 8'!$B$4:$G$4,"*"&$A21&"*")+COUNTIF('Game 9'!$B$4:$G$4,"*"&$A21&"*")+COUNTIF('Game 10'!$B$4:$G$4,"*"&$A21&"*")+COUNTIF('Game 11'!$B$4:$G$4,"*"&$A21&"*")+COUNTIF('Game 12'!$B$4:$G$4,"*"&$A21&"*")+COUNTIF('Game 13'!$B$4:$G$4,"*"&$A21&"*")+COUNTIF('Game 14'!$B$4:$G$4,"*"&$A21&"*")+COUNTIF('Game 15'!$B$4:$G$4,"*"&$A21&"*")+COUNTIF('Game 16'!$B$4:$G$4,"*"&$A21&"*") -> 0 | I21: =COUNTIF('Game 1'!$B$5:$G$5,"*"&$A21&"*")+COUNTIF('Game 2'!$B$5:$G$5,"*"&$A21&"*")+COUNTIF('Game 3'!$B$5:$G$5,"*"&$A21&"*")+COUNTIF('Game 4'!$B$5:$G$5,"*"&$A21&"*")+COUNTIF('Game 5'!$B$5:$G$5,"*"&$A21&"*")+COUNTIF('Game 6'!$B$5:$G$5,"*"&$A21&"*")+COUNTIF('Game 7'!$B$5:$G$5,"*"&$A21&"*")+COUNTIF('Game 8'!$B$5:$G$5,"*"&$A21&"*")+COUNTIF('Game 9'!$B$5:$G$5,"*"&$A21&"*")+COUNTIF('Game 10'!$B$5:$G$5,"*"&$A21&"*")+COUNTIF('Game 11'!$B$5:$G$5,"*"&$A21&"*")+COUNTIF('Game 12'!$B$5:$G$5,"*"&$A21&"*")+COUNTIF('Game 13'!$B$5:$G$5,"*"&$A21&"*")+COUNTIF('Game 14'!$B$5:$G$5,"*"&$A21&"*")+COUNTIF('Game 15'!$B$5:$G$5,"*"&$A21&"*")+COUNTIF('Game 16'!$B$5:$G$5,"*"&$A21&"*") -> 0 | J21: =COUNTIF('Game 1'!$B$6:$G$6,"*"&$A21&"*")+COUNTIF('Game 2'!$B$6:$G$6,"*"&$A21&"*")+COUNTIF('Game 3'!$B$6:$G$6,"*"&$A21&"*")+COUNTIF('Game 4'!$B$6:$G$6,"*"&$A21&"*")+COUNTIF('Game 5'!$B$6:$G$6,"*"&$A21&"*")+COUNTIF('Game 6'!$B$6:$G$6,"*"&$A21&"*")+COUNTIF('Game 7'!$B$6:$G$6,"*"&$A21&"*")+COUNTIF('Game 8'!$B$6:$G$6,"*"&$A21&"*")+COUNTIF('Game 9'!$B$6:$G$6,"*"&$A21&"*")+COUNTIF('Game 10'!$B$6:$G$6,"*"&$A21&"*")+COUNTIF('Game 11'!$B$6:$G$6,"*"&$A21&"*")+COUNTIF('Game 12'!$B$6:$G$6,"*"&$A21&"*")+COUNTIF('Game 13'!$B$6:$G$6,"*"&$A21&"*")+COUNTIF('Game 14'!$B$6:$G$6,"*"&$A21&"*")+COUNTIF('Game 15'!$B$6:$G$6,"*"&$A21&"*")+COUNTIF('Game 16'!$B$6:$G$6,"*"&$A21&"*") -> 0 | K21: =COUNTIF('Game 1'!$B$13:$G$13,"*"&$A21&"*")+COUNTIF('Game 1'!$B$14:$G$14,"*"&$A21&"*")+COUNTIF('Game 1'!$B$15:$G$15,"*"&$A21&"*")+COUNTIF('Game 1'!$B$16:$G$16,"*"&$A21&"*")+COUNTIF('Game 2'!$B$13:$G$13,"*"&$A21&"*")+COUNTIF('Game 2'!$B$14:$G$14,"*"&$A21&"*")+COUNTIF('Game 2'!$B$15:$G$15,"*"&$A21&"*")+COUNTIF('Game 2'!$B$16:$G$16,"*"&$A21&"*")+COUNTIF('Game 3'!$B$13:$G$13,"*"&$A21&"*")+COUNTIF('Game 3'!$B$14:$G$14,"*"&$A21&"*")+COUNTIF('Game 3'!$B$15:$G$15,"*"&$A21&"*")+COUNTIF('Game 3'!$B$16:$G$16,"*"&$A21&"*")+COUNTIF('Game 4'!$B$13:$G$13,"*"&$A21&"*")+COUNTIF('Game 4'!$B$14:$G$14,"*"&$A21&"*")+COUNTIF('Game 4'!$B$15:$G$15,"*"&$A21&"*")+COUNTIF('Game 4'!$B$16:$G$16,"*"&$A21&"*")+COUNTIF('Game 5'!$B$13:$G$13,"*"&$A21&"*")+COUNTIF('Game 5'!$B$14:$G$14,"*"&$A21&"*")+COUNTIF('Game 5'!$B$15:$G$15,"*"&$A21&"*")+COUNTIF('Game 5'!$B$16:$G$16,"*"&$A21&"*")+COUNTIF('Game 6'!$B$13:$G$13,"*"&$A21&"*")+COUNTIF('Game 6'!$B$14:$G$14,"*"&$A21&"*")+COUNTIF('Game 6'!$B$15:$G$15,"*"&$A21&"*")+COUNTIF('Game 6'!$B$16:$G$16,"*"&$A21&"*")+COUNTIF('Game 7'!$B$13:$G$13,"*"&$A21&"*")+COUNTIF('Game 7'!$B$14:$G$14,"*"&$A21&"*")+COUNTIF('Game 7'!$B$15:$G$15,"*"&$A21&"*")+COUNTIF('Game 7'!$B$16:$G$16,"*"&$A21&"*")+COUNTIF('Game 8'!$B$13:$G$13,"*"&$A21&"*")+COUNTIF('Game 8'!$B$14:$G$14,"*"&$A21&"*")+COUNTIF('Game 8'!$B$15:$G$15,"*"&$A21&"*")+COUNTIF('Game 8'!$B$16:$G$16,"*"&$A21&"*")+COUNTIF('Game 9'!$B$13:$G$13,"*"&$A21&"*")+COUNTIF('Game 9'!$B$14:$G$14,"*"&$A21&"*")+COUNTIF('Game 9'!$B$15:$G$15,"*"&$A21&"*")+COUNTIF('Game 9'!$B$16:$G$16,"*"&$A21&"*")+COUNTIF('Game 10'!$B$13:$G$13,"*"&$A21&"*")+COUNTIF('Game 10'!$B$14:$G$14,"*"&$A21&"*")+COUNTIF('Game 10'!$B$15:$G$15,"*"&$A21&"*")+COUNTIF('Game 10'!$B$16:$G$16,"*"&$A21&"*")+COUNTIF('Game 11'!$B$13:$G$13,"*"&$A21&"*")+COUNTIF('Game 11'!$B$14:$G$14,"*"&$A21&"*")+COUNTIF('Game 11'!$B$15:$G$15,"*"&$A21&"*")+COUNTIF('Game 11'!$B$16:$G$16,"*"&$A21&"*")+COUNTIF('Game 12'!$B$13:$G$13,"*"&$A21&"*")+COUNTIF('Game 12'!$B$14:$G$14,"*"&$A21&"*")+COUNTIF('Game 12'!$B$15:$G$15,"*"&$A21&"*")+COUNTIF('Game 12'!$B$16:$G$16,"*"&$A21&"*")+COUNTIF('Game 13'!$B$13:$G$13,"*"&$A21&"*")+COUNTIF('Game 13'!$B$14:$G$14,"*"&$A21&"*")+COUNTIF('Game 13'!$B$15:$G$15,"*"&$A21&"*")+COUNTIF('Game 13'!$B$16:$G$16,"*"&$A21&"*")+COUNTIF('Game 14'!$B$13:$G$13,"*"&$A21&"*")+COUNTIF('Game 14'!$B$14:$G$14,"*"&$A21&"*")+COUNTIF('Game 14'!$B$15:$G$15,"*"&$A21&"*")+COUNTIF('Game 14'!$B$16:$G$16,"*"&$A21&"*")+COUNTIF('Game 15'!$B$13:$G$13,"*"&$A21&"*")+COUNTIF('Game 15'!$B$14:$G$14,"*"&$A21&"*")+COUNTIF('Game 15'!$B$15:$G$15,"*"&$A21&"*")+COUNTIF('Game 15'!$B$16:$G$16,"*"&$A21&"*")+COUNTIF('Game 16'!$B$13:$G$13,"*"&$A21&"*")+COUNTIF('Game 16'!$B$14:$G$14,"*"&$A21&"*")+COUNTIF('Game 16'!$B$15:$G$15,"*"&$A21&"*")+COUNTIF('Game 16'!$B$16:$G$16,"*"&$A21&"*") -> 0 | L21: =A21 -> Player 4 | M21: =SUM(B21:G21) -> 0 | N21: =SUM(H21:J21) -> 0 | O21: =K21 -> 0 | P21: =SUM(M21:O21) -> 0 | Q21: =IF(P21=0,0,M21/P21) -> 0 | R21: =IF(P21=0,0,N21/P21) -> 0 | S21: =IF(P21=0,0,O21/P21) -> 0 | V21: ='Game 1'!Z5+'Game 2'!Z5+'Game 3'!Z5+'Game 4'!Z5+'Game 5'!Z5+'Game 6'!Z5+'Game 7'!Z5+'Game 8'!Z5+'Game 9'!Z5+'Game 10'!Z5+'Game 11'!Z5+'Game 12'!Z5+'Game 13'!Z5+'Game 14'!Z5+'Game 15'!Z5+'Game 16'!Z5 -> 0 | W21: =COUNTIF('Game 1'!$L$15,"*"&$A21&"*")+COUNTIF('Game 2'!$L$15,"*"&$A21&"*")+COUNTIF('Game 3'!$L$15,"*"&$A21&"*")+COUNTIF('Game 4'!$L$15,"*"&$A21&"*")+COUNTIF('Game 5'!$L$15,"*"&$A21&"*")+COUNTIF('Game 6'!$L$15,"*"&$A21&"*")+COUNTIF('Game 7'!$L$15,"*"&$A21&"*")+COUNTIF('Game 8'!$L$15,"*"&$A21&"*")+COUNTIF('Game 9'!$L$15,"*"&$A21&"*")+COUNTIF('Game 10'!$L$15,"*"&$A21&"*")+COUNTIF('Game 11'!$L$15,"*"&$A21&"*")+COUNTIF('Game 12'!$L$15,"*"&$A21&"*")+COUNTIF('Game 13'!$L$15,"*"&$A21&"*")+COUNTIF('Game 14'!$L$15,"*"&$A21&"*")+COUNTIF('Game 15'!$L$15,"*"&$A21&"*")+COUNTIF('Game 16'!$L$15,"*"&$A21&"*") -> 0
A22: =A6 -> Player 5 | B22: =COUNTIF('Game 1'!$B$12:$G$12,"*"&$A22&"*")+COUNTIF('Game 2'!$B$12:$G$12,"*"&$A22&"*")+COUNTIF('Game 3'!$B$12:$G$12,"*"&$A22&"*")+COUNTIF('Game 4'!$B$12:$G$12,"*"&$A22&"*")+COUNTIF('Game 5'!$B$12:$G$12,"*"&$A22&"*")+COUNTIF('Game 6'!$B$12:$G$12,"*"&$A22&"*")+COUNTIF('Game 7'!$B$12:$G$12,"*"&$A22&"*")+COUNTIF('Game 8'!$B$12:$G$12,"*"&$A22&"*")+COUNTIF('Game 9'!$B$12:$G$12,"*"&$A22&"*")+COUNTIF('Game 10'!$B$12:$G$12,"*"&$A22&"*")+COUNTIF('Game 11'!$B$12:$G$12,"*"&$A22&"*")+COUNTIF('Game 12'!$B$12:$G$12,"*"&$A22&"*")+COUNTIF('Game 13'!$B$12:$G$12,"*"&$A22&"*")+COUNTIF('Game 14'!$B$12:$G$12,"*"&$A22&"*")+COUNTIF('Game 15'!$B$12:$G$12,"*"&$A22&"*")+COUNTIF('Game 16'!$B$12:$G$12,"*"&$A22&"*") -> 0 | C22: =COUNTIF('Game 1'!$B$11:$G$11,"*"&$A22&"*")+COUNTIF('Game 2'!$B$11:$G$11,"*"&$A22&"*")+COUNTIF('Game 3'!$B$11:$G$11,"*"&$A22&"*")+COUNTIF('Game 4'!$B$11:$G$11,"*"&$A22&"*")+COUNTIF('Game 5'!$B$11:$G$11,"*"&$A22&"*")+COUNTIF('Game 6'!$B$11:$G$11,"*"&$A22&"*")+COUNTIF('Game 7'!$B$11:$G$11,"*"&$A22&"*")+COUNTIF('Game 8'!$B$11:$G$11,"*"&$A22&"*")+COUNTIF('Game 9'!$B$11:$G$11,"*"&$A22&"*")+COUNTIF('Game 10'!$B$11:$G$11,"*"&$A22&"*")+COUNTIF('Game 11'!$B$11:$G$11,"*"&$A22&"*")+COUNTIF('Game 12'!$B$11:$G$11,"*"&$A22&"*")+COUNTIF('Game 13'!$B$11:$G$11,"*"&$A22&"*")+COUNTIF('Game 14'!$B$11:$G$11,"*"&$A22&"*")+COUNTIF('Game 15'!$B$11:$G$11,"*"&$A22&"*")+COUNTIF('Game 16'!$B$11:$G$11,"*"&$A22&"*") -> 0 | D22: =COUNTIF('Game 1'!$B$10:$G$10,"*"&$A22&"*")+COUNTIF('Game 2'!$B$10:$G$10,"*"&$A22&"*")+COUNTIF('Game 3'!$B$10:$G$10,"*"&$A22&"*")+COUNTIF('Game 4'!$B$10:$G$10,"*"&$A22&"*")+COUNTIF('Game 5'!$B$10:$G$10,"*"&$A22&"*")+COUNTIF('Game 6'!$B$10:$G$10,"*"&$A22&"*")+COUNTIF('Game 7'!$B$10:$G$10,"*"&$A22&"*")+COUNTIF('Game 8'!$B$10:$G$10,"*"&$A22&"*")+COUNTIF('Game 9'!$B$10:$G$10,"*"&$A22&"*")+COUNTIF('Game 10'!$B$10:$G$10,"*"&$A22&"*")+COUNTIF('Game 11'!$B$10:$G$10,"*"&$A22&"*")+COUNTIF('Game 12'!$B$10:$G$10,"*"&$A22&"*")+COUNTIF('Game 13'!$B$10:$G$10,"*"&$A22&"*")+COUNTIF('Game 14'!$B$10:$G$10,"*"&$A22&"*")+COUNTIF('Game 15'!$B$10:$G$10,"*"&$A22&"*")+COUNTIF('Game 16'!$B$10:$G$10,"*"&$A22&"*") -> 0 | E22: =COUNTIF('Game 1'!$B$9:$G$9,"*"&$A22&"*")+COUNTIF('Game 2'!$B$9:$G$9,"*"&$A22&"*")+COUNTIF('Game 3'!$B$9:$G$9,"*"&$A22&"*")+COUNTIF('Game 4'!$B$9:$G$9,"*"&$A22&"*")+COUNTIF('Game 5'!$B$9:$G$9,"*"&$A22&"*")+COUNTIF('Game 6'!$B$9:$G$9,"*"&$A22&"*")+COUNTIF('Game 7'!$B$9:$G$9,"*"&$A22&"*")+COUNTIF('Game 8'!$B$9:$G$9,"*"&$A22&"*")+COUNTIF('Game 9'!$B$9:$G$9,"*"&$A22&"*")+COUNTIF('Game 10'!$B$9:$G$9,"*"&$A22&"*")+COUNTIF('Game 11'!$B$9:$G$9,"*"&$A22&"*")+COUNTIF('Game 12'!$B$9:$G$9,"*"&$A22&"*")+COUNTIF('Game 13'!$B$9:$G$9,"*"&$A22&"*")+COUNTIF('Game 14'!$B$9:$G$9,"*"&$A22&"*")+COUNTIF('Game 15'!$B$9:$G$9,"*"&$A22&"*")+COUNTIF('Game 16'!$B$9:$G$9,"*"&$A22&"*") -> 0 | F22: =COUNTIF('Game 1'!$B$8:$G$8,"*"&$A22&"*")+COUNTIF('Game 2'!$B$8:$G$8,"*"&$A22&"*")+COUNTIF('Game 3'!$B$8:$G$8,"*"&$A22&"*")+COUNTIF('Game 4'!$B$8:$G$8,"*"&$A22&"*")+COUNTIF('Game 5'!$B$8:$G$8,"*"&$A22&"*")+COUNTIF('Game 6'!$B$8:$G$8,"*"&$A22&"*")+COUNTIF('Game 7'!$B$8:$G$8,"*"&$A22&"*")+COUNTIF('Game 8'!$B$8:$G$8,"*"&$A22&"*")+COUNTIF('Game 9'!$B$8:$G$8,"*"&$A22&"*")+COUNTIF('Game 10'!$B$8:$G$8,"*"&$A22&"*")+COUNTIF('Game 11'!$B$8:$G$8,"*"&$A22&"*")+COUNTIF('Game 12'!$B$8:$G$8,"*"&$A22&"*")+COUNTIF('Game 13'!$B$8:$G$8,"*"&$A22&"*")+COUNTIF('Game 14'!$B$8:$G$8,"*"&$A22&"*")+COUNTIF('Game 15'!$B$8:$G$8,"*"&$A22&"*")+COUNTIF('Game 16'!$B$8:$G$8,"*"&$A22&"*") -> 0 | G22: =COUNTIF('Game 1'!$B$7:$G$7,"*"&$A22&"*")+COUNTIF('Game 2'!$B$7:$G$7,"*"&$A22&"*")+COUNTIF('Game 3'!$B$7:$G$7,"*"&$A22&"*")+COUNTIF('Game 4'!$B$7:$G$7,"*"&$A22&"*")+COUNTIF('Game 5'!$B$7:$G$7,"*"&$A22&"*")+COUNTIF('Game 6'!$B$7:$G$7,"*"&$A22&"*")+COUNTIF('Game 7'!$B$7:$G$7,"*"&$A22&"*")+COUNTIF('Game 8'!$B$7:$G$7,"*"&$A22&"*")+COUNTIF('Game 9'!$B$7:$G$7,"*"&$A22&"*")+COUNTIF('Game 10'!$B$7:$G$7,"*"&$A22&"*")+COUNTIF('Game 11'!$B$7:$G$7,"*"&$A22&"*")+COUNTIF('Game 12'!$B$7:$G$7,"*"&$A22&"*")+COUNTIF('Game 13'!$B$7:$G$7,"*"&$A22&"*")+COUNTIF('Game 14'!$B$7:$G$7,"*"&$A22&"*")+COUNTIF('Game 15'!$B$7:$G$7,"*"&$A22&"*")+COUNTIF('Game 16'!$B$7:$G$7,"*"&$A22&"*") -> 0 | H22: =COUNTIF('Game 1'!$B$4:$G$4,"*"&$A22&"*")+COUNTIF('Game 2'!$B$4:$G$4,"*"&$A22&"*")+COUNTIF('Game 3'!$B$4:$G$4,"*"&$A22&"*")+COUNTIF('Game 4'!$B$4:$G$4,"*"&$A22&"*")+COUNTIF('Game 5'!$B$4:$G$4,"*"&$A22&"*")+COUNTIF('Game 6'!$B$4:$G$4,"*"&$A22&"*")+COUNTIF('Game 7'!$B$4:$G$4,"*"&$A22&"*")+COUNTIF('Game 8'!$B$4:$G$4,"*"&$A22&"*")+COUNTIF('Game 9'!$B$4:$G$4,"*"&$A22&"*")+COUNTIF('Game 10'!$B$4:$G$4,"*"&$A22&"*")+COUNTIF('Game 11'!$B$4:$G$4,"*"&$A22&"*")+COUNTIF('Game 12'!$B$4:$G$4,"*"&$A22&"*")+COUNTIF('Game 13'!$B$4:$G$4,"*"&$A22&"*")+COUNTIF('Game 14'!$B$4:$G$4,"*"&$A22&"*")+COUNTIF('Game 15'!$B$4:$G$4,"*"&$A22&"*")+COUNTIF('Game 16'!$B$4:$G$4,"*"&$A22&"*") -> 0 | I22: =COUNTIF('Game 1'!$B$5:$G$5,"*"&$A22&"*")+COUNTIF('Game 2'!$B$5:$G$5,"*"&$A22&"*")+COUNTIF('Game 3'!$B$5:$G$5,"*"&$A22&"*")+COUNTIF('Game 4'!$B$5:$G$5,"*"&$A22&"*")+COUNTIF('Game 5'!$B$5:$G$5,"*"&$A22&"*")+COUNTIF('Game 6'!$B$5:$G$5,"*"&$A22&"*")+COUNTIF('Game 7'!$B$5:$G$5,"*"&$A22&"*")+COUNTIF('Game 8'!$B$5:$G$5,"*"&$A22&"*")+COUNTIF('Game 9'!$B$5:$G$5,"*"&$A22&"*")+COUNTIF('Game 10'!$B$5:$G$5,"*"&$A22&"*")+COUNTIF('Game 11'!$B$5:$G$5,"*"&$A22&"*")+COUNTIF('Game 12'!$B$5:$G$5,"*"&$A22&"*")+COUNTIF('Game 13'!$B$5:$G$5,"*"&$A22&"*")+COUNTIF('Game 14'!$B$5:$G$5,"*"&$A22&"*")+COUNTIF('Game 15'!$B$5:$G$5,"*"&$A22&"*")+COUNTIF('Game 16'!$B$5:$G$5,"*"&$A22&"*") -> 0 | J22: =COUNTIF('Game 1'!$B$6:$G$6,"*"&$A22&"*")+COUNTIF('Game 2'!$B$6:$G$6,"*"&$A22&"*")+COUNTIF('Game 3'!$B$6:$G$6,"*"&$A22&"*")+COUNTIF('Game 4'!$B$6:$G$6,"*"&$A22&"*")+COUNTIF('Game 5'!$B$6:$G$6,"*"&$A22&"*")+COUNTIF('Game 6'!$B$6:$G$6,"*"&$A22&"*")+COUNTIF('Game 7'!$B$6:$G$6,"*"&$A22&"*")+COUNTIF('Game 8'!$B$6:$G$6,"*"&$A22&"*")+COUNTIF('Game 9'!$B$6:$G$6,"*"&$A22&"*")+COUNTIF('Game 10'!$B$6:$G$6,"*"&$A22&"*")+COUNTIF('Game 11'!$B$6:$G$6,"*"&$A22&"*")+COUNTIF('Game 12'!$B$6:$G$6,"*"&$A22&"*")+COUNTIF('Game 13'!$B$6:$G$6,"*"&$A22&"*")+COUNTIF('Game 14'!$B$6:$G$6,"*"&$A22&"*")+COUNTIF('Game 15'!$B$6:$G$6,"*"&$A22&"*")+COUNTIF('Game 16'!$B$6:$G$6,"*"&$A22&"*") -> 0 | K22: =COUNTIF('Game 1'!$B$13:$G$13,"*"&$A22&"*")+COUNTIF('Game 1'!$B$14:$G$14,"*"&$A22&"*")+COUNTIF('Game 1'!$B$15:$G$15,"*"&$A22&"*")+COUNTIF('Game 1'!$B$16:$G$16,"*"&$A22&"*")+COUNTIF('Game 2'!$B$13:$G$13,"*"&$A22&"*")+COUNTIF('Game 2'!$B$14:$G$14,"*"&$A22&"*")+COUNTIF('Game 2'!$B$15:$G$15,"*"&$A22&"*")+COUNTIF('Game 2'!$B$16:$G$16,"*"&$A22&"*")+COUNTIF('Game 3'!$B$13:$G$13,"*"&$A22&"*")+COUNTIF('Game 3'!$B$14:$G$14,"*"&$A22&"*")+COUNTIF('Game 3'!$B$15:$G$15,"*"&$A22&"*")+COUNTIF('Game 3'!$B$16:$G$16,"*"&$A22&"*")+COUNTIF('Game 4'!$B$13:$G$13,"*"&$A22&"*")+COUNTIF('Game 4'!$B$14:$G$14,"*"&$A22&"*")+COUNTIF('Game 4'!$B$15:$G$15,"*"&$A22&"*")+COUNTIF('Game 4'!$B$16:$G$16,"*"&$A22&"*")+COUNTIF('Game 5'!$B$13:$G$13,"*"&$A22&"*")+COUNTIF('Game 5'!$B$14:$G$14,"*"&$A22&"*")+COUNTIF('Game 5'!$B$15:$G$15,"*"&$A22&"*")+COUNTIF('Game 5'!$B$16:$G$16,"*"&$A22&"*")+COUNTIF('Game 6'!$B$13:$G$13,"*"&$A22&"*")+COUNTIF('Game 6'!$B$14:$G$14,"*"&$A22&"*")+COUNTIF('Game 6'!$B$15:$G$15,"*"&$A22&"*")+COUNTIF('Game 6'!$B$16:$G$16,"*"&$A22&"*")+COUNTIF('Game 7'!$B$13:$G$13,"*"&$A22&"*")+COUNTIF('Game 7'!$B$14:$G$14,"*"&$A22&"*")+COUNTIF('Game 7'!$B$15:$G$15,"*"&$A22&"*")+COUNTIF('Game 7'!$B$16:$G$16,"*"&$A22&"*")+COUNTIF('Game 8'!$B$13:$G$13,"*"&$A22&"*")+COUNTIF('Game 8'!$B$14:$G$14,"*"&$A22&"*")+COUNTIF('Game 8'!$B$15:$G$15,"*"&$A22&"*")+COUNTIF('Game 8'!$B$16:$G$16,"*"&$A22&"*")+COUNTIF('Game 9'!$B$13:$G$13,"*"&$A22&"*")+COUNTIF('Game 9'!$B$14:$G$14,"*"&$A22&"*")+COUNTIF('Game 9'!$B$15:$G$15,"*"&$A22&"*")+COUNTIF('Game 9'!$B$16:$G$16,"*"&$A22&"*")+COUNTIF('Game 10'!$B$13:$G$13,"*"&$A22&"*")+COUNTIF('Game 10'!$B$14:$G$14,"*"&$A22&"*")+COUNTIF('Game 10'!$B$15:$G$15,"*"&$A22&"*")+COUNTIF('Game 10'!$B$16:$G$16,"*"&$A22&"*")+COUNTIF('Game 11'!$B$13:$G$13,"*"&$A22&"*")+COUNTIF('Game 11'!$B$14:$G$14,"*"&$A22&"*")+COUNTIF('Game 11'!$B$15:$G$15,"*"&$A22&"*")+COUNTIF('Game 11'!$B$16:$G$16,"*"&$A22&"*")+COUNTIF('Game 12'!$B$13:$G$13,"*"&$A22&"*")+COUNTIF('Game 12'!$B$14:$G$14,"*"&$A22&"*")+COUNTIF('Game 12'!$B$15:$G$15,"*"&$A22&"*")+COUNTIF('Game 12'!$B$16:$G$16,"*"&$A22&"*")+COUNTIF('Game 13'!$B$13:$G$13,"*"&$A22&"*")+COUNTIF('Game 13'!$B$14:$G$14,"*"&$A22&"*")+COUNTIF('Game 13'!$B$15:$G$15,"*"&$A22&"*")+COUNTIF('Game 13'!$B$16:$G$16,"*"&$A22&"*")+COUNTIF('Game 14'!$B$13:$G$13,"*"&$A22&"*")+COUNTIF('Game 14'!$B$14:$G$14,"*"&$A22&"*")+COUNTIF('Game 14'!$B$15:$G$15,"*"&$A22&"*")+COUNTIF('Game 14'!$B$16:$G$16,"*"&$A22&"*")+COUNTIF('Game 15'!$B$13:$G$13,"*"&$A22&"*")+COUNTIF('Game 15'!$B$14:$G$14,"*"&$A22&"*")+COUNTIF('Game 15'!$B$15:$G$15,"*"&$A22&"*")+COUNTIF('Game 15'!$B$16:$G$16,"*"&$A22&"*")+COUNTIF('Game 16'!$B$13:$G$13,"*"&$A22&"*")+COUNTIF('Game 16'!$B$14:$G$14,"*"&$A22&"*")+COUNTIF('Game 16'!$B$15:$G$15,"*"&$A22&"*")+COUNTIF('Game 16'!$B$16:$G$16,"*"&$A22&"*") -> 0 | L22: =A22 -> Player 5 | M22: =SUM(B22:G22) -> 0 | N22: =SUM(H22:J22) -> 0 | O22: =K22 -> 0 | P22: =SUM(M22:O22) -> 0 | Q22: =IF(P22=0,0,M22/P22) -> 0 | R22: =IF(P22=0,0,N22/P22) -> 0 | S22: =IF(P22=0,0,O22/P22) -> 0 | V22: ='Game 1'!Z6+'Game 2'!Z6+'Game 3'!Z6+'Game 4'!Z6+'Game 5'!Z6+'Game 6'!Z6+'Game 7'!Z6+'Game 8'!Z6+'Game 9'!Z6+'Game 10'!Z6+'Game 11'!Z6+'Game 12'!Z6+'Game 13'!Z6+'Game 14'!Z6+'Game 15'!Z6+'Game 16'!Z6 -> 0 | W22: =COUNTIF('Game 1'!$L$15,"*"&$A22&"*")+COUNTIF('Game 2'!$L$15,"*"&$A22&"*")+COUNTIF('Game 3'!$L$15,"*"&$A22&"*")+COUNTIF('Game 4'!$L$15,"*"&$A22&"*")+COUNTIF('Game 5'!$L$15,"*"&$A22&"*")+COUNTIF('Game 6'!$L$15,"*"&$A22&"*")+COUNTIF('Game 7'!$L$15,"*"&$A22&"*")+COUNTIF('Game 8'!$L$15,"*"&$A22&"*")+COUNTIF('Game 9'!$L$15,"*"&$A22&"*")+COUNTIF('Game 10'!$L$15,"*"&$A22&"*")+COUNTIF('Game 11'!$L$15,"*"&$A22&"*")+COUNTIF('Game 12'!$L$15,"*"&$A22&"*")+COUNTIF('Game 13'!$L$15,"*"&$A22&"*")+COUNTIF('Game 14'!$L$15,"*"&$A22&"*")+COUNTIF('Game 15'!$L$15,"*"&$A22&"*")+COUNTIF('Game 16'!$L$15,"*"&$A22&"*") -> 0
