Workbook

Sheet Master
A1: Player Name | B1: Jersey # | C1: Display Name
A2: Player 1 | C2: =A2&" (#"&B2&")" -> Player 1 (#)
A3: Player 2 | C3: =A3&" (#"&B3&")" -> Player 2 (#)
A4: Player 3 | C4: =A4&" (#"&B4&")" -> Player 3 (#)
A5: Player 4 | C5: =A5&" (#"&B5&")" -> Player 4 (#)
A6: Player 5 | C6: =A6&" (#"&B6&")" -> Player 5 (#)
A7: Player 6 | C7: =A7&" (#"&B7&")" -> Player 6 (#)
A8: Player 7 | C8: =A8&" (#"&B8&")" -> Player 7 (#)
A9: Player 8 | C9: =A9&" (#"&B9&")" -> Player 8 (#)
A10: Player 9 | C10: =A10&" (#"&B10&")" -> Player 9 (#)
A11: Player 10 | C11: =A11&" (#"&B11&")" -> Player 10 (#)
A12: Player 11 | C12: =A12&" (#"&B12&")" -> Player 11 (#)
A13: Player 12 | C13: =A13&" (#"&B13&")" -> Player 12 (#)
A14: Player 13 | C14: =A14&" (#"&B14&")" -> Player 13 (#)
A16: Tracking Summary
B17: Pitcher | C17: Catcher | D17: First Base | E17: Second Base | F17: Shortstop | G17: Third Base | H17: Left Field | I17: Center Field | J17: Right Field | K17: Short Center | L17: Bench | M17: Infield Total | N17: Outfield Total | O17: Bench Total | P17: Total Innings | Q17: Infield % | R17: Outfield % | S17: Bench % | T17: Fairness Score | U17: Avg Innings Team | V17: Games Absent | W17: Batting #1 | X17: Batting #2 | Y17: Batting #3 | Z17: Batting #4 | AA17: Batting #5 | AB17: Batting #6 | AC17: Batting #7 | AD17: Batting #8 | AE17: Batting #9 | AF17: Batting #10 | AG17: Batting #11 | AH17: Batting #12 | AI17: Batting #13 | AJ17: Player of Game
A18: =A2 -> Player 1 | B18: =COUNTIF('Game 1'!$B$13:$G$13,"*"&$A18&"*")+COUNTIF('Game 2'!$B$13:$G$13,"*"&$A18&"*")+COUNTIF('Game 3'!$B$13:$G$13,"*"&$A18&"*")+COUNTIF('Game 4'!$B$13:$G$13,"*"&$A18&"*")+COUNTIF('Game 5'!$B$13:$G$13,"*"&$A18&"*")+COUNTIF('Game 6'!$B$13:$G$13,"*"&$A18&"*")+COUNTIF('Game 7'!$B$13:$G$13,"*"&$A18&"*")+COUNTIF('Game 8'!$B$13:$G$13,"*"&$A18&"*")+COUNTIF('Game 9'!$B$13:$G$13,"*"&$A18&"*")+COUNTIF('Game 10'!$B$13:$G$13,"*"&$A18&"*")+COUNTIF('Game 11'!$B$13:$G$13,"*"&$A18&"*")+COUNTIF('Game 12'!$B$13:$G$13,"*"&$A18&"*")+COUNTIF('Game 13'!$B$13:$G$13,"*"&$A18&"*")+COUNTIF('Game 14'!$B$13:$G$13,"*"&$A18&"*")+COUNTIF('Game 15'!$B$13:$G$13,"*"&$A18&"*")+COUNTIF('Game 16'!$B$13:$G$13,"*"&$A18&"*") -> 0 | C18: =COUNTIF('Game 1'!$B$12:$G$12,"*"&$A18&"*")+COUNTIF('Game 2'!$B$12:$G$12,"*"&$A18&"*")+COUNTIF('Game 3'!$B$12:$G$12,"*"&$A18&"*")+COUNTIF('Game 4'!$B$12:$G$12,"*"&$A18&"*")+COUNTIF('Game 5'!$B$12:$G$12,"*"&$A18&"*")+COUNTIF('Game 6'!$B$12:$G$12,"*"&$A18&"*")+COUNTIF('Game 7'!$B$12:$G$12,"*"&$A18&"*")+COUNTIF('Game 8'!$B$12:$G$12,"*"&$A18&"*")+COUNTIF('Game 9'!$B$12:$G$12,"*"&$A18&"*")+COUNTIF('Game 10'!$B$12:$G$12,"*"&$A18&"*")+COUNTIF('Game 11'!$B$12:$G$12,"*"&$A18&"*")+COUNTIF('Game 12'!$B$12:$G$12,"*"&$A18&"*")+COUNTIF('Game 13'!$B$12:$G$12,"*"&$A18&"*")+COUNTIF('Game 14'!$B$12:$G$12,"*"&$A18&"*")+COUNTIF('Game 15'!$B$12:$G$12,"*"&$A18&"*")+COUNTIF('Game 16'!$B$12:$G$12,"*"&$A18&"*") -> 0 | D18: =COUNTIF('Game 1'!$B$11:$G$11,"*"&$A18&"*")+COUNTIF('Game 2'!$B$11:$G$11,"*"&$A18&"*")+COUNTIF('Game 3'!$B$11:$G$11,"*"&$A18&"*")+COUNTIF('Game 4'!$B$11:$G$11,"*"&$A18&"*")+COUNTIF('Game 5'!$B$11:$G$11,"*"&$A18&"*")+COUNTIF('Game 6'!$B$11:$G$11,"*"&$A18&"*")+COUNTIF('Game 7'!$B$11:$G$11,"*"&$A18&"*")+COUNTIF('Game 8'!$B$11:$G$11,"*"&$A18&"*")+COUNTIF('Game 9'!$B$11:$G$11,"*"&$A18&"*")+COUNTIF('Game 10'!$B$11:$G$11,"*"&$A18&"*")+COUNTIF('Game 11'!$B$11:$G$11,"*"&$A18&"*")+COUNTIF('Game 12'!$B$11:$G$11,"*"&$A18&"*")+COUNTIF('Game 13'!$B$11:$G$11,"*"&$A18&"*")+COUNTIF('Game 14'!$B$11:$G$11,"*"&$A18&"*")+COUNTIF('Game 15'!$B$11:$G$11,"*"&$A18&"*")+COUNTIF('Game 16'!$B$11:$G$11,"*"&$A18&"*") -> 0 | E18: =COUNTIF('Game 1'!$B$10:$G$10,"*"&$A18&"*")+COUNTIF('Game 2'!$B$10:$G$10,"*"&$A18&"*")+COUNTIF('Game 3'!$B$10:$G$10,"*"&$A18&"*")+COUNTIF('Game 4'!$B$10:$G$10,"*"&$A18&"*")+COUNTIF('Game 5'!$B$10:$G$10,"*"&$A18&"*")+COUNTIF('Game 6'!$B$10:$G$10,"*"&$A18&"*")+COUNTIF('Game 7'!$B$10:$G$10,"*"&$A18&"*")+COUNTIF('Game 8'!$B$10:$G$10,"*"&$A18&"*")+COUNTIF('Game 9'!$B$10:$G$10,"*"&$A18&"*")+COUNTIF('Game 10'!$B$10:$G$10,"*"&$A18&"*")+COUNTIF('Game 11'!$B$10:$G$10,"*"&$A18&"*")+COUNTIF('Game 12'!$B$10:$G$10,"*"&$A18&"*")+COUNTIF('Game 13'!$B$10:$G$10,"*"&$A18&"*")+COUNTIF('Game 14'!$B$10:$G$10,"*"&$A18&"*")+COUNTIF('Game 15'!$B$10:$G$10,"*"&$A18&"*")+COUNTIF('Game 16'!$B$10:$G$10,"*"&$A18&"*") -> 0 | F18: =COUNTIF('Game 1'!$B$9:$G$9,"*"&$A18&"*")+COUNTIF('Game 2'!$B$9:$G$9,"*"&$A18&"*")+COUNTIF('Game 3'!$B$9:$G$9,"*"&$A18&"*")+COUNTIF('Game 4'!$B$9:$G$9,"*"&$A18&"*")+COUNTIF('Game 5'!$B$9:$G$9,"*"&$A18&"*")+COUNTIF('Game 6'!$B$9:$G$9,"*"&$A18&"*")+COUNTIF('Game 7'!$B$9:$G$9,"*"&$A18&"*")+COUNTIF('Game 8'!$B$9:$G$9,"*"&$A18&"*")+COUNTIF('Game 9'!$B$9:$G$9,"*"&$A18&"*")+COUNTIF('Game 10'!$B$9:$G$9,"*"&$A18&"*")+COUNTIF('Game 11'!$B$9:$G$9,"*"&$A18&"*")+COUNTIF('Game 12'!$B$9:$G$9,"*"&$A18&"*")+COUNTIF('Game 13'!$B$9:$G$9,"*"&$A18&"*")+COUNTIF('Game 14'!$B$9:$G$9,"*"&$A18&"*")+COUNTIF('Game 15'!$B$9:$G$9,"*"&$A18&"*")+COUNTIF('Game 16'!$B$9:$G$9,"*"&$A18&"*") -> 0 | G18: =COUNTIF('Game 1'!$B$8:$G$8,"*"&$A18&"*")+COUNTIF('Game 2'!$B$8:$G$8,"*"&$A18&"*")+COUNTIF('Game 3'!$B$8:$G$8,"*"&$A18&"*")+COUNTIF('Game 4'!$B$8:$G$8,"*"&$A18&"*")+COUNTIF('Game 5'!$B$8:$G$8,"*"&$A18&"*")+COUNTIF('Game 6'!$B$8:$G$8,"*"&$A18&"*")+COUNTIF('Game 7'!$B$8:$G$8,"*"&$A18&"*")+COUNTIF('Game 8'!$B$8:$G$8,"*"&$A18&"*")+COUNTIF('Game 9'!$B$8:$G$8,"*"&$A18&"*")+COUNTIF('Game 10'!$B$8:$G$8,"*"&$A18&"*")+COUNTIF('Game 11'!$B$8:$G$8,"*"&$A18&"*")+COUNTIF('Game 12'!$B$8:$G$8,"*"&$A18&"*")+COUNTIF('Game 13'!$B$8:$G$8,"*"&$A18&"*")+COUNTIF('Game 14'!$B$8:$G$8,"*"&$A18&"*")+COUNTIF('Game 15'!$B$8:$G$8,"*"&$A18&"*")+COUNTIF('Game 16'!$B$8:$G$8,"*"&$A18&"*") -> 0 | H18: =COUNTIF('Game 1'!$B$4:$G$4,"*"&$A18&"*")+COUNTIF('Game 2'!$B$4:$G$4,"*"&$A18&"*")+COUNTIF('Game 3'!$B$4:$G$4,"*"&$A18&"*")+COUNTIF('Game 4'!$B$4:$G$4,"*"&$A18&"*")+COUNTIF('Game 5'!$B$4:$G$4,"*"&$A18&"*")+COUNTIF('Game 6'!$B$4:$G$4,"*"&$A18&"*")+COUNTIF('Game 7'!$B$4:$G$4,"*"&$A18&"*")+COUNTIF('Game 8'!$B$4:$G$4,"*"&$A18&"*")+COUNTIF('Game 9'!$B$4:$G$4,"*"&$A18&"*")+COUNTIF('Game 10'!$B$4:$G$4,"*"&$A18&"*")+COUNTIF('Game 11'!$B$4:$G$4,"*"&$A18&"*")+COUNTIF('Game 12'!$B$4:$G$4,"*"&$A18&"*")+COUNTIF('Game 13'!$B$4:$G$4,"*"&$A18&"*")+COUNTIF('Game 14'!$B$4:$G$4,"*"&$A18&"*")+COUNTIF('Game 15'!$B$4:$G$4,"*"&$A18&"*")+COUNTIF('Game 16'!$B$4:$G$4,"*"&$A18&"*") -> 0 | I18: =COUNTIF('Game 1'!$B$5:$G$5,"*"&$A18&"*")+COUNTIF('Game 2'!$B$5:$G$5,"*"&$A18&"*")+COUNTIF('Game 3'!$B$5:$G$5,"*"&$A18&"*")+COUNTIF('Game 4'!$B$5:$G$5,"*"&$A18&"*")+COUNTIF('Game 5'!$B$5:$G$5,"*"&$A18&"*")+COUNTIF('Game 6'!$B$5:$G$5,"*"&$A18&"*")+COUNTIF('Game 7'!$B$5:$G$5,"*"&$A18&"*")+COUNTIF('Game 8'!$B$5:$G$5,"*"&$A18&"*")+COUNTIF('Game 9'!$B$5:$G$5,"*"&$A18&"*")+COUNTIF('Game 10'!$B$5:$G$5,"*"&$A18&"*")+COUNTIF('Game 11'!$B$5:$G$5,"*"&$A18&"*")+COUNTIF('Game 12'!$B$5:$G$5,"*"&$A18&"*")+COUNTIF('Game 13'!$B$5:$G$5,"*"&$A18&"*")+COUNTIF('Game 14'!$B$5:$G$5,"*"&$A18&"*")+COUNTIF('Game 15'!$B$5:$G$5,"*"&$A18&"*")+COUNTIF('Game 16'!$B$5:$G$5,"*"&$A18&"*") -> 0 | J18: =COUNTIF('Game 1'!$B$6:$G$6,"*"&$A18&"*")+COUNTIF('Game 2'!$B$6:$G$6,"*"&$A18&"*")+COUNTIF('Game 3'!$B$6:$G$6,"*"&$A18&"*")+COUNTIF('Game 4'!$B$6:$G$6,"*"&$A18&"*")+COUNTIF('Game 5'!$B$6:$G$6,"*"&$A18&"*")+COUNTIF('Game 6'!$B$6:$G$6,"*"&$A18&"*")+COUNTIF('Game 7'!$B$6:$G$6,"*"&$A18&"*")+COUNTIF('Game 8'!$B$6:$G$6,"*"&$A18&"*")+COUNTIF('Game 9'!$B$6:$G$6,"*"&$A18&"*")+COUNTIF('Game 10'!$B$6:$G$6,"*"&$A18&"*")+COUNTIF('Game 11'!$B$6:$G$6,"*"&$A18&"*")+COUNTIF('Game 12'!$B$6:$G$6,"*"&$A18&"*")+COUNTIF('Game 13'!$B$6:$G$6,"*"&$A18&"*")+COUNTIF('Game 14'!$B$6:$G$6,"*"&$A18&"*")+COUNTIF('Game 15'!$B$6:$G$6,"*"&$A18&"*")+COUNTIF('Game 16'!$B$6:$G$6,"*"&$A18&"*") -> 0 | K18: =COUNTIF('Game 1'!$B$7:$G$7,"*"&$A18&"*")+COUNTIF('Game 2'!$B$7:$G$7,"*"&$A18&"*")+COUNTIF('Game 3'!$B$7:$G$7,"*"&$A18&"*")+COUNTIF('Game 4'!$B$7:$G$7,"*"&$A18&"*")+COUNTIF('Game 5'!$B$7:$G$7,"*"&$A18&"*")+COUNTIF('Game 6'!$B$7:$G$7,"*"&$A18&"*")+COUNTIF('Game 7'!$B$7:$G$7,"*"&$A18&"*")+COUNTIF('Game 8'!$B$7:$G$7,"*"&$A18&"*")+COUNTIF('Game 9'!$B$7:$G$7,"*"&$A18&"*")+COUNTIF('Game 10'!$B$7:$G$7,"*"&$A18&"*")+COUNTIF('Game 11'!$B$7:$G$7,"*"&$A18&"*")+COUNTIF('Game 12'!$B$7:$G$7,"*"&$A18&"*")+COUNTIF('Game 13'!$B$7:$G$7,"*"&$A18&"*")+COUNTIF('Game 14'!$B$7:$G$7,"*"&$A18&"*")+COUNTIF('Game 15'!$B$7:$G$7,"*"&$A18&"*")+COUNTIF('Game 16'!$B$7:$G$7,"*"&$A18&"*") -> 0 | L18: =COUNTIF('Game 1'!$B$14:$G$14,"*"&$A18&"*")+COUNTIF('Game 1'!$B$15:$G$15,"*"&$A18&"*")+COUNTIF('Game 1'!$B$16:$G$16,"*"&$A18&"*")+COUNTIF('Game 2'!$B$14:$G$14,"*"&$A18&"*")+COUNTIF('Game 2'!$B$15:$G$15,"*"&$A18&"*")+COUNTIF('Game 2'!$B$16:$G$16,"*"&$A18&"*")+COUNTIF('Game 3'!$B$14:$G$14,"*"&$A18&"*")+COUNTIF('Game 3'!$B$15:$G$15,"*"&$A18&"*")+COUNTIF('Game 3'!$B$16:$G$16,"*"&$A18&"*")+COUNTIF('Game 4'!$B$14:$G$14,"*"&$A18&"*")+COUNTIF('Game 4'!$B$15:$G$15,"*"&$A18&"*")+COUNTIF('Game 4'!$B$16:$G$16,"*"&$A18&"*")+COUNTIF('Game 5'!$B$14:$G$14,"*"&$A18&"*")+COUNTIF('Game 5'!$B$15:$G$15,"*"&$A18&"*")+COUNTIF('Game 5'!$B$16:$G$16,"*"&$A18&"*")+COUNTIF('Game 6'!$B$14:$G$14,"*"&$A18&"*")+COUNTIF('Game 6'!$B$15:$G$15,"*"&$A18&"*")+COUNTIF('Game 6'!$B$16:$G$16,"*"&$A18&"*")+COUNTIF('Game 7'!$B$14:$G$14,"*"&$A18&"*")+COUNTIF('Game 7'!$B$15:$G$15,"*"&$A18&"*")+COUNTIF('Game 7'!$B$16:$G$16,"*"&$A18&"*")+COUNTIF('Game 8'!$B$14:$G$14,"*"&$A18&"*")+COUNTIF('Game 8'!$B$15:$G$15,"*"&$A18&"*")+COUNTIF('Game 8'!$B$16:$G$16,"*"&$A18&"*")+COUNTIF('Game 9'!$B$14:$G$14,"*"&$A18&"*")+COUNTIF('Game 9'!$B$15:$G$15,"*"&$A18&"*")+COUNTIF('Game 9'!$B$16:$G$16,"*"&$A18&"*")+COUNTIF('Game 10'!$B$14:$G$14,"*"&$A18&"*")+COUNTIF('Game 10'!$B$15:$G$15,"*"&$A18&"*")+COUNTIF('Game 10'!$B$16:$G$16,"*"&$A18&"*")+COUNTIF('Game 11'!$B$14:$G$14,"*"&$A18&"*")+COUNTIF('Game 11'!$B$15:$G$15,"*"&$A18&"*")+COUNTIF('Game 11'!$B$16:$G$16,"*"&$A18&"*")+COUNTIF('Game 12'!$B$14:$G$14,"*"&$A18&"*")+COUNTIF('Game 12'!$B$15:$G$15,"*"&$A18&"*")+COUNTIF('Game 12'!$B$16:$G$16,"*"&$A18&"*")+COUNTIF('Game 13'!$B$14:$G$14,"*"&$A18&"*")+COUNTIF('Game 13'!$B$15:$G$15,"*"&$A18&"*")+COUNTIF('Game 13'!$B$16:$G$16,"*"&$A18&"*")+COUNTIF('Game 14'!$B$14:$G$14,"*"&$A18&"*")+COUNTIF('Game 14'!$B$15:$G$15,"*"&$A18&"*")+COUNTIF('Game 14'!$B$16:$G$16,"*"&$A18&"*")+COUNTIF('Game 15'!$B$14:$G$14,"*"&$A18&"*")+COUNTIF('Game 15'!$B$15:$G$15,"*"&$A18&"*")+COUNTIF('Game 15'!$B$16:$G$16,"*"&$A18&"*")+COUNTIF('Game 16'!$B$14:$G$14,"*"&$A18&"*")+COUNTIF('Game 16'!$B$15:$G$15,"*"&$A18&"*")+COUNTIF('Game 16'!$B$16:$G$16,"*"&$A18&"*") -> 0 | M18: =SUM(B18:G18) -> 0 | N18: =SUM(H18:K18) -> 0 | O18: =L18 -> 0 | P18: =SUM(M18:O18) -> 0 | Q18: =IF(P18=0,0,M18/P18) -> 0 | R18: =IF(P18=0,0,N18/P18) -> 0 | S18: =IF(P18=0,0,O18/P18) -> 0 | T18: =IF($U$18=0,0,P18/$U$18) -> 0 | U18: =AVERAGE(P18:P30) -> 0 | V18: ='Game 1'!Z2+'Game 2'!Z2+'Game 3'!Z2+'Game 4'!Z2+'Game 5'!Z2+'Game 6'!Z2+'Game 7'!Z2+'Game 8'!Z2+'Game 9'!Z2+'Game 10'!Z2+'Game 11'!Z2+'Game 12'!Z2+'Game 13'!Z2+'Game 14'!Z2+'Game 15'!Z2+'Game 16'!Z2 -> 0 | W18: =COUNTIF('Game 1'!$J$5,"*"&$A18&"*")+COUNTIF('Game 2'!$J$5,"*"&$A18&"*")+COUNTIF('Game 3'!$J$5,"*"&$A18&"*")+COUNTIF('Game 4'!$J$5,"*"&$A18&"*")+COUNTIF('Game 5'!$J$5,"*"&$A18&"*")+COUNTIF('Game 6'!$J$5,"*"&$A18&"*")+COUNTIF('Game 7'!$J$5,"*"&$A18&"*")+COUNTIF('Game 8'!$J$5,"*"&$A18&"*")+COUNTIF('Game 9'!$J$5,"*"&$A18&"*")+COUNTIF('Game 10'!$J$5,"*"&$A18&"*")+COUNTIF('Game 11'!$J$5,"*"&$A18&"*")+COUNTIF('Game 12'!$J$5,"*"&$A18&"*")+COUNTIF('Game 13'!$J$5,"*"&$A18&"*")+COUNTIF('Game 14'!$J$5,"*"&$A18&"*")+COUNTIF('Game 15'!$J$5,"*"&$A18&"*")+COUNTIF('Game 16'!$J$5,"*"&$A18&"*") -> 0 | X18: =COUNTIF('Game 1'!$J$6,"*"&$A18&"*")+COUNTIF('Game 2'!$J$6,"*"&$A18&"*")+COUNTIF('Game 3'!$J$6,"*"&$A18&"*")+COUNTIF('Game 4'!$J$6,"*"&$A18&"*")+COUNTIF('Game 5'!$J$6,"*"&$A18&"*")+COUNTIF('Game 6'!$J$6,"*"&$A18&"*")+COUNTIF('Game 7'!$J$6,"*"&$A18&"*")+COUNTIF('Game 8'!$J$6,"*"&$A18&"*")+COUNTIF('Game 9'!$J$6,"*"&$A18&"*")+COUNTIF('Game 10'!$J$6,"*"&$A18&"*")+COUNTIF('Game 11'!$J$6,"*"&$A18&"*")+COUNTIF('Game 12'!$J$6,"*"&$A18&"*")+COUNTIF('Game 13'!$J$6,"*"&$A18&"*")+COUNTIF('Game 14'!$J$6,"*"&$A18&"*")+COUNTIF('Game 15'!$J$6,"*"&$A18&"*")+COUNTIF('Game 16'!$J$6,"*"&$A18&"*") -> 0 | Y18: =COUNTIF('Game 1'!$J$7,"*"&$A18&"*")+COUNTIF('Game 2'!$J$7,"*"&$A18&"*")+COUNTIF('Game 3'!$J$7,"*"&$A18&"*")+COUNTIF('Game 4'!$J$7,"*"&$A18&"*")+COUNTIF('Game 5'!$J$7,"*"&$A18&"*")+COUNTIF('Game 6'!$J$7,"*"&$A18&"*")+COUNTIF('Game 7'!$J$7,"*"&$A18&"*")+COUNTIF('Game 8'!$J$7,"*"&$A18&"*")+COUNTIF('Game 9'!$J$7,"*"&$A18&"*")+COUNTIF('Game 10'!$J$7,"*"&$A18&"*")+COUNTIF('Game 11'!$J$7,"*"&$A18&"*")+COUNTIF('Game 12'!$J$7,"*"&$A18&"*")+COUNTIF('Game 13'!$J$7,"*"&$A18&"*")+COUNTIF('Game 14'!$J$7,"*"&$A18&"*")+COUNTIF('Game 15'!$J$7,"*"&$A18&"*")+COUNTIF('Game 16'!$J$7,"*"&$A18&"*") -> 0 | Z18: =COUNTIF('Game 1'!$J$8,"*"&$A18&"*")+COUNTIF('Game 2'!$J$8,"*"&$A18&"*")+COUNTIF('Game 3'!$J$8,"*"&$A18&"*")+COUNTIF('Game 4'!$J$8,"*"&$A18&"*")+COUNTIF('Game 5'!$J$8,"*"&$A18&"*")+COUNTIF('Game 6'!$J$8,"*"&$A18&"*")+COUNTIF('Game 7'!$J$8,"*"&$A18&"*")+COUNTIF('Game 8'!$J$8,"*"&$A18&"*")+COUNTIF('Game 9'!$J$8,"*"&$A18&"*")+COUNTIF('Game 10'!$J$8,"*"&$A18&"*")+COUNTIF('Game 11'!$J$8,"*"&$A18&"*")+COUNTIF('Game 12'!$J$8,"*"&$A18&"*")+COUNTIF('Game 13'!$J$8,"*"&$A18&"*")+COUNTIF('Game 14'!$J$8,"*"&$A18&"*")+COUNTIF('Game 15'!$J$8,"*"&$A18&"*")+COUNTIF('Game 16'!$J$8,"*"&$A18&"*") -> 0 | AA18: =COUNTIF('Game 1'!$J$9,"*"&$A18&"*")+COUNTIF('Game 2'!$J$9,"*"&$A18&"*")+COUNTIF('Game 3'!$J$9,"*"&$A18&"*")+COUNTIF('Game 4'!$J$9,"*"&$A18&"*")+COUNTIF('Game 5'!$J$9,"*"&$A18&"*")+COUNTIF('Game 6'!$J$9,"*"&$A18&"*")+COUNTIF('Game 7'!$J$9,"*"&$A18&"*")+COUNTIF('Game 8'!$J$9,"*"&$A18&"*")+COUNTIF('Game 9'!$J$9,"*"&$A18&"*")+COUNTIF('Game 10'!$J$9,"*"&$A18&"*")+COUNTIF('Game 11'!$J$9,"*"&$A18&"*")+COUNTIF('Game 12'!$J$9,"*"&$A18&"*")+COUNTIF('Game 13'!$J$9,"*"&$A18&"*")+COUNTIF('Game 14'!$J$9,"*"&$A18&"*")+COUNTIF('Game 15'!$J$9,"*"&$A18&"*")+COUNTIF('Game 16'!$J$9,"*"&$A18&"*") -> 0 | AB18: =COUNTIF('Game 1'!$J$10,"*"&$A18&"*")+COUNTIF('Game 2'!$J$10,"*"&$A18&"*")+COUNTIF('Game 3'!$J$10,"*"&$A18&"*")+COUNTIF('Game 4'!$J$10,"*"&$A18&"*")+COUNTIF('Game 5'!$J$10,"*"&$A18&"*")+COUNTIF('Game 6'!$J$10,"*"&$A18&"*")+COUNTIF('Game 7'!$J$10,"*"&$A18&"*")+COUNTIF('Game 8'!$J$10,"*"&$A18&"*")+COUNTIF('Game 9'!$J$10,"*"&$A18&"*")+COUNTIF('Game 10'!$J$10,"*"&$A18&"*")+COUNTIF('Game 11'!$J$10,"*"&$A18&"*")+COUNTIF('Game 12'!$J$10,"*"&$A18&"*")+COUNTIF('Game 13'!$J$10,"*"&$A18&"*")+COUNTIF('Game 14'!$J$10,"*"&$A18&"*")+COUNTIF('Game 15'!$J$10,"*"&$A18&"*")+COUNTIF('Game 16'!$J$10,"*"&$A18&"*") -> 0 | AC18: =COUNTIF('Game 1'!$J$11,"*"&$A18&"*")+COUNTIF('Game 2'!$J$11,"*"&$A18&"*")+COUNTIF('Game 3'!$J$11,"*"&$A18&"*")+COUNTIF('Game 4'!$J$11,"*"&$A18&"*")+COUNTIF('Game 5'!$J$11,"*"&$A18&"*")+COUNTIF('Game 6'!$J$11,"*"&$A18&"*")+COUNTIF('Game 7'!$J$11,"*"&$A18&"*")+COUNTIF('Game 8'!$J$11,"*"&$A18&"*")+COUNTIF('Game 9'!$J$11,"*"&$A18&"*")+COUNTIF('Game 10'!$J$11,"*"&$A18&"*")+COUNTIF('Game 11'!$J$11,"*"&$A18&"*")+COUNTIF('Game 12'!$J$11,"*"&$A18&"*")+COUNTIF('Game 13'!$J$11,"*"&$A18&"*")+COUNTIF('Game 14'!$J$11,"*"&$A18&"*")+COUNTIF('Game 15'!$J$11,"*"&$A18&"*")+COUNTIF('Game 16'!$J$11,"*"&$A18&"*") -> 0 | AD18: =COUNTIF('Game 1'!$J$12,"*"&$A18&"*")+COUNTIF('Game 2'!$J$12,"*"&$A18&"*")+COUNTIF('Game 3'!$J$12,"*"&$A18&"*")+COUNTIF('Game 4'!$J$12,"*"&$A18&"*")+COUNTIF('Game 5'!$J$12,"*"&$A18&"*")+COUNTIF('Game 6'!$J$12,"*"&$A18&"*")+COUNTIF('Game 7'!$J$12,"*"&$A18&"*")+COUNTIF('Game 8'!$J$12,"*"&$A18&"*")+COUNTIF('Game 9'!$J$12,"*"&$A18&"*")+COUNTIF('Game 10'!$J$12,"*"&$A18&"*")+COUNTIF('Game 11'!$J$12,"*"&$A18&"*")+COUNTIF('Game 12'!$J$12,"*"&$A18&"*")+COUNTIF('Game 13'!$J$12,"*"&$A18&"*")+COUNTIF('Game 14'!$J$12,"*"&$A18&"*")+COUNTIF('Game 15'!$J$12,"*"&$A18&"*")+COUNTIF('Game 16'!$J$12,"*"&$A18&"*") -> 0 | AE18: =COUNTIF('Game 1'!$J$13,"*"&$A18&"*")+COUNTIF('Game 2'!$J$13,"*"&$A18&"*")+COUNTIF('Game 3'!$J$13,"*"&$A18&"*")+COUNTIF('Game 4'!$J$13,"*"&$A18&"*")+COUNTIF('Game 5'!$J$13,"*"&$A18&"*")+COUNTIF('Game 6'!$J$13,"*"&$A18&"*")+COUNTIF('Game 7'!$J$13,"*"&$A18&"*")+COUNTIF('Game 8'!$J$13,"*"&$A18&"*")+COUNTIF('Game 9'!$J$13,"*"&$A18&"*")+COUNTIF('Game 10'!$J$13,"*"&$A18&"*")+COUNTIF('Game 11'!$J$13,"*"&$A18&"*")+COUNTIF('Game 12'!$J$13,"*"&$A18&"*")+COUNTIF('Game 13'!$J$13,"*"&$A18&"*")+COUNTIF('Game 14'!$J$13,"*"&$A18&"*")+COUNTIF('Game 15'!$J$13,"*"&$A18&"*")+COUNTIF('Game 16'!$J$13,"*"&$A18&"*") -> 0 | AF18: =COUNTIF('Game 1'!$J$14,"*"&$A18&"*")+COUNTIF('Game 2'!$J$14,"*"&$A18&"*")+COUNTIF('Game 3'!$J$14,"*"&$A18&"*")+COUNTIF('Game 4'!$J$14,"*"&$A18&"*")+COUNTIF('Game 5'!$J$14,"*"&$A18&"*")+COUNTIF('Game 6'!$J$14,"*"&$A18&"*")+COUNTIF('Game 7'!$J$14,"*"&$A18&"*")+COUNTIF('Game 8'!$J$14,"*"&$A18&"*")+COUNTIF('Game 9'!$J$14,"*"&$A18&"*")+COUNTIF('Game 10'!$J$14,"*"&$A18&"*")+COUNTIF('Game 11'!$J$14,"*"&$A18&"*")+COUNTIF('Game 12'!$J$14,"*"&$A18&"*")+COUNTIF('Game 13'!$J$14,"*"&$A18&"*")+COUNTIF('Game 14'!$J$14,"*"&$A18&"*")+COUNTIF('Game 15'!$J$14,"*"&$A18&"*")+COUNTIF('Game 16'!$J$14,"*"&$A18&"*") -> 0 | AG18: =COUNTIF('Game 1'!$J$15,"*"&$A18&"*")+COUNTIF('Game 2'!$J$15,"*"&$A18&"*")+COUNTIF('Game 3'!$J$15,"*"&$A18&"*")+COUNTIF('Game 4'!$J$15,"*"&$A18&"*")+COUNTIF('Game 5'!$J$15,"*"&$A18&"*")+COUNTIF('Game 6'!$J$15,"*"&$A18&"*")+COUNTIF('Game 7'!$J$15,"*"&$A18&"*")+COUNTIF('Game 8'!$J$15,"*"&$A18&"*")+COUNTIF('Game 9'!$J$15,"*"&$A18&"*")+COUNTIF('Game 10'!$J$15,"*"&$A18&"*")+COUNTIF('Game 11'!$J$15,"*"&$A18&"*")+COUNTIF('Game 12'!$J$15,"*"&$A18&"*")+COUNTIF('Game 13'!$J$15,"*"&$A18&"*")+COUNTIF('Game 14'!$J$15,"*"&$A18&"*")+COUNTIF('Game 15'!$J$15,"*"&$A18&"*")+COUNTIF('Game 16'!$J$15,"*"&$A18&"*") -> 0 | AH18: =COUNTIF('Game 1'!$J$16,"*"&$A18&"*")+COUNTIF('Game 2'!$J$16,"*"&$A18&"*")+COUNTIF('Game 3'!$J$16,"*"&$A18&"*")+COUNTIF('Game 4'!$J$16,"*"&$A18&"*")+COUNTIF('Game 5'!$J$16,"*"&$A18&"*")+COUNTIF('Game 6'!$J$16,"*"&$A18&"*")+COUNTIF('Game 7'!$J$16,"*"&$A18&"*")+COUNTIF('Game 8'!$J$16,"*"&$A18&"*")+COUNTIF('Game 9'!$J$16,"*"&$A18&"*")+COUNTIF('Game 10'!$J$16,"*"&$A18&"*")+COUNTIF('Game 11'!$J$16,"*"&$A18&"*")+COUNTIF('Game 12'!$J$16,"*"&$A18&"*")+COUNTIF('Game 13'!$J$16,"*"&$A18&"*")+COUNTIF('Game 14'!$J$16,"*"&$A18&"*")+COUNTIF('Game 15'!$J$16,"*"&$A18&"*")+COUNTIF('Game 16'!$J$16,"*"&$A18&"*") -> 0 | AI18: =COUNTIF('Game 1'!$J$17,"*"&$A18&"*")+COUNTIF('Game 2'!$J$17,"*"&$A18&"*")+COUNTIF('Game 3'!$J$17,"*"&$A18&"*")+COUNTIF('Game 4'!$J$17,"*"&$A18&"*")+COUNTIF('Game 5'!$J$17,"*"&$A18&"*")+COUNTIF('Game 6'!$J$17,"*"&$A18&"*")+COUNTIF('Game 7'!$J$17,"*"&$A18&"*")+COUNTIF('Game 8'!$J$17,"*"&$A18&"*")+COUNTIF('Game 9'!$J$17,"*"&$A18&"*")+COUNTIF('Game 10'!$J$17,"*"&$A18&"*")+COUNTIF('Game 11'!$J$17,"*"&$A18&"*")+COUNTIF('Game 12'!$J$17,"*"&$A18&"*")+COUNTIF('Game 13'!$J$17,"*"&$A18&"*")+COUNTIF('Game 14'!$J$17,"*"&$A18&"*")+COUNTIF('Game 15'!$J$17,"*"&$A18&"*")+COUNTIF('Game 16'!$J$17,"*"&$A18&"*") -> 0 | AJ18: =COUNTIF('Game 1'!$L$15,"*"&$A18&"*")+COUNTIF('Game 2'!$L$15,"*"&$A18&"*")+COUNTIF('Game 3'!$L$15,"*"&$A18&"*")+COUNTIF('Game 4'!$L$15,"*"&$A18&"*")+COUNTIF('Game 5'!$L$15,"*"&$A18&"*")+COUNTIF('Game 6'!$L$15,"*"&$A18&"*")+COUNTIF('Game 7'!$L$15,"*"&$A18&"*")+COUNTIF('Game 8'!$L$15,"*"&$A18&"*")+COUNTIF('Game 9'!$L$15,"*"&$A18&"*")+COUNTIF('Game 10'!$L$15,"*"&$A18&"*")+COUNTIF('Game 11'!$L$15,"*"&$A18&"*")+COUNTIF('Game 12'!$L$15,"*"&$A18&"*")+COUNTIF('Game 13'!$L$15,"*"&$A18&"*")+COUNTIF('Game 14'!$L$15,"*"&$A18&"*")+COUNTIF('Game 15'!$L$15,"*"&$A18&"*")+COUNTIF('Game 16'!$L$15,"*"&$A18&"*") -> 0
A19: =A3 -> Player 2 | B19: =COUNTIF('Game 1'!$B$13:$G$13,"*"&$A19&"*")+COUNTIF('Game 2'!$B$13:$G$13,"*"&$A19&"*")+COUNTIF('Game 3'!$B$13:$G$13,"*"&$A19&"*")+COUNTIF('Game 4'!$B$13:$G$13,"*"&$A19&"*")+COUNTIF('Game 5'!$B$13:$G$13,"*"&$A19&"*")+COUNTIF('Game 6'!$B$13:$G$13,"*"&$A19&"*")+COUNTIF('Game 7'!$B$13:$G$13,"*"&$A19&"*")+COUNTIF('Game 8'!$B$13:$G$13,"*"&$A19&"*")+COUNTIF('Game 9'!$B$13:$G$13,"*"&$A19&"*")+COUNTIF('Game 10'!$B$13:$G$13,"*"&$A19&"*")+COUNTIF('Game 11'!$B$13:$G$13,"*"&$A19&"*")+COUNTIF('Game 12'!$B$13:$G$13,"*"&$A19&"*")+COUNTIF('Game 13'!$B$13:$G$13,"*"&$A19&"*")+COUNTIF('Game 14'!$B$13:$G$13,"*"&$A19&"*")+COUNTIF('Game 15'!$B$13:$G$13,"*"&$A19&"*")+COUNTIF('Game 16'!$B$13:$G$13,"*"&$A19&"*") -> 0 | C19: =COUNTIF('Game 1'!$B$12:$G$12,"*"&$A19&"*")+COUNTIF('Game 2'!$B$12:$G$12,"*"&$A19&"*")+COUNTIF('Game 3'!$B$12:$G$12,"*"&$A19&"*")+COUNTIF('Game 4'!$B$12:$G$12,"*"&$A19&"*")+COUNTIF('Game 5'!$B$12:$G$12,"*"&$A19&"*")+COUNTIF('Game 6'!$B$12:$G$12,"*"&$A19&"*")+COUNTIF('Game 7'!$B$12:$G$12,"*"&$A19&"*")+COUNTIF('Game 8'!$B$12:$G$12,"*"&$A19&"*")+COUNTIF('Game 9'!$B$12:$G$12,"*"&$A19&"*")+COUNTIF('Game 10'!$B$12:$G$12,"*"&$A19&"*")+COUNTIF('Game 11'!$B$12:$G$12,"*"&$A19&"*")+COUNTIF('Game 12'!$B$12:$G$12,"*"&$A19&"*")+COUNTIF('Game 13'!$B$12:$G$12,"*"&$A19&"*")+COUNTIF('Game 14'!$B$12:$G$12,"*"&$A19&"*")+COUNTIF('Game 15'!$B$12:$G$12,"*"&$A19&"*")+COUNTIF('Game 16'!$B$12:$G$12,"*"&$A19&"*") -> 0 | D19: =COUNTIF('Game 1'!$B$11:$G$11,"*"&$A19&"*")+COUNTIF('Game 2'!$B$11:$G$11,"*"&$A19&"*")+COUNTIF('Game 3'!$B$11:$G$11,"*"&$A19&"*")+COUNTIF('Game 4'!$B$11:$G$11,"*"&$A19&"*")+COUNTIF('Game 5'!$B$11:$G$11,"*"&$A19&"*")+COUNTIF('Game 6'!$B$11:$G$11,"*"&$A19&"*")+COUNTIF('Game 7'!$B$11:$G$11,"*"&$A19&"*")+COUNTIF('Game 8'!$B$11:$G$11,"*"&$A19&"*")+COUNTIF('Game 9'!$B$11:$G$11,"*"&$A19&"*")+COUNTIF('Game 10'!$B$11:$G$11,"*"&$A19&"*")+COUNTIF('Game 11'!$B$11:$G$11,"*"&$A19&"*")+COUNTIF('Game 12'!$B$11:$G$11,"*"&$A19&"*")+COUNTIF('Game 13'!$B$11:$G$11,"*"&$A19&"*")+COUNTIF('Game 14'!$B$11:$G$11,"*"&$A19&"*")+COUNTIF('Game 15'!$B$11:$G$11,"*"&$A19&"*")+COUNTIF('Game 16'!$B$11:$G$11,"*"&$A19&"*") -> 0 | E19: =COUNTIF('Game 1'!$B$10:$G$10,"*"&$A19&"*")+COUNTIF('Game 2'!$B$10:$G$10,"*"&$A19&"*")+COUNTIF('Game 3'!$B$10:$G$10,"*"&$A19&"*")+COUNTIF('Game 4'!$B$10:$G$10,"*"&$A19&"*")+COUNTIF('Game 5'!$B$10:$G$10,"*"&$A19&"*")+COUNTIF('Game 6'!$B$10:$G$10,"*"&$A19&"*")+COUNTIF('Game 7'!$B$10:$G$10,"*"&$A19&"*")+COUNTIF('Game 8'!$B$10:$G$10,"*"&$A19&"*")+COUNTIF('Game 9'!$B$10:$G$10,"*"&$A19&"*")+COUNTIF('Game 10'!$B$10:$G$10,"*"&$A19&"*")+COUNTIF('Game 11'!$B$10:$G$10,"*"&$A19&"*")+COUNTIF('Game 12'!$B$10:$G$10,"*"&$A19&"*")+COUNTIF('Game 13'!$B$10:$G$10,"*"&$A19&"*")+COUNTIF('Game 14'!$B$10:$G$10,"*"&$A19&"*")+COUNTIF('Game 15'!$B$10:$G$10,"*"&$A19&"*")+COUNTIF('Game 16'!$B$10:$G$10,"*"&$A19&"*") -> 0 | F19: =COUNTIF('Game 1'!$B$9:$G$9,"*"&$A19&"*")+COUNTIF('Game 2'!$B$9:$G$9,"*"&$A19&"*")+COUNTIF('Game 3'!$B$9:$G$9,"*"&$A19&"*")+COUNTIF('Game 4'!$B$9:$G$9,"*"&$A19&"*")+COUNTIF('Game 5'!$B$9:$G$9,"*"&$A19&"*")+COUNTIF('Game 6'!$B$9:$G$9,"*"&$A19&"*")+COUNTIF('Game 7'!$B$9:$G$9,"*"&$A19&"*")+COUNTIF('Game 8'!$B$9:$G$9,"*"&$A19&"*")+COUNTIF('Game 9'!$B$9:$G$9,"*"&$A19&"*")+COUNTIF('Game 10'!$B$9:$G$9,"*"&$A19&"*")+COUNTIF('Game 11'!$B$9:$G$9,"*"&$A19&"*")+COUNTIF('Game 12'!$B$9:$G$9,"*"&$A19&"*")+COUNTIF('Game 13'!$B$9:$G$9,"*"&$A19&"*")+COUNTIF('Game 14'!$B$9:$G$9,"*"&$A19&"*")+COUNTIF('Game 15'!$B$9:$G$9,"*"&$A19&"*")+COUNTIF('Game 16'!$B$9:$G$9,"*"&$A19&"*") -> 0 | G19: =COUNTIF('Game 1'!$B$8:$G$8,"*"&$A19&"*")+COUNTIF('Game 2'!$B$8:$G$8,"*"&$A19&"*")+COUNTIF('Game 3'!$B$8:$G$8,"*"&$A19&"*")+COUNTIF('Game 4'!$B$8:$G$8,"*"&$A19&"*")+COUNTIF('Game 5'!$B$8:$G$8,"*"&$A19&"*")+COUNTIF('Game 6'!$B$8:$G$8,"*"&$A19&"*")+COUNTIF('Game 7'!$B$8:$G$8,"*"&$A19&"*")+COUNTIF('Game 8'!$B$8:$G$8,"*"&$A19&"*")+COUNTIF('Game 9'!$B$8:$G$8,"*"&$A19&"*")+COUNTIF('Game 10'!$B$8:$G$8,"*"&$A19&"*")+COUNTIF('Game 11'!$B$8:$G$8,"*"&$A19&"*")+COUNTIF('Game 12'!$B$8:$G$8,"*"&$A19&"*")+COUNTIF('Game 13'!$B$8:$G$8,"*"&$A19&"*")+COUNTIF('Game 14'!$B$8:$G$8,"*"&$A19&"*")+COUNTIF('Game 15'!$B$8:$G$8,"*"&$A19&"*")+COUNTIF('Game 16'!$B$8:$G$8,"*"&$A19&"*") -> 0 | H19: =COUNTIF('Game 1'!$B$4:$G$4,"*"&$A19&"*")+COUNTIF('Game 2'!$B$4:$G$4,"*"&$A19&"*")+COUNTIF('Game 3'!$B$4:$G$4,"*"&$A19&"*")+COUNTIF('Game 4'!$B$4:$G$4,"*"&$A19&"*")+COUNTIF('Game 5'!$B$4:$G$4,"*"&$A19&"*")+COUNTIF('Game 6'!$B$4:$G$4,"*"&$A19&"*")+COUNTIF('Game 7'!$B$4:$G$4,"*"&$A19&"*")+COUNTIF('Game 8'!$B$4:$G$4,"*"&$A19&"*")+COUNTIF('Game 9'!$B$4:$G$4,"*"&$A19&"*")+COUNTIF('Game 10'!$B$4:$G$4,"*"&$A19&"*")+COUNTIF('Game 11'!$B$4:$G$4,"*"&$A19&"*")+COUNTIF('Game 12'!$B$4:$G$4,"*"&$A19&"*")+COUNTIF('Game 13'!$B$4:$G$4,"*"&$A19&"*")+COUNTIF('Game 14'!$B$4:$G$4,"*"&$A19&"*")+COUNTIF('Game 15'!$B$4:$G$4,"*"&$A19&"*")+COUNTIF('Game 16'!$B$4:$G$4,"*"&$A19&"*") -> 0 | I19: =COUNTIF('Game 1'!$B$5:$G$5,"*"&$A19&"*")+COUNTIF('Game 2'!$B$5:$G$5,"*"&$A19&"*")+COUNTIF('Game 3'!$B$5:$G$5,"*"&$A19&"*")+COUNTIF('Game 4'!$B$5:$G$5,"*"&$A19&"*")+COUNTIF('Game 5'!$B$5:$G$5,"*"&$A19&"*")+COUNTIF('Game 6'!$B$5:$G$5,"*"&$A19&"*")+COUNTIF('Game 7'!$B$5:$G$5,"*"&$A19&"*")+COUNTIF('Game 8'!$B$5:$G$5,"*"&$A19&"*")+COUNTIF('Game 9'!$B$5:$G$5,"*"&$A19&"*")+COUNTIF('Game 10'!$B$5:$G$5,"*"&$A19&"*")+COUNTIF('Game 11'!$B$5:$G$5,"*"&$A19&"*")+COUNTIF('Game 12'!$B$5:$G$5,"*"&$A19&"*")+COUNTIF('Game 13'!$B$5:$G$5,"*"&$A19&"*")+COUNTIF('Game 14'!$B$5:$G$5,"*"&$A19&"*")+COUNTIF('Game 15'!$B$5:$G$5,"*"&$A19&"*")+COUNTIF('Game 16'!$B$5:$G$5,"*"&$A19&"*") -> 0 | J19: =COUNTIF('Game 1'!$B$6:$G$6,"*"&$A19&"*")+COUNTIF('Game 2'!$B$6:$G$6,"*"&$A19&"*")+COUNTIF('Game 3'!$B$6:$G$6,"*"&$A19&"*")+COUNTIF('Game 4'!$B$6:$G$6,"*"&$A19&"*")+COUNTIF('Game 5'!$B$6:$G$6,"*"&$A19&"*")+COUNTIF('Game 6'!$B$6:$G$6,"*"&$A19&"*")+COUNTIF('Game 7'!$B$6:$G$6,"*"&$A19&"*")+COUNTIF('Game 8'!$B$6:$G$6,"*"&$A19&"*")+COUNTIF('Game 9'!$B$6:$G$6,"*"&$A19&"*")+COUNTIF('Game 10'!$B$6:$G$6,"*"&$A19&"*")+COUNTIF('Game 11'!$B$6:$G$6,"*"&$A19&"*")+COUNTIF('Game 12'!$B$6:$G$6,"*"&$A19&"*")+COUNTIF('Game 13'!$B$6:$G$6,"*"&$A19&"*")+COUNTIF('Game 14'!$B$6:$G$6,"*"&$A19&"*")+COUNTIF('Game 15'!$B$6:$G$6,"*"&$A19&"*")+COUNTIF('Game 16'!$B$6:$G$6,"*"&$A19&"*") -> 0 | K19: =COUNTIF('Game 1'!$B$7:$G$7,"*"&$A19&"*")+COUNTIF('Game 2'!$B$7:$G$7,"*"&$A19&"*")+COUNTIF('Game 3'!$B$7:$G$7,"*"&$A19&"*")+COUNTIF('Game 4'!$B$7:$G$7,"*"&$A19&"*")+COUNTIF('Game 5'!$B$7:$G$7,"*"&$A19&"*")+COUNTIF('Game 6'!$B$7:$G$7,"*"&$A19&"*")+COUNTIF('Game 7'!$B$7:$G$7,"*"&$A19&"*")+COUNTIF('Game 8'!$B$7:$G$7,"*"&$A19&"*")+COUNTIF('Game 9'!$B$7:$G$7,"*"&$A19&"*")+COUNTIF('Game 10'!$B$7:$G$7,"*"&$A19&"*")+COUNTIF('Game 11'!$B$7:$G$7,"*"&$A19&"*")+COUNTIF('Game 12'!$B$7:$G$7,"*"&$A19&"*")+COUNTIF('Game 13'!$B$7:$G$7,"*"&$A19&"*")+COUNTIF('Game 14'!$B$7:$G$7,"*"&$A19&"*")+COUNTIF('Game 15'!$B$7:$G$7,"*"&$A19&"*")+COUNTIF('Game 16'!$B$7:$G$7,"*"&$A19&"*") -> 0 | L19: =COUNTIF('Game 1'!$B$14:$G$14,"*"&$A19&"*")+COUNTIF('Game 1'!$B$15:$G$15,"*"&$A19&"*")+COUNTIF('Game 1'!$B$16:$G$16,"*"&$A19&"*")+COUNTIF('Game 2'!$B$14:$G$14,"*"&$A19&"*")+COUNTIF('Game 2'!$B$15:$G$15,"*"&$A19&"*")+COUNTIF('Game 2'!$B$16:$G$16,"*"&$A19&"*")+COUNTIF('Game 3'!$B$14:$G$14,"*"&$A19&"*")+COUNTIF('Game 3'!$B$15:$G$15,"*"&$A19&"*")+COUNTIF('Game 3'!$B$16:$G$16,"*"&$A19&"*")+COUNTIF('Game 4'!$B$14:$G$14,"*"&$A19&"*")+COUNTIF('Game 4'!$B$15:$G$15,"*"&$A19&"*")+COUNTIF('Game 4'!$B$16:$G$16,"*"&$A19&"*")+COUNTIF('Game 5'!$B$14:$G$14,"*"&$A19&"*")+COUNTIF('Game 5'!$B$15:$G$15,"*"&$A19&"*")+COUNTIF('Game 5'!$B$16:$G$16,"*"&$A19&"*")+COUNTIF('Game 6'!$B$14:$G$14,"*"&$A19&"*")+COUNTIF('Game 6'!$B$15:$G$15,"*"&$A19&"*")+COUNTIF('Game 6'!$B$16:$G$16,"*"&$A19&"*")+COUNTIF('Game 7'!$B$14:$G$14,"*"&$A19&"*")+COUNTIF('Game 7'!$B$15:$G$15,"*"&$A19&"*")+COUNTIF('Game 7'!$B$16:$G$16,"*"&$A19&"*")+COUNTIF('Game 8'!$B$14:$G$14,"*"&$A19&"*")+COUNTIF('Game 8'!$B$15:$G$15,"*"&$A19&"*")+COUNTIF('Game 8'!$B$16:$G$16,"*"&$A19&"*")+COUNTIF('Game 9'!$B$14:$G$14,"*"&$A19&"*")+COUNTIF('Game 9'!$B$15:$G$15,"*"&$A19&"*")+COUNTIF('Game 9'!$B$16:$G$16,"*"&$A19&"*")+COUNTIF('Game 10'!$B$14:$G$14,"*"&$A19&"*")+COUNTIF('Game 10'!$B$15:$G$15,"*"&$A19&"*")+COUNTIF('Game 10'!$B$16:$G$16,"*"&$A19&"*")+COUNTIF('Game 11'!$B$14:$G$14,"*"&$A19&"*")+COUNTIF('Game 11'!$B$15:$G$15,"*"&$A19&"*")+COUNTIF('Game 11'!$B$16:$G$16,"*"&$A19&"*")+COUNTIF('Game 12'!$B$14:$G$14,"*"&$A19&"*")+COUNTIF('Game 12'!$B$15:$G$15,"*"&$A19&"*")+COUNTIF('Game 12'!$B$16:$G$16,"*"&$A19&"*")+COUNTIF('Game 13'!$B$14:$G$14,"*"&$A19&"*")+COUNTIF('Game 13'!$B$15:$G$15,"*"&$A19&"*")+COUNTIF('Game 13'!$B$16:$G$16,"*"&$A19&"*")+COUNTIF('Game 14'!$B$14:$G$14,"*"&$A19&"*")+COUNTIF('Game 14'!$B$15:$G$15,"*"&$A19&"*")+COUNTIF('Game 14'!$B$16:$G$16,"*"&$A19&"*")+COUNTIF('Game 15'!$B$14:$G$14,"*"&$A19&"*")+COUNTIF('Game 15'!$B$15:$G$15,"*"&$A19&"*")+COUNTIF('Game 15'!$B$16:$G$16,"*"&$A19&"*")+COUNTIF('Game 16'!$B$14:$G$14,"*"&$A19&"*")+COUNTIF('Game 16'!$B$15:$G$15,"*"&$A19&"*")+COUNTIF('Game 16'!$B$16:$G$16,"*"&$A19&"*") -> 0 | M19: =SUM(B19:G19) -> 0 | N19: =SUM(H19:K19) -> 0 | O19: =L19 -> 0 | P19: =SUM(M19:O19) -> 0 | Q19: =IF(P19=0,0,M19/P19) -> 0 | R19: =IF(P19=0,0,N19/P19) -> 0 | S19: =IF(P19=0,0,O19/P19) -> 0 | T19: =IF($U$18=0,0,P19/$U$18) -> 0 | V19: ='Game 1'!Z3+'Game 2'!Z3+'Game 3'!Z3+'Game 4'!Z3+'Game 5'!Z3+'Game 6'!Z3+'Game 7'!Z3+'Game 8'!Z3+'Game 9'!Z3+'Game 10'!Z3+'Game 11'!Z3+'Game 12'!Z3+'Game 13'!Z3+'Game 14'!Z3+'Game 15'!Z3+'Game 16'!Z3 -> 0 | W19: =COUNTIF('Game 1'!$J$5,"*"&$A19&"*")+COUNTIF('Game 2'!$J$5,"*"&$A19&"*")+COUNTIF('Game 3'!$J$5,"*"&$A19&"*")+COUNTIF('Game 4'!$J$5,"*"&$A19&"*")+COUNTIF('Game 5'!$J$5,"*"&$A19&"*")+COUNTIF('Game 6'!$J$5,"*"&$A19&"*")+COUNTIF('Game 7'!$J$5,"*"&$A19&"*")+COUNTIF('Game 8'!$J$5,"*"&$A19&"*")+COUNTIF('Game 9'!$J$5,"*"&$A19&"*")+COUNTIF('Game 10'!$J$5,"*"&$A19&"*")+COUNTIF('Game 11'!$J$5,"*"&$A19&"*")+COUNTIF('Game 12'!$J$5,"*"&$A19&"*")+COUNTIF('Game 13'!$J$5,"*"&$A19&"*")+COUNTIF('Game 14'!$J$5,"*"&$A19&"*")+COUNTIF('Game 15'!$J$5,"*"&$A19&"*")+COUNTIF('Game 16'!$J$5,"*"&$A19&"*") -> 0 | X19: =COUNTIF('Game 1'!$J$6,"*"&$A19&"*")+COUNTIF('Game 2'!$J$6,"*"&$A19&"*")+COUNTIF('Game 3'!$J$6,"*"&$A19&"*")+COUNTIF('Game 4'!$J$6,"*"&$A19&"*")+COUNTIF('Game 5'!$J$6,"*"&$A19&"*")+COUNTIF('Game 6'!$J$6,"*"&$A19&"*")+COUNTIF('Game 7'!$J$6,"*"&$A19&"*")+COUNTIF('Game 8'!$J$6,"*"&$A19&"*")+COUNTIF('Game 9'!$J$6,"*"&$A19&"*")+COUNTIF('Game 10'!$J$6,"*"&$A19&"*")+COUNTIF('Game 11'!$J$6,"*"&$A19&"*")+COUNTIF('Game 12'!$J$6,"*"&$A19&"*")+COUNTIF('Game 13'!$J$6,"*"&$A19&"*")+COUNTIF('Game 14'!$J$6,"*"&$A19&"*")+COUNTIF('Game 15'!$J$6,"*"&$A19&"*")+COUNTIF('Game 16'!$J$6,"*"&$A19&"*") -> 0 | Y19: =COUNTIF('Game 1'!$J$7,"*"&$A19&"*")+COUNTIF('Game 2'!$J$7,"*"&$A19&"*")+COUNTIF('Game 3'!$J$7,"*"&$A19&"*")+COUNTIF('Game 4'!$J$7,"*"&$A19&"*")+COUNTIF('Game 5'!$J$7,"*"&$A19&"*")+COUNTIF('Game 6'!$J$7,"*"&$A19&"*")+COUNTIF('Game 7'!$J$7,"*"&$A19&"*")+COUNTIF('Game 8'!$J$7,"*"&$A19&"*")+COUNTIF('Game 9'!$J$7,"*"&$A19&"*")+COUNTIF('Game 10'!$J$7,"*"&$A19&"*")+COUNTIF('Game 11'!$J$7,"*"&$A19&"*")+COUNTIF('Game 12'!$J$7,"*"&$A19&"*")+COUNTIF('Game 13'!$J$7,"*"&$A19&"*")+COUNTIF('Game 14'!$J$7,"*"&$A19&"*")+COUNTIF('Game 15'!$J$7,"*"&$A19&"*")+COUNTIF('Game 16'!$J$7,"*"&$A19&"*") -> 0 | Z19: =COUNTIF('Game 1'!$J$8,"*"&$A19&"*")+COUNTIF('Game 2'!$J$8,"*"&$A19&"*")+COUNTIF('Game 3'!$J$8,"*"&$A19&"*")+COUNTIF('Game 4'!$J$8,"*"&$A19&"*")+COUNTIF('Game 5'!$J$8,"*"&$A19&"*")+COUNTIF('Game 6'!$J$8,"*"&$A19&"*")+COUNTIF('Game 7'!$J$8,"*"&$A19&"*")+COUNTIF('Game 8'!$J$8,"*"&$A19&"*")+COUNTIF('Game 9'!$J$8,"*"&$A19&"*")+COUNTIF('Game 10'!$J$8,"*"&$A19&"*")+COUNTIF('Game 11'!$J$8,"*"&$A19&"*")+COUNTIF('Game 12'!$J$8,"*"&$A19&"*")+COUNTIF('Game 13'!$J$8,"*"&$A19&"*")+COUNTIF('Game 14'!$J$8,"*"&$A19&"*")+COUNTIF('Game 15'!$J$8,"*"&$A19&"*")+COUNTIF('Game 16'!$J$8,"*"&$A19&"*") -> 0 | AA19: =COUNTIF('Game 1'!$J$9,"*"&$A19&"*")+COUNTIF('Game 2'!$J$9,"*"&$A19&"*")+COUNTIF('Game 3'!$J$9,"*"&$A19&"*")+COUNTIF('Game 4'!$J$9,"*"&$A19&"*")+COUNTIF('Game 5'!$J$9,"*"&$A19&"*")+COUNTIF('Game 6'!$J$9,"*"&$A19&"*")+COUNTIF('Game 7'!$J$9,"*"&$A19&"*")+COUNTIF('Game 8'!$J$9,"*"&$A19&"*")+COUNTIF('Game 9'!$J$9,"*"&$A19&"*")+COUNTIF('Game 10'!$J$9,"*"&$A19&"*")+COUNTIF('Game 11'!$J$9,"*"&$A19&"*")+COUNTIF('Game 12'!$J$9,"*"&$A19&"*")+COUNTIF('Game 13'!$J$9,"*"&$A19&"*")+COUNTIF('Game 14'!$J$9,"*"&$A19&"*")+COUNTIF('Game 15'!$J$9,"*"&$A19&"*")+COUNTIF('Game 16'!$J$9,"*"&$A19&"*") -> 0 | AB19: =COUNTIF('Game 1'!$J$10,"*"&$A19&"*")+COUNTIF('Game 2'!$J$10,"*"&$A19&"*")+COUNTIF('Game 3'!$J$10,"*"&$A19&"*")+COUNTIF('Game 4'!$J$10,"*"&$A19&"*")+COUNTIF('Game 5'!$J$10,"*"&$A19&"*")+COUNTIF('Game 6'!$J$10,"*"&$A19&"*")+COUNTIF('Game 7'!$J$10,"*"&$A19&"*")+COUNTIF('Game 8'!$J$10,"*"&$A19&"*")+COUNTIF('Game 9'!$J$10,"*"&$A19&"*")+COUNTIF('Game 10'!$J$10,"*"&$A19&"*")+COUNTIF('Game 11'!$J$10,"*"&$A19&"*")+COUNTIF('Game 12'!$J$10,"*"&$A19&"*")+COUNTIF('Game 13'!$J$10,"*"&$A19&"*")+COUNTIF('Game 14'!$J$10,"*"&$A19&"*")+COUNTIF('Game 15'!$J$10,"*"&$A19&"*")+COUNTIF('Game 16'!$J$10,"*"&$A19&"*") -> 0 | AC19: =COUNTIF('Game 1'!$J$11,"*"&$A19&"*")+COUNTIF('Game 2'!$J$11,"*"&$A19&"*")+COUNTIF('Game 3'!$J$11,"*"&$A19&"*")+COUNTIF('Game 4'!$J$11,"*"&$A19&"*")+COUNTIF('Game 5'!$J$11,"*"&$A19&"*")+COUNTIF('Game 6'!$J$11,"*"&$A19&"*")+COUNTIF('Game 7'!$J$11,"*"&$A19&"*")+COUNTIF('Game 8'!$J$11,"*"&$A19&"*")+COUNTIF('Game 9'!$J$11,"*"&$A19&"*")+COUNTIF('Game 10'!$J$11,"*"&$A19&"*")+COUNTIF('Game 11'!$J$11,"*"&$A19&"*")+COUNTIF('Game 12'!$J$11,"*"&$A19&"*")+COUNTIF('Game 13'!$J$11,"*"&$A19&"*")+COUNTIF('Game 14'!$J$11,"*"&$A19&"*")+COUNTIF('Game 15'!$J$11,"*"&$A19&"*")+COUNTIF('Game 16'!$J$11,"*"&$A19&"*") -> 0 | AD19: =COUNTIF('Game 1'!$J$12,"*"&$A19&"*")+COUNTIF('Game 2'!$J$12,"*"&$A19&"*")+COUNTIF('Game 3'!$J$12,"*"&$A19&"*")+COUNTIF('Game 4'!$J$12,"*"&$A19&"*")+COUNTIF('Game 5'!$J$12,"*"&$A19&"*")+COUNTIF('Game 6'!$J$12,"*"&$A19&"*")+COUNTIF('Game 7'!$J$12,"*"&$A19&"*")+COUNTIF('Game 8'!$J$12,"*"&$A19&"*")+COUNTIF('Game 9'!$J$12,"*"&$A19&"*")+COUNTIF('Game 10'!$J$12,"*"&$A19&"*")+COUNTIF('Game 11'!$J$12,"*"&$A19&"*")+COUNTIF('Game 12'!$J$12,"*"&$A19&"*")+COUNTIF('Game 13'!$J$12,"*"&$A19&"*")+COUNTIF('Game 14'!$J$12,"*"&$A19&"*")+COUNTIF('Game 15'!$J$12,"*"&$A19&"*")+COUNTIF('Game 16'!$J$12,"*"&$A19&"*") -> 0 | AE19: =COUNTIF('Game 1'!$J$13,"*"&$A19&"*")+COUNTIF('Game 2'!$J$13,"*"&$A19&"*")+COUNTIF('Game 3'!$J$13,"*"&$A19&"*")+COUNTIF('Game 4'!$J$13,"*"&$A19&"*")+COUNTIF('Game 5'!$J$13,"*"&$A19&"*")+COUNTIF('Game 6'!$J$13,"*"&$A19&"*")+COUNTIF('Game 7'!$J$13,"*"&$A19&"*")+COUNTIF('Game 8'!$J$13,"*"&$A19&"*")+COUNTIF('Game 9'!$J$13,"*"&$A19&"*")+COUNTIF('Game 10'!$J$13,"*"&$A19&"*")+COUNTIF('Game 11'!$J$13,"*"&$A19&"*")+COUNTIF('Game 12'!$J$13,"*"&$A19&"*")+COUNTIF('Game 13'!$J$13,"*"&$A19&"*")+COUNTIF('Game 14'!$J$13,"*"&$A19&"*")+COUNTIF('Game 15'!$J$13,"*"&$A19&"*")+COUNTIF('Game 16'!$J$13,"*"&$A19&"*") -> 0 | AF19: =COUNTIF('Game 1'!$J$14,"*"&$A19&"*")+COUNTIF('Game 2'!$J$14,"*"&$A19&"*")+COUNTIF('Game 3'!$J$14,"*"&$A19&"*")+COUNTIF('Game 4'!$J$14,"*"&$A19&"*")+COUNTIF('Game 5'!$J$14,"*"&$A19&"*")+COUNTIF('Game 6'!$J$14,"*"&$A19&"*")+COUNTIF('Game 7'!$J$14,"*"&$A19&"*")+COUNTIF('Game 8'!$J$14,"*"&$A19&"*")+COUNTIF('Game 9'!$J$14,"*"&$A19&"*")+COUNTIF('Game 10'!$J$14,"*"&$A19&"*")+COUNTIF('Game 11'!$J$14,"*"&$A19&"*")+COUNTIF('Game 12'!$J$14,"*"&$A19&"*")+COUNTIF('Game 13'!$J$14,"*"&$A19&"*")+COUNTIF('Game 14'!$J$14,"*"&$A19&"*")+COUNTIF('Game 15'!$J$14,"*"&$A19&"*")+COUNTIF('Game 16'!$J$14,"*"&$A19&"*") -> 0 | AG19: =COUNTIF('Game 1'!$J$15,"*"&$A19&"*")+COUNTIF('Game 2'!$J$15,"*"&$A19&"*")+COUNTIF('Game 3'!$J$15,"*"&$A19&"*")+COUNTIF('Game 4'!$J$15,"*"&$A19&"*")+COUNTIF('Game 5'!$J$15,"*"&$A19&"*")+COUNTIF('Game 6'!$J$15,"*"&$A19&"*")+COUNTIF('Game 7'!$J$15,"*"&$A19&"*")+COUNTIF('Game 8'!$J$15,"*"&$A19&"*")+COUNTIF('Game 9'!$J$15,"*"&$A19&"*")+COUNTIF('Game 10'!$J$15,"*"&$A19&"*")+COUNTIF('Game 11'!$J$15,"*"&$A19&"*")+COUNTIF('Game 12'!$J$15,"*"&$A19&"*")+COUNTIF('Game 13'!$J$15,"*"&$A19&"*")+COUNTIF('Game 14'!$J$15,"*"&$A19&"*")+COUNTIF('Game 15'!$J$15,"*"&$A19&"*")+COUNTIF('Game 16'!$J$15,"*"&$A19&"*") -> 0 | AH19: =COUNTIF('Game 1'!$J$16,"*"&$A19&"*")+COUNTIF('Game 2'!$J$16,"*"&$A19&"*")+COUNTIF('Game 3'!$J$16,"*"&$A19&"*")+COUNTIF('Game 4'!$J$16,"*"&$A19&"*")+COUNTIF('Game 5'!$J$16,"*"&$A19&"*")+COUNTIF('Game 6'!$J$16,"*"&$A19&"*")+COUNTIF('Game 7'!$J$16,"*"&$A19&"*")+COUNTIF('Game 8'!$J$16,"*"&$A19&"*")+COUNTIF('Game 9'!$J$16,"*"&$A19&"*")+COUNTIF('Game 10'!$J$16,"*"&$A19&"*")+COUNTIF('Game 11'!$J$16,"*"&$A19&"*")+COUNTIF('Game 12'!$J$16,"*"&$A19&"*")+COUNTIF('Game 13'!$J$16,"*"&$A19&"*")+COUNTIF('Game 14'!$J$16,"*"&$A19&"*")+COUNTIF('Game 15'!$J$16,"*"&$A19&"*")+COUNTIF('Game 16'!$J$16,"*"&$A19&"*") -> 0 | AI19: =COUNTIF('Game 1'!$J$17,"*"&$A19&"*")+COUNTIF('Game 2'!$J$17,"*"&$A19&"*")+COUNTIF('Game 3'!$J$17,"*"&$A19&"*")+COUNTIF('Game 4'!$J$17,"*"&$A19&"*")+COUNTIF('Game 5'!$J$17,"*"&$A19&"*")+COUNTIF('Game 6'!$J$17,"*"&$A19&"*")+COUNTIF('Game 7'!$J$17,"*"&$A19&"*")+COUNTIF('Game 8'!$J$17,"*"&$A19&"*")+COUNTIF('Game 9'!$J$17,"*"&$A19&"*")+COUNTIF('Game 10'!$J$17,"*"&$A19&"*")+COUNTIF('Game 11'!$J$17,"*"&$A19&"*")+COUNTIF('Game 12'!$J$17,"*"&$A19&"*")+COUNTIF('Game 13'!$J$17,"*"&$A19&"*")+COUNTIF('Game 14'!$J$17,"*"&$A19&"*")+COUNTIF('Game 15'!$J$17,"*"&$A19&"*")+COUNTIF('Game 16'!$J$17,"*"&$A19&"*") -> 0 | AJ19: =COUNTIF('Game 1'!$L$15,"*"&$A19&"*")+COUNTIF('Game 2'!$L$15,"*"&$A19&"*")+COUNTIF('Game 3'!$L$15,"*"&$A19&"*")+COUNTIF('Game 4'!$L$15,"*"&$A19&"*")+COUNTIF('Game 5'!$L$15,"*"&$A19&"*")+COUNTIF('Game 6'!$L$15,"*"&$A19&"*")+COUNTIF('Game 7'!$L$15,"*"&$A19&"*")+COUNTIF('Game 8'!$L$15,"*"&$A19&"*")+COUNTIF('Game 9'!$L$15,"*"&$A19&"*")+COUNTIF('Game 10'!$L$15,"*"&$A19&"*")+COUNTIF('Game 11'!$L$15,"*"&$A19&"*")+COUNTIF('Game 12'!$L$15,"*"&$A19&"*")+COUNTIF('Game 13'!$L$15,"*"&$A19&"*")+COUNTIF('Game 14'!$L$15,"*"&$A19&"*")+COUNTIF('Game 15'!$L$15,"*"&$A19&"*")+COUNTIF('Game 16'!$L$15,"*"&$A19&"*") -> 0
A20: =A4 -> Player 3 | B20: =COUNTIF('Game 1'!$B$13:$G$13,"*"&$A20&"*")+COUNTIF('Game 2'!$B$13:$G$13,"*"&$A20&"*")+COUNTIF('Game 3'!$B$13:$G$13,"*"&$A20&"*")+COUNTIF('Game 4'!$B$13:$G$13,"*"&$A20&"*")+COUNTIF('Game 5'!$B$13:$G$13,"*"&$A20&"*")+COUNTIF('Game 6'!$B$13:$G$13,"*"&$A20&"*")+COUNTIF('Game 7'!$B$13:$G$13,"*"&$A20&"*")+COUNTIF('Game 8'!$B$13:$G$13,"*"&$A20&"*")+COUNTIF('Game 9'!$B$13:$G$13,"*"&$A20&"*")+COUNTIF('Game 10'!$B$13:$G$13,"*"&$A20&"*")+COUNTIF('Game 11'!$B$13:$G$13,"*"&$A20&"*")+COUNTIF('Game 12'!$B$13:$G$13,"*"&$A20&"*")+COUNTIF('Game 13'!$B$13:$G$13,"*"&$A20&"*")+COUNTIF('Game 14'!$B$13:$G$13,"*"&$A20&"*")+COUNTIF('Game 15'!$B$13:$G$13,"*"&$A20&"*")+COUNTIF('Game 16'!$B$13:$G$13,"*"&$A20&"*") -> 0 | C20: =COUNTIF('Game 1'!$B$12:$G$12,"*"&$A20&"*")+COUNTIF('Game 2'!$B$12:$G$12,"*"&$A20&"*")+COUNTIF('Game 3'!$B$12:$G$12,"*"&$A20&"*")+COUNTIF('Game 4'!$B$12:$G$12,"*"&$A20&"*")+COUNTIF('Game 5'!$B$12:$G$12,"*"&$A20&"*")+COUNTIF('Game 6'!$B$12:$G$12,"*"&$A20&"*")+COUNTIF('Game 7'!$B$12:$G$12,"*"&$A20&"*")+COUNTIF('Game 8'!$B$12:$G$12,"*"&$A20&"*")+COUNTIF('Game 9'!$B$12:$G$12,"*"&$A20&"*")+COUNTIF('Game 10'!$B$12:$G$12,"*"&$A20&"*")+COUNTIF('Game 11'!$B$12:$G$12,"*"&$A20&"*")+COUNTIF('Game 12'!$B$12:$G$12,"*"&$A20&"*")+COUNTIF('Game 13'!$B$12:$G$12,"*"&$A20&"*")+COUNTIF('Game 14'!$B$12:$G$12,"*"&$A20&"*")+COUNTIF('Game 15'!$B$12:$G$12,"*"&$A20&"*")+COUNTIF('Game 16'!$B$12:$G$12,"*"&$A20&"*") -> 0 | D20: =COUNTIF('Game 1'!$B$11:$G$11,"*"&$A20&"*")+COUNTIF('Game 2'!$B$11:$G$11,"*"&$A20&"*")+COUNTIF('Game 3'!$B$11:$G$11,"*"&$A20&"*")+COUNTIF('Game 4'!$B$11:$G$11,"*"&$A20&"*")+COUNTIF('Game 5'!$B$11:$G$11,"*"&$A20&"*")+COUNTIF('Game 6'!$B$11:$G$11,"*"&$A20&"*")+COUNTIF('Game 7'!$B$11:$G$11,"*"&$A20&"*")+COUNTIF('Game 8'!$B$11:$G$11,"*"&$A20&"*")+COUNTIF('Game 9'!$B$11:$G$11,"*"&$A20&"*")+COUNTIF('Game 10'!$B$11:$G$11,"*"&$A20&"*")+COUNTIF('Game 11'!$B$11:$G$11,"*"&$A20&"*")+COUNTIF('Game 12'!$B$11:$G$11,"*"&$A20&"*")+COUNTIF('Game 13'!$B$11:$G$11,"*"&$A20&"*")+COUNTIF('Game 14'!$B$11:$G$11,"*"&$A20&"*")+COUNTIF('Game 15'!$B$11:$G$11,"*"&$A20&"*")+COUNTIF('Game 16'!$B$11:$G$11,"*"&$A20&"*") -> 0 | E20: =COUNTIF('Game 1'!$B$10:$G$10,"*"&$A20&"*")+COUNTIF('Game 2'!$B$10:$G$10,"*"&$A20&"*")+COUNTIF('Game 3'!$B$10:$G$10,"*"&$A20&"*")+COUNTIF('Game 4'!$B$10:$G$10,"*"&$A20&"*")+COUNTIF('Game 5'!$B$10:$G$10,"*"&$A20&"*")+COUNTIF('Game 6'!$B$10:$G$10,"*"&$A20&"*")+COUNTIF('Game 7'!$B$10:$G$10,"*"&$A20&"*")+COUNTIF('Game 8'!$B$10:$G$10,"*"&$A20&"*")+COUNTIF('Game 9'!$B$10:$G$10,"*"&$A20&"*")+COUNTIF('Game 10'!$B$10:$G$10,"*"&$A20&"*")+COUNTIF('Game 11'!$B$10:$G$10,"*"&$A20&"*")+COUNTIF('Game 12'!$B$10:$G$10,"*"&$A20&"*")+COUNTIF('Game 13'!$B$10:$G$10,"*"&$A20&"*")+COUNTIF('Game 14'!$B$10:$G$10,"*"&$A20&"*")+COUNTIF('Game 15'!$B$10:$G$10,"*"&$A20&"*")+COUNTIF('Game 16'!$B$10:$G$10,"*"&$A20&"*") -> 0 | F20: =COUNTIF('Game 1'!$B$9:$G$9,"*"&$A20&"*")+COUNTIF('Game 2'!$B$9:$G$9,"*"&$A20&"*")+COUNTIF('Game 3'!$B$9:$G$9,"*"&$A20&"*")+COUNTIF('Game 4'!$B$9:$G$9,"*"&$A20&"*")+COUNTIF('Game 5'!$B$9:$G$9,"*"&$A20&"*")+COUNTIF('Game 6'!$B$9:$G$9,"*"&$A20&"*")+COUNTIF('Game 7'!$B$9:$G$9,"*"&$A20&"*")+COUNTIF('Game 8'!$B$9:$G$9,"*"&$A20&"*")+COUNTIF('Game 9'!$B$9:$G$9,"*"&$A20&"*")+COUNTIF('Game 10'!$B$9:$G$9,"*"&$A20&"*")+COUNTIF('Game 11'!$B$9:$G$9,"*"&$A20&"*")+COUNTIF('Game 12'!$B$9:$G$9,"*"&$A20&"*")+COUNTIF('Game 13'!$B$9:$G$9,"*"&$A20&"*")+COUNTIF('Game 14'!$B$9:$G$9,"*"&$A20&"*")+COUNTIF('Game 15'!$B$9:$G$9,"*"&$A20&"*")+COUNTIF('Game 16'!$B$9:$G$9,"*"&$A20&"*") -> 0 | G20: =COUNTIF('Game 1'!$B$8:$G$8,"*"&$A20&"*")+COUNTIF('Game 2'!$B$8:$G$8,"*"&$A20&"*")+COUNTIF('Game 3'!$B$8:$G$8,"*"&$A20&"*")+COUNTIF('Game 4'!$B$8:$G$8,"*"&$A20&"*")+COUNTIF('Game 5'!$B$8:$G$8,"*"&$A20&"*")+COUNTIF('Game 6'!$B$8:$G$8,"*"&$A20&"*")+COUNTIF('Game 7'!$B$8:$G$8,"*"&$A20&"*")+COUNTIF('Game 8'!$B$8:$G$8,"*"&$A20&"*")+COUNTIF('Game 9'!$B$8:$G$8,"*"&$A20&"*")+COUNTIF('Game 10'!$B$8:$G$8,"*"&$A20&"*")+COUNTIF('Game 11'!$B$8:$G$8,"*"&$A20&"*")+COUNTIF('Game 12'!$B$8:$G$8,"*"&$A20&"*")+COUNTIF('Game 13'!$B$8:$G$8,"*"&$A20&"*")+COUNTIF('Game 14'!$B$8:$G$8,"*"&$A20&"*")+COUNTIF('Game 15'!$B$8:$G$8,"*"&$A20&"*")+COUNTIF('Game 16'!$B$8:$G$8,"*"&$A20&"*") -> 0 | H20: =COUNTIF('Game 1'!$B$4:$G$4,"*"&$A20&"*")+COUNTIF('Game 2'!$B$4:$G$4,"*"&$A20&"*")+COUNTIF('Game 3'!$B$4:$G$4,"*"&$A20&"*")+COUNTIF('Game 4'!$B$4:$G$4,"*"&$A20&"*")+COUNTIF('Game 5'!$B$4:$G$4,"*"&$A20&"*")+COUNTIF('Game 6'!$B$4:$G$4,"*"&$A20&"*")+COUNTIF('Game 7'!$B$4:$G$4,"*"&$A20&"*")+COUNTIF('Game 8'!$B$4:$G$4,"*"&$A20&"*")+COUNTIF('Game 9'!$B$4:$G$4,"*"&$A20&"*")+COUNTIF('Game 10'!$B$4:$G$4,"*"&$A20&"*")+COUNTIF('Game 11'!$B$4:$G$4,"*"&$A20&"*")+COUNTIF('Game 12'!$B$4:$G$4,"*"&$A20&"*")+COUNTIF('Game 13'!$B$4:$G$4,"*"&$A20&"*")+COUNTIF('Game 14'!$B$4:$G$4,"*"&$A20&"*")+COUNTIF('Game 15'!$B$4:$G$4,"*"&$A20&"*")+COUNTIF('Game 16'!$B$4:$G$4,"*"&$A20&"*") -> 0 | I20: =COUNTIF('Game 1'!$B$5:$G$5,"*"&$A20&"*")+COUNTIF('Game 2'!$B$5:$G$5,"*"&$A20&"*")+COUNTIF('Game 3'!$B$5:$G$5,"*"&$A20&"*")+COUNTIF('Game 4'!$B$5:$G$5,"*"&$A20&"*")+COUNTIF('Game 5'!$B$5:$G$5,"*"&$A20&"*")+COUNTIF('Game 6'!$B$5:$G$5,"*"&$A20&"*")+COUNTIF('Game 7'!$B$5:$G$5,"*"&$A20&"*")+COUNTIF('Game 8'!$B$5:$G$5,"*"&$A20&"*")+COUNTIF('Game 9'!$B$5:$G$5,"*"&$A20&"*")+COUNTIF('Game 10'!$B$5:$G$5,"*"&$A20&"*")+COUNTIF('Game 11'!$B$5:$G$5,"*"&$A20&"*")+COUNTIF('Game 12'!$B$5:$G$5,"*"&$A20&"*")+COUNTIF('Game 13'!$B$5:$G$5,"*"&$A20&"*")+COUNTIF('Game 14'!$B$5:$G$5,"*"&$A20&"*")+COUNTIF('Game 15'!$B$5:$G$5,"*"&$A20&"*")+COUNTIF('Game 16'!$B$5:$G$5,"*"&$A20&"*") -> 0 | J20: =COUNTIF('Game 1'!$B$6:$G$6,"*"&$A20&"*")+COUNTIF('Game 2'!$B$6:$G$6,"*"&$A20&"*")+COUNTIF('Game 3'!$B$6:$G$6,"*"&$A20&"*")+COUNTIF('Game 4'!$B$6:$G$6,"*"&$A20&"*")+COUNTIF('Game 5'!$B$6:$G$6,"*"&$A20&"*")+COUNTIF('Game 6'!$B$6:$G$6,"*"&$A20&"*")+COUNTIF('Game 7'!$B$6:$G$6,"*"&$A20&"*")+COUNTIF('Game 8'!$B$6:$G$6,"*"&$A20&"*")+COUNTIF('Game 9'!$B$6:$G$6,"*"&$A20&"*")+COUNTIF('Game 10'!$B$6:$G$6,"*"&$A20&"*")+COUNTIF('Game 11'!$B$6:$G$6,"*"&$A20&"*")+COUNTIF('Game 12'!$B$6:$G$6,"*"&$A20&"*")+COUNTIF('Game 13'!$B$6:$G$6,"*"&$A20&"*")+COUNTIF('Game 14'!$B$6:$G$6,"*"&$A20&"*")+COUNTIF('Game 15'!$B$6:$G$6,"*"&$A20&"*")+COUNTIF('Game 16'!$B$6:$G$6,"*"&$A20&"*") -> 0 | K20: =COUNTIF('Game 1'!$B$7:$G$7,"*"&$A20&"*")+COUNTIF('Game 2'!$B$7:$G$7,"*"&$A20&"*")+COUNTIF('Game 3'!$B$7:$G$7,"*"&$A20&"*")+COUNTIF('Game 4'!$B$7:$G$7,"*"&$A20&"*")+COUNTIF('Game 5'!$B$7:$G$7,"*"&$A20&"*")+COUNTIF('Game 6'!$B$7:$G$7,"*"&$A20&"*")+COUNTIF('Game 7'!$B$7:$G$7,"*"&$A20&"*")+COUNTIF('Game 8'!$B$7:$G$7,"*"&$A20&"*")+COUNTIF('Game 9'!$B$7:$G$7,"*"&$A20&"*")+COUNTIF('Game 10'!$B$7:$G$7,"*"&$A20&"*")+COUNTIF('Game 11'!$B$7:$G$7,"*"&$A20&"*")+COUNTIF('Game 12'!$B$7:$G$7,"*"&$A20&"*")+COUNTIF('Game 13'!$B$7:$G$7,"*"&$A20&"*")+COUNTIF('Game 14'!$B$7:$G$7,"*"&$A20&"*")+COUNTIF('Game 15'!$B$7:$G$7,"*"&$A20&"*")+COUNTIF('Game 16'!$B$7:$G$7,"*"&$A20&"*") -> 0 | L20: =COUNTIF('Game 1'!$B$14:$G$14,"*"&$A20&"*")+COUNTIF('Game 1'!$B$15:$G$15,"*"&$A20&"*")+COUNTIF('Game 1'!$B$16:$G$16,"*"&$A20&"*")+COUNTIF('Game 2'!$B$14:$G$14,"*"&$A20&"*")+COUNTIF('Game 2'!$B$15:$G$15,"*"&$A20&"*")+COUNTIF('Game 2'!$B$16:$G$16,"*"&$A20&"*")+COUNTIF('Game 3'!$B$14:$G$14,"*"&$A20&"*")+COUNTIF('Game 3'!$B$15:$G$15,"*"&$A20&"*")+COUNTIF('Game 3'!$B$16:$G$16,"*"&$A20&"*")+COUNTIF('Game 4'!$B$14:$G$14,"*"&$A20&"*")+COUNTIF('Game 4'!$B$15:$G$15,"*"&$A20&"*")+COUNTIF('Game 4'!$B$16:$G$16,"*"&$A20&"*")+COUNTIF('Game 5'!$B$14:$G$14,"*"&$A20&"*")+COUNTIF('Game 5'!$B$15:$G$15,"*"&$A20&"*")+COUNTIF('Game 5'!$B$16:$G$16,"*"&$A20&"*")+COUNTIF('Game 6'!$B$14:$G$14,"*"&$A20&"*")+COUNTIF('Game 6'!$B$15:$G$15,"*"&$A20&"*")+COUNTIF('Game 6'!$B$16:$G$16,"*"&$A20&"*")+COUNTIF('Game 7'!$B$14:$G$14,"*"&$A20&"*")+COUNTIF('Game 7'!$B$15:$G$15,"*"&$A20&"*")+COUNTIF('Game 7'!$B$16:$G$16,"*"&$A20&"*")+COUNTIF('Game 8'!$B$14:$G$14,"*"&$A20&"*")+COUNTIF('Game 8'!$B$15:$G$15,"*"&$A20&"*")+COUNTIF('Game 8'!$B$16:$G$16,"*"&$A20&"*")+COUNTIF('Game 9'!$B$14:$G$14,"*"&$A20&"*")+COUNTIF('Game 9'!$B$15:$G$15,"*"&$A20&"*")+COUNTIF('Game 9'!$B$16:$G$16,"*"&$A20&"*")+COUNTIF('Game 10'!$B$14:$G$14,"*"&$A20&"*")+COUNTIF('Game 10'!$B$15:$G$15,"*"&$A20&"*")+COUNTIF('Game 10'!$B$16:$G$16,"*"&$A20&"*")+COUNTIF('Game 11'!$B$14:$G$14,"*"&$A20&"*")+COUNTIF('Game 11'!$B$15:$G$15,"*"&$A20&"*")+COUNTIF('Game 11'!$B$16:$G$16,"*"&$A20&"*")+COUNTIF('Game 12'!$B$14:$G$14,"*"&$A20&"*")+COUNTIF('Game 12'!$B$15:$G$15,"*"&$A20&"*")+COUNTIF('Game 12'!$B$16:$G$16,"*"&$A20&"*")+COUNTIF('Game 13'!$B$14:$G$14,"*"&$A20&"*")+COUNTIF('Game 13'!$B$15:$G$15,"*"&$A20&"*")+COUNTIF('Game 13'!$B$16:$G$16,"*"&$A20&"*")+COUNTIF('Game 14'!$B$14:$G$14,"*"&$A20&"*")+COUNTIF('Game 14'!$B$15:$G$15,"*"&$A20&"*")+COUNTIF('Game 14'!$B$16:$G$16,"*"&$A20&"*")+COUNTIF('Game 15'!$B$14:$G$14,"*"&$A20&"*")+COUNTIF('Game 15'!$B$15:$G$15,"*"&$A20&"*")+COUNTIF('Game 15'!$B$16:$G$16,"*"&$A20&"*")+COUNTIF('Game 16'!$B$14:$G$14,"*"&$A20&"*")+COUNTIF('Game 16'!$B$15:$G$15,"*"&$A20&"*")+COUNTIF('Game 16'!$B$16:$G$16,"*"&$A20&"*") -> 0 | M20: =SUM(B20:G20) -> 0 | N20: =SUM(H20:K20) -> 0 | O20: =L20 -> 0 | P20: =SUM(M20:O20) -> 0 | Q20: =IF(P20=0,0,M20/P20) -> 0 | R20: =IF(P20=0,0,N20/P20) -> 0 | S20: =IF(P20=0,0,O20/P20) -> 0 | T20: =IF($U$18=0,0,P20/$U$18) -> 0 | V20: ='Game 1'!Z4+'Game 2'!Z4+'Game 3'!Z4+'Game 4'!Z4+'Game 5'!Z4+'Game 6'!Z4+'Game 7'!Z4+'Game 8'!Z4+'Game 9'!Z4+'Game 10'!Z4+'Game 11'!Z4+'Game 12'!Z4+'Game 13'!Z4+'Game 14'!Z4+'Game 15'!Z4+'Game 16'!Z4 -> 0 | W20: =COUNTIF('Game 1'!$J$5,"*"&$A20&"*")+COUNTIF('Game 2'!$J$5,"*"&$A20&"*")+COUNTIF('Game 3'!$J$5,"*"&$A20&"*")+COUNTIF('Game 4'!$J$5,"*"&$A20&"*")+COUNTIF('Game 5'!$J$5,"*"&$A20&"*")+COUNTIF('Game 6'!$J$5,"*"&$A20&"*")+COUNTIF('Game 7'!$J$5,"*"&$A20&"*")+COUNTIF('Game 8'!$J$5,"*"&$A20&"*")+COUNTIF('Game 9'!$J$5,"*"&$A20&"*")+COUNTIF('Game 10'!$J$5,"*"&$A20&"*")+COUNTIF('Game 11'!$J$5,"*"&$A20&"*")+COUNTIF('Game 12'!$J$5,"*"&$A20&"*")+COUNTIF('Game 13'!$J$5,"*"&$A20&"*")+COUNTIF('Game 14'!$J$5,"*"&$A20&"*")+COUNTIF('Game 15'!$J$5,"*"&$A20&"*")+COUNTIF('Game 16'!$J$5,"*"&$A20&"*") -> 0 | X20: =COUNTIF('Game 1'!$J$6,"*"&$A20&"*")+COUNTIF('Game 2'!$J$6,"*"&$A20&"*")+COUNTIF('Game 3'!$J$6,"*"&$A20&"*")+COUNTIF('Game 4'!$J$6,"*"&$A20&"*")+COUNTIF('Game 5'!$J$6,"*"&$A20&"*")+COUNTIF('Game 6'!$J$6,"*"&$A20&"*")+COUNTIF('Game 7'!$J$6,"*"&$A20&"*")+COUNTIF('Game 8'!$J$6,"*"&$A20&"*")+COUNTIF('Game 9'!$J$6,"*"&$A20&"*")+COUNTIF('Game 10'!$J$6,"*"&$A20&"*")+COUNTIF('Game 11'!$J$6,"*"&$A20&"*")+COUNTIF('Game 12'!$J$6,"*"&$A20&"*")+COUNTIF('Game 13'!$J$6,"*"&$A20&"*")+COUNTIF('Game 14'!$J$6,"*"&$A20&"*")+COUNTIF('Game 15'!$J$6,"*"&$A20&"*")+COUNTIF('Game 16'!$J$6,"*"&$A20&"*") -> 0 | Y20: =COUNTIF('Game 1'!$J$7,"*"&$A20&"*")+COUNTIF('Game 2'!$J$7,"*"&$A20&"*")+COUNTIF('Game 3'!$J$7,"*"&$A20&"*")+COUNTIF('Game 4'!$J$7,"*"&$A20&"*")+COUNTIF('Game 5'!$J$7,"*"&$A20&"*")+COUNTIF('Game 6'!$J$7,"*"&$A20&"*")+COUNTIF('Game 7'!$J$7,"*"&$A20&"*")+COUNTIF('Game 8'!$J$7,"*"&$A20&"*")+COUNTIF('Game 9'!$J$7,"*"&$A20&"*")+COUNTIF('Game 10'!$J$7,"*"&$A20&"*")+COUNTIF('Game 11'!$J$7,"*"&$A20&"*")+COUNTIF('Game 12'!$J$7,"*"&$A20&"*")+COUNTIF('Game 13'!$J$7,"*"&$A20&"*")+COUNTIF('Game 14'!$J$7,"*"&$A20&"*")+COUNTIF('Game 15'!$J$7,"*"&$A20&"*")+COUNTIF('Game 16'!$J$7,"*"&$A20&"*") -> 0 | Z20: =COUNTIF('Game 1'!$J$8,"*"&$A20&"*")+COUNTIF('Game 2'!$J$8,"*"&$A20&"*")+COUNTIF('Game 3'!$J$8,"*"&$A20&"*")+COUNTIF('Game 4'!$J$8,"*"&$A20&"*")+COUNTIF('Game 5'!$J$8,"*"&$A20&"*")+COUNTIF('Game 6'!$J$8,"*"&$A20&"*")+COUNTIF('Game 7'!$J$8,"*"&$A20&"*")+COUNTIF('Game 8'!$J$8,"*"&$A20&"*")+COUNTIF('Game 9'!$J$8,"*"&$A20&"*")+COUNTIF('Game 10'!$J$8,"*"&$A20&"*")+COUNTIF('Game 11'!$J$8,"*"&$A20&"*")+COUNTIF('Game 12'!$J$8,"*"&$A20&"*")+COUNTIF('Game 13'!$J$8,"*"&$A20&"*")+COUNTIF('Game 14'!$J$8,"*"&$A20&"*")+COUNTIF('Game 15'!$J$8,"*"&$A20&"*")+COUNTIF('Game 16'!$J$8,"*"&$A20&"*") -> 0 | AA20: =COUNTIF('Game 1'!$J$9,"*"&$A20&"*")+COUNTIF('Game 2'!$J$9,"*"&$A20&"*")+COUNTIF('Game 3'!$J$9,"*"&$A20&"*")+COUNTIF('Game 4'!$J$9,"*"&$A20&"*")+COUNTIF('Game 5'!$J$9,"*"&$A20&"*")+COUNTIF('Game 6'!$J$9,"*"&$A20&"*")+COUNTIF('Game 7'!$J$9,"*"&$A20&"*")+COUNTIF('Game 8'!$J$9,"*"&$A20&"*")+COUNTIF('Game 9'!$J$9,"*"&$A20&"*")+COUNTIF('Game 10'!$J$9,"*"&$A20&"*")+COUNTIF('Game 11'!$J$9,"*"&$A20&"*")+COUNTIF('Game 12'!$J$9,"*"&$A20&"*")+COUNTIF('Game 13'!$J$9,"*"&$A20&"*")+COUNTIF('Game 14'!$J$9,"*"&$A20&"*")+COUNTIF('Game 15'!$J$9,"*"&$A20&"*")+COUNTIF('Game 16'!$J$9,"*"&$A20&"*") -> 0 | AB20: =COUNTIF('Game 1'!$J$10,"*"&$A20&"*")+COUNTIF('Game 2'!$J$10,"*"&$A20&"*")+COUNTIF('Game 3'!$J$10,"*"&$A20&"*")+COUNTIF('Game 4'!$J$10,"*"&$A20&"*")+COUNTIF('Game 5'!$J$10,"*"&$A20&"*")+COUNTIF('Game 6'!$J$10,"*"&$A20&"*")+COUNTIF('Game 7'!$J$10,"*"&$A20&"*")+COUNTIF('Game 8'!$J$10,"*"&$A20&"*")+COUNTIF('Game 9'!$J$10,"*"&$A20&"*")+COUNTIF('Game 10'!$J$10,"*"&$A20&"*")+COUNTIF('Game 11'!$J$10,"*"&$A20&"*")+COUNTIF('Game 12'!$J$10,"*"&$A20&"*")+COUNTIF('Game 13'!$J$10,"*"&$A20&"*")+COUNTIF('Game 14'!$J$10,"*"&$A20&"*")+COUNTIF('Game 15'!$J$10,"*"&$A20&"*")+COUNTIF('Game 16'!$J$10,"*"&$A20&"*") -> 0 | AC20: =COUNTIF('Game 1'!$J$11,"*"&$A20&"*")+COUNTIF('Game 2'!$J$11,"*"&$A20&"*")+COUNTIF('Game 3'!$J$11,"*"&$A20&"*")+COUNTIF('Game 4'!$J$11,"*"&$A20&"*")+COUNTIF('Game 5'!$J$11,"*"&$A20&"*")+COUNTIF('Game 6'!$J$11,"*"&$A20&"*")+COUNTIF('Game 7'!$J$11,"*"&$A20&"*")+COUNTIF('Game 8'!$J$11,"*"&$A20&"*")+COUNTIF('Game 9'!$J$11,"*"&$A20&"*")+COUNTIF('Game 10'!$J$11,"*"&$A20&"*")+COUNTIF('Game 11'!$J$11,"*"&$A20&"*")+COUNTIF('Game 12'!$J$11,"*"&$A20&"*")+COUNTIF('Game 13'!$J$11,"*"&$A20&"*")+COUNTIF('Game 14'!$J$11,"*"&$A20&"*")+COUNTIF('Game 15'!$J$11,"*"&$A20&"*")+COUNTIF('Game 16'!$J$11,"*"&$A20&"*") -> 0 | AD20: =COUNTIF('Game 1'!$J$12,"*"&$A20&"*")+COUNTIF('Game 2'!$J$12,"*"&$A20&"*")+COUNTIF('Game 3'!$J$12,"*"&$A20&"*")+COUNTIF('Game 4'!$J$12,"*"&$A20&"*")+COUNTIF('Game 5'!$J$12,"*"&$A20&"*")+COUNTIF('Game 6'!$J$12,"*"&$A20&"*")+COUNTIF('Game 7'!$J$12,"*"&$A20&"*")+COUNTIF('Game 8'!$J$12,"*"&$A20&"*")+COUNTIF('Game 9'!$J$12,"*"&$A20&"*")+COUNTIF('Game 10'!$J$12,"*"&$A20&"*")+COUNTIF('Game 11'!$J$12,"*"&$A20&"*")+COUNTIF('Game 12'!$J$12,"*"&$A20&"*")+COUNTIF('Game 13'!$J$12,"*"&$A20&"*")+COUNTIF('Game 14'!$J$12,"*"&$A20&"*")+COUNTIF('Game 15'!$J$12,"*"&$A20&"*")+COUNTIF('Game 16'!$J$12,"*"&$A20&"*") -> 0 | AE20: =COUNTIF('Game 1'!$J$13,"*"&$A20&"*")+COUNTIF('Game 2'!$J$13,"*"&$A20&"*")+COUNTIF('Game 3'!$J$13,"*"&$A20&"*")+COUNTIF('Game 4'!$J$13,"*"&$A20&"*")+COUNTIF('Game 5'!$J$13,"*"&$A20&"*")+COUNTIF('Game 6'!$J$13,"*"&$A20&"*")+COUNTIF('Game 7'!$J$13,"*"&$A20&"*")+COUNTIF('Game 8'!$J$13,"*"&$A20&"*")+COUNTIF('Game 9'!$J$13,"*"&$A20&"*")+COUNTIF('Game 10'!$J$13,"*"&$A20&"*")+COUNTIF('Game 11'!$J$13,"*"&$A20&"*")+COUNTIF('Game 12'!$J$13,"*"&$A20&"*")+COUNTIF('Game 13'!$J$13,"*"&$A20&"*")+COUNTIF('Game 14'!$J$13,"*"&$A20&"*")+COUNTIF('Game 15'!$J$13,"*"&$A20&"*")+COUNTIF('Game 16'!$J$13,"*"&$A20&"*") -> 0 | AF20: =COUNTIF('Game 1'!$J$14,"*"&$A20&"*")+COUNTIF('Game 2'!$J$14,"*"&$A20&"*")+COUNTIF('Game 3'!$J$14,"*"&$A20&"*")+COUNTIF('Game 4'!$J$14,"*"&$A20&"*")+COUNTIF('Game 5'!$J$14,"*"&$A20&"*")+COUNTIF('Game 6'!$J$14,"*"&$A20&"*")+COUNTIF('Game 7'!$J$14,"*"&$A20&"*")+COUNTIF('Game 8'!$J$14,"*"&$A20&"*")+COUNTIF('Game 9'!$J$14,"*"&$A20&"*")+COUNTIF('Game 10'!$J$14,"*"&$A20&"*")+COUNTIF('Game 11'!$J$14,"*"&$A20&"*")+COUNTIF('Game 12'!$J$14,"*"&$A20&"*")+COUNTIF('Game 13'!$J$14,"*"&$A20&"*")+COUNTIF('Game 14'!$J$14,"*"&$A20&"*")+COUNTIF('Game 15'!$J$14,"*"&$A20&"*")+COUNTIF('Game 16'!$J$14,"*"&$A20&"*") -> 0 | AG20: =COUNTIF('Game 1'!$J$15,"*"&$A20&"*")+COUNTIF('Game 2'!$J$15,"*"&$A20&"*")+COUNTIF('Game 3'!$J$15,"*"&$A20&"*")+COUNTIF('Game 4'!$J$15,"*"&$A20&"*")+COUNTIF('Game 5'!$J$15,"*"&$A20&"*")+COUNTIF('Game 6'!$J$15,"*"&$A20&"*")+COUNTIF('Game 7'!$J$15,"*"&$A20&"*")+COUNTIF('Game 8'!$J$15,"*"&$A20&"*")+COUNTIF('Game 9'!$J$15,"*"&$A20&"*")+COUNTIF('Game 10'!$J$15,"*"&$A20&"*")+COUNTIF('Game 11'!$J$15,"*"&$A20&"*")+COUNTIF('Game 12'!$J$15,"*"&$A20&"*")+COUNTIF('Game 13'!$J$15,"*"&$A20&"*")+COUNTIF('Game 14'!$J$15,"*"&$A20&"*")+COUNTIF('Game 15'!$J$15,"*"&$A20&"*")+COUNTIF('Game 16'!$J$15,"*"&$A20&"*") -> 0 | AH20: =COUNTIF('Game 1'!$J$16,"*"&$A20&"*")+COUNTIF('Game 2'!$J$16,"*"&$A20&"*")+COUNTIF('Game 3'!$J$16,"*"&$A20&"*")+COUNTIF('Game 4'!$J$16,"*"&$A20&"*")+COUNTIF('Game 5'!$J$16,"*"&$A20&"*")+COUNTIF('Game 6'!$J$16,"*"&$A20&"*")+COUNTIF('Game 7'!$J$16,"*"&$A20&"*")+COUNTIF('Game 8'!$J$16,"*"&$A20&"*")+COUNTIF('Game 9'!$J$16,"*"&$A20&"*")+COUNTIF('Game 10'!$J$16,"*"&$A20&"*")+COUNTIF('Game 11'!$J$16,"*"&$A20&"*")+COUNTIF('Game 12'!$J$16,"*"&$A20&"*")+COUNTIF('Game 13'!$J$16,"*"&$A20&"*")+COUNTIF('Game 14'!$J$16,"*"&$A20&"*")+COUNTIF('Game 15'!$J$16,"*"&$A20&"*")+COUNTIF('Game 16'!$J$16,"*"&$A20&"*") -> 0 | AI20: =COUNTIF('Game 1'!$J$17,"*"&$A20&"*")+COUNTIF('Game 2'!$J$17,"*"&$A20&"*")+COUNTIF('Game 3'!$J$17,"*"&$A20&"*")+COUNTIF('Game 4'!$J$17,"*"&$A20&"*")+COUNTIF('Game 5'!$J$17,"*"&$A20&"*")+COUNTIF('Game 6'!$J$17,"*"&$A20&"*")+COUNTIF('Game 7'!$J$17,"*"&$A20&"*")+COUNTIF('Game 8'!$J$17,"*"&$A20&"*")+COUNTIF('Game 9'!$J$17,"*"&$A20&"*")+COUNTIF('Game 10'!$J$17,"*"&$A20&"*")+COUNTIF('Game 11'!$J$17,"*"&$A20&"*")+COUNTIF('Game 12'!$J$17,"*"&$A20&"*")+COUNTIF('Game 13'!$J$17,"*"&$A20&"*")+COUNTIF('Game 14'!$J$17,"*"&$A20&"*")+COUNTIF('Game 15'!$J$17,"*"&$A20&"*")+COUNTIF('Game 16'!$J$17,"*"&$A20&"*") -> 0 | AJ20: =COUNTIF('Game 1'!$L$15,"*"&$A20&"*")+COUNTIF('Game 2'!$L$15,"*"&$A20&"*")+COUNTIF('Game 3'!$L$15,"*"&$A20&"*")+COUNTIF('Game 4'!$L$15,"*"&$A20&"*")+COUNTIF('Game 5'!$L$15,"*"&$A20&"*")+COUNTIF('Game 6'!$L$15,"*"&$A20&"*")+COUNTIF('Game 7'!$L$15,"*"&$A20&"*")+COUNTIF('Game 8'!$L$15,"*"&$A20&"*")+COUNTIF('Game 9'!$L$15,"*"&$A20&"*")+COUNTIF('Game 10'!$L$15,"*"&$A20&"*")+COUNTIF('Game 11'!$L$15,"*"&$A20&"*")+COUNTIF('Game 12'!$L$15,"*"&$A20&"*")+COUNTIF('Game 13'!$L$15,"*"&$A20&"*")+COUNTIF('Game 14'!$L$15,"*"&$A20&"*")+COUNTIF('Game 15'!$L$15,"*"&$A20&"*")+COUNTIF('Game 16'!$L$15,"*"&$A20&"*") -> 0
A21: =A5 -> Player 4 | B21: =COUNTIF('Game 1'!$B$13:$G$13,"*"&$A21&"*")+COUNTIF('Game 2'!$B$13:$G$13,"*"&$A21&"*")+COUNTIF('Game 3'!$B$13:$G$13,"*"&$A21&"*")+COUNTIF('Game 4'!$B$13:$G$13,"*"&$A21&"*")+COUNTIF('Game 5'!$B$13:$G$13,"*"&$A21&"*")+COUNTIF('Game 6'!$B$13:$G$13,"*"&$A21&"*")+COUNTIF('Game 7'!$B$13:$G$13,"*"&$A21&"*")+COUNTIF('Game 8'!$B$13:$G$13,"*"&$A21&"*")+COUNTIF('Game 9'!$B$13:$G$13,"*"&$A21&"*")+COUNTIF('Game 10'!$B$13:$G$13,"*"&$A21&"*")+COUNTIF('Game 11'!$B$13:$G$13,"*"&$A21&"*")+COUNTIF('Game 12'!$B$13:$G$13,"*"&$A21&"*")+COUNTIF('Game 13'!$B$13:$G$13,"*"&$A21&"*")+COUNTIF('Game 14'!$B$13:$G$13,"*"&$A21&"*")+COUNTIF('Game 15'!$B$13:$G$13,"*"&$A21&"*")+COUNTIF('Game 16'!$B$13:$G$13,"*"&$A21&"*") -> 0 | C21: =COUNTIF('Game 1'!$B$12:$G$12,"*"&$A21&"*")+COUNTIF('Game 2'!$B$12:$G$12,"*"&$A21&"*")+COUNTIF('Game 3'!$B$12:$G$12,"*"&$A21&"*")+COUNTIF('Game 4'!$B$12:$G$12,"*"&$A21&"*")+COUNTIF('Game 5'!$B$12:$G$12,"*"&$A21&"*")+COUNTIF('Game 6'!$B$12:$G$12,"*"&$A21&"*")+COUNTIF('Game 7'!$B$12:$G$12,"*"&$A21&"*")+COUNTIF('Game 8'!$B$12:$G$12,"*"&$A21&"*")+COUNTIF('Game 9'!$B$12:$G$12,"*"&$A21&"*")+COUNTIF('Game 10'!$B$12:$G$12,"*"&$A21&"*")+COUNTIF('Game 11'!$B$12:$G$12,"*"&$A21&"*")+COUNTIF('Game 12'!$B$12:$G$12,"*"&$A21&"*")+COUNTIF('Game 13'!$B$12:$G$12,"*"&$A21&"*")+COUNTIF('Game 14'!$B$12:$G$12,"*"&$A21&"*")+COUNTIF('Game 15'!$B$12:$G$12,"*"&$A21&"*")+COUNTIF('Game 16'!$B$12:$G$12,"*"&$A21&"*") -> 0 | D21: =COUNTIF('Game 1'!$B$11:$G$11,"*"&$A21&"*")+COUNTIF('Game 2'!$B$11:$G$11,"*"&$A21&"*")+COUNTIF('Game 3'!$B$11:$G$11,"*"&$A21&"*")+COUNTIF('Game 4'!$B$11:$G$11,"*"&$A21&"*")+COUNTIF('Game 5'!$B$11:$G$11,"*"&$A21&"*")+COUNTIF('Game 6'!$B$11:$G$11,"*"&$A21&"*")+COUNTIF('Game 7'!$B$11:$G$11,"*"&$A21&"*")+COUNTIF('Game 8'!$B$11:$G$11,"*"&$A21&"*")+COUNTIF('Game 9'!$B$11:$G$11,"*"&$A21&"*")+COUNTIF('Game 10'!$B$11:$G$11,"*"&$A21&"*")+COUNTIF('Game 11'!$B$11:$G$11,"*"&$A21&"*")+COUNTIF('Game 12'!$B$11:$G$11,"*"&$A21&"*")+COUNTIF('Game 13'!$B$11:$G$11,"*"&$A21&"*")+COUNTIF('Game 14'!$B$11:$G$11,"*"&$A21&"*")+COUNTIF('Game 15'!$B$11:$G$11,"*"&$A21&"*")+COUNTIF('Game 16'!$B$11:$G$11,"*"&$A21&"*") -> 0 | E21: =COUNTIF('Game 1'!$B$10:$G$10,"*"&$A21&"*")+COUNTIF('Game 2'!$B$10:$G$10,"*"&$A21&"*")+COUNTIF('Game 3'!$B$10:$G$10,"*"&$A21&"*")+COUNTIF('Game 4'!$B$10:$G$10,"*"&$A21&"*")+COUNTIF('Game 5'!$B$10:$G$10,"*"&$A21&"*")+COUNTIF('Game 6'!$B$10:$G$10,"*"&$A21&"*")+COUNTIF('Game 7'!$B$10:$G$10,"*"&$A21&"*")+COUNTIF('Game 8'!$B$10:$G$10,"*"&$A21&"*")+COUNTIF('Game 9'!$B$10:$G$10,"*"&$A21&"*")+COUNTIF('Game 10'!$B$10:$G$10,"*"&$A21&"*")+COUNTIF('Game 11'!$B$10:$G$10,"*"&$A21&"*")+COUNTIF('Game 12'!$B$10:$G$10,"*"&$A21&"*")+COUNTIF('Game 13'!$B$10:$G$10,"*"&$A21&"*")+COUNTIF('Game 14'!$B$10:$G$10,"*"&$A21&"*")+COUNTIF('Game 15'!$B$10:$G$10,"*"&$A21&"*")+COUNTIF('Game 16'!$B$10:$G$10,"*"&$A21&"*") -> 0 | F21: =COUNTIF('Game 1'!$B$9:$G$9,"*"&$A21&"*")+COUNTIF('Game 2'!$B$9:$G$9,"*"&$A21&"*")+COUNTIF('Game 3'!$B$9:$G$9,"*"&$A21&"*")+COUNTIF('Game 4'!$B$9:$G$9,"*"&$A21&"*")+COUNTIF('Game 5'!$B$9:$G$9,"*"&$A21&"*")+COUNTIF('Game 6'!$B$9:$G$9,"*"&$A21&"*")+COUNTIF('Game 7'!$B$9:$G$9,"*"&$A21&"*")+COUNTIF('Game 8'!$B$9:$G$9,"*"&$A21&"*")+COUNTIF('Game 9'!$B$9:$G$9,"*"&$A21&"*")+COUNTIF('Game 10'!$B$9:$G$9,"*"&$A21&"*")+COUNTIF('Game 11'!$B$9:$G$9,"*"&$A21&"*")+COUNTIF('Game 12'!$B$9:$G$9,"*"&$A21&"*")+COUNTIF('Game 13'!$B$9:$G$9,"*"&$A21&"*")+COUNTIF('Game 14'!$B$9:$G$9,"*"&$A21&"*")+COUNTIF('Game 15'!$B$9:$G$9,"*"&$A21&"*")+COUNTIF('Game 16'!$B$9:$G$9,"*"&$A21&"*") -> 0 | G21: =COUNTIF('Game 1'!$B$8:$G$8,"*"&$A21&"*")+COUNTIF('Game 2'!$B$8:$G$8,"*"&$A21&"*")+COUNTIF('Game 3'!$B$8:$G$8,"*"&$A21&"*")+COUNTIF('Game 4'!$B$8:$G$8,"*"&$A21&"*")+COUNTIF('Game 5'!$B$8:$G$8,"*"&$A21&"*")+COUNTIF('Game 6'!$B$8:$G$8,"*"&$A21&"*")+COUNTIF('Game 7'!$B$8:$G$8,"*"&$A21&"*")+COUNTIF('Game 8'!$B$8:$G$8,"*"&$A21&"*")+COUNTIF('Game 9'!$B$8:$G$8,"*"&$A21&"*")+COUNTIF('Game 10'!$B$8:$G$8,"*"&$A21&"*")+COUNTIF('Game 11'!$B$8:$G$8,"*"&$A21&"*")+COUNTIF('Game 12'!$B$8:$G$8,"*"&$A21&"*")+COUNTIF('Game 13'!$B$8:$G$8,"*"&$A21&"*")+COUNTIF('Game 14'!$B$8:$G$8,"*"&$A21&"*")+COUNTIF('Game 15'!$B$8:$G$8,"*"&$A21&"*")+COUNTIF('Game 16'!$B$8:$G$8,"*"&$A21&"*") -> 0 | H21: =COUNTIF('Game 1'!$B$4:$G$4,"*"&$A21&"*")+COUNTIF('Game 2'!$B$4:$G$4,"*"&$A21&"*")+COUNTIF('Game 3'!$B$4:$G$4,"*"&$A21&"*")+COUNTIF('Game 4'!$B$4:$G$4,"*"&$A21&"*")+COUNTIF('Game 5'!$B$4:$G$4,"*"&$A21&"*")+COUNTIF('Game 6'!$B$4:$G$4,"*"&$A21&"*")+COUNTIF('Game 7'!$B$4:$G$4,"*"&$A21&"*")+COUNTIF('Game 8'!$B$4:$G$4,"*"&$A21&"*")+COUNTIF('Game 9'!$B$4:$G$4,"*"&$A21&"*")+COUNTIF('Game 10'!$B$4:$G$4,"*"&$A21&"*")+COUNTIF('Game 11'!$B$4:$G$4,"*"&$A21&"*")+COUNTIF('Game 12'!$B$4:$G$4,"*"&$A21&"*")+COUNTIF('Game 13'!$B$4:$G$4,"*"&$A21&"*")+COUNTIF('Game 14'!$B$4:$G$4,"*"&$A21&"*")+COUNTIF('Game 15'!$B$4:$G$4,"*"&$A21&"*")+COUNTIF('Game 16'!$B$4:$G$4,"*"&$A21&"*") -> 0 | I21: =COUNTIF('Game 1'!$B$5:$G$5,"*"&$A21&"*")+COUNTIF('Game 2'!$B$5:$G$5,"*"&$A21&"*")+COUNTIF('Game 3'!$B$5:$G$5,"*"&$A21&"*")+COUNTIF('Game 4'!$B$5:$G$5,"*"&$A21&"*")+COUNTIF('Game 5'!$B$5:$G$5,"*"&$A21&"*")+COUNTIF('Game 6'!$B$5:$G$5,"*"&$A21&"*")+COUNTIF('Game 7'!$B$5:$G$5,"*"&$A21&"*")+COUNTIF('Game 8'!$B$5:$G$5,"*"&$A21&"*")+COUNTIF('Game 9'!$B$5:$G$5,"*"&$A21&"*")+COUNTIF('Game 10'!$B$5:$G$5,"*"&$A21&"*")+COUNTIF('Game 11'!$B$5:$G$5,"*"&$A21&"*")+COUNTIF('Game 12'!$B$5:$G$5,"*"&$A21&"*")+COUNTIF('Game 13'!$B$5:$G$5,"*"&$A21&"*")+COUNTIF('Game 14'!$B$5:$G$5,"*"&$A21&"*")+COUNTIF('Game 15'!$B$5:$G$5,"*"&$A21&"*")+COUNTIF('Game 16'!$B$5:$G$5,"*"&$A21&"*") -> 0 | J21: =COUNTIF('Game 1'!$B$6:$G$6,"*"&$A21&"*")+COUNTIF('Game 2'!$B$6:$G$6,"*"&$A21&"*")+COUNTIF('Game 3'!$B$6:$G$6,"*"&$A21&"*")+COUNTIF('Game 4'!$B$6:$G$6,"*"&$A21&"*")+COUNTIF('Game 5'!$B$6:$G$6,"*"&$A21&"*")+COUNTIF('Game 6'!$B$6:$G$6,"*"&$A21&"*")+COUNTIF('Game 7'!$B$6:$G$6,"*"&$A21&"*")+COUNTIF('Game 8'!$B$6:$G$6,"*"&$A21&"*")+COUNTIF('Game 9'!$B$6:$G$6,"*"&$A21&"*")+COUNTIF('Game 10'!$B$6:$G$6,"*"&$A21&"*")+COUNTIF('Game 11'!$B$6:$G$6,"*"&$A21&"*")+COUNTIF('Game 12'!$B$6:$G$6,"*"&$A21&"*")+COUNTIF('Game 13'!$B$6:$G$6,"*"&$A21&"*")+COUNTIF('Game 14'!$B$6:$G$6,"*"&$A21&"*")+COUNTIF('Game 15'!$B$6:$G$6,"*"&$A21&"*")+COUNTIF('Game 16'!$B$6:$G$6,"*"&$A21&"*") -> 0 | K21: =COUNTIF('Game 1'!$B$7:$G$7,"*"&$A21&"*")+COUNTIF('Game 2'!$B$7:$G$7,"*"&$A21&"*")+COUNTIF('Game 3'!$B$7:$G$7,"*"&$A21&"*")+COUNTIF('Game 4'!$B$7:$G$7,"*"&$A21&"*")+COUNTIF('Game 5'!$B$7:$G$7,"*"&$A21&"*")+COUNTIF('Game 6'!$B$7:$G$7,"*"&$A21&"*")+COUNTIF('Game 7'!$B$7:$G$7,"*"&$A21&"*")+COUNTIF('Game 8'!$B$7:$G$7,"*"&$A21&"*")+COUNTIF('Game 9'!$B$7:$G$7,"*"&$A21&"*")+COUNTIF('Game 10'!$B$7:$G$7,"*"&$A21&"*")+COUNTIF('Game 11'!$B$7:$G$7,"*"&$A21&"*")+COUNTIF('Game 12'!$B$7:$G$7,"*"&$A21&"*")+COUNTIF('Game 13'!$B$7:$G$7,"*"&$A21&"*")+COUNTIF('Game 14'!$B$7:$G$7,"*"&$A21&"*")+COUNTIF('Game 15'!$B$7:$G$7,"*"&$A21&"*")+COUNTIF('Game 16'!$B$7:$G$7,"*"&$A21&"*") -> 0 | L21: =COUNTIF('Game 1'!$B$14:$G$14,"*"&$A21&"*")+COUNTIF('Game 1'!$B$15:$G$15,"*"&$A21&"*")+COUNTIF('Game 1'!$B$16:$G$16,"*"&$A21&"*")+COUNTIF('Game 2'!$B$14:$G$14,"*"&$A21&"*")+COUNTIF('Game 2'!$B$15:$G$15,"*"&$A21&"*")+COUNTIF('Game 2'!$B$16:$G$16,"*"&$A21&"*")+COUNTIF('Game 3'!$B$14:$G$14,"*"&$A21&"*")+COUNTIF('Game 3'!$B$15:$G$15,"*"&$A21&"*")+COUNTIF('Game 3'!$B$16:$G$16,"*"&$A21&"*")+COUNTIF('Game 4'!$B$14:$G$14,"*"&$A21&"*")+COUNTIF('Game 4'!$B$15:$G$15,"*"&$A21&"*")+COUNTIF('Game 4'!$B$16:$G$16,"*"&$A21&"*")+COUNTIF('Game 5'!$B$14:$G$14,"*"&$A21&"*")+COUNTIF('Game 5'!$B$15:$G$15,"*"&$A21&"*")+COUNTIF('Game 5'!$B$16:$G$16,"*"&$A21&"*")+COUNTIF('Game 6'!$B$14:$G$14,"*"&$A21&"*")+COUNTIF('Game 6'!$B$15:$G$15,"*"&$A21&"*")+COUNTIF('Game 6'!$B$16:$G$16,"*"&$A21&"*")+COUNTIF('Game 7'!$B$14:$G$14,"*"&$A21&"*")+COUNTIF('Game 7'!$B$15:$G$15,"*"&$A21&"*")+COUNTIF('Game 7'!$B$16:$G$16,"*"&$A21&"*")+COUNTIF('Game 8'!$B$14:$G$14,"*"&$A21&"*")+COUNTIF('Game 8'!$B$15:$G$15,"*"&$A21&"*")+COUNTIF('Game 8'!$B$16:$G$16,"*"&$A21&"*")+COUNTIF('Game 9'!$B$14:$G$14,"*"&$A21&"*")+COUNTIF('Game 9'!$B$15:$G$15,"*"&$A21&"*")+COUNTIF('Game 9'!$B$16:$G$16,"*"&$A21&"*")+COUNTIF('Game 10'!$B$14:$G$14,"*"&$A21&"*")+COUNTIF('Game 10'!$B$15:$G$15,"*"&$A21&"*")+COUNTIF('Game 10'!$B$16:$G$16,"*"&$A21&"*")+COUNTIF('Game 11'!$B$14:$G$14,"*"&$A21&"*")+COUNTIF('Game 11'!$B$15:$G$15,"*"&$A21&"*")+COUNTIF('Game 11'!$B$16:$G$16,"*"&$A21&"*")+COUNTIF('Game 12'!$B$14:$G$14,"*"&$A21&"*")+COUNTIF('Game 12'!$B$15:$G$15,"*"&$A21&"*")+COUNTIF('Game 12'!$B$16:$G$16,"*"&$A21&"*")+COUNTIF('Game 13'!$B$14:$G$14,"*"&$A21&"*")+COUNTIF('Game 13'!$B$15:$G$15,"*"&$A21&"*")+COUNTIF('Game 13'!$B$16:$G$16,"*"&$A21&"*")+COUNTIF('Game 14'!$B$14:$G$14,"*"&$A21&"*")+COUNTIF('Game 14'!$B$15:$G$15,"*"&$A21&"*")+COUNTIF('Game 14'!$B$16:$G$16,"*"&$A21&"*")+COUNTIF('Game 15'!$B$14:$G$14,"*"&$A21&"*")+COUNTIF('Game 15'!$B$15:$G$15,"*"&$A21&"*")+COUNTIF('Game 15'!$B$16:$G$16,"*"&$A21&"*")+COUNTIF('Game 16'!$B$14:$G$14,"*"&$A21&"*")+COUNTIF('Game 16'!$B$15:$G$15,"*"&$A21&"*")+COUNTIF('Game 16'!$B$16:$G$16,"*"&$A21&"*") -> 0 | M21: =SUM(B21:G21) -> 0 | N21: =SUM(H21:K21) -> 0 | O21: =L21 -> 0 | P21: =SUM(M21:O21) -> 0 | Q21: =IF(P21=0,0,M21/P21) -> 0 | R21: =IF(P21=0,0,N21/P21) -> 0 | S21: =IF(P21=0,0,O21/P21) -> 0 | T21: =IF($U$18=0,0,P21/$U$18) -> 0 | V21: ='Game 1'!Z5+'Game 2'!Z5+'Game 3'!Z5+'Game 4'!Z5+'Game 5'!Z5+'Game 6'!Z5+'Game 7'!Z5+'Game 8'!Z5+'Game 9'!Z5+'Game 10'!Z5+'Game 11'!Z5+'Game 12'!Z5+'Game 13'!Z5+'Game 14'!Z5+'Game 15'!Z5+'Game 16'!Z5 -> 0 | W21: =COUNTIF('Game 1'!$J$5,"*"&$A21&"*")+COUNTIF('Game 2'!$J$5,"*"&$A21&"*")+COUNTIF('Game 3'!$J$5,"*"&$A21&"*")+COUNTIF('Game 4'!$J$5,"*"&$A21&"*")+COUNTIF('Game 5'!$J$5,"*"&$A21&"*")+COUNTIF('Game 6'!$J$5,"*"&$A21&"*")+COUNTIF('Game 7'!$J$5,"*"&$A21&"*")+COUNTIF('Game 8'!$J$5,"*"&$A21&"*")+COUNTIF('Game 9'!$J$5,"*"&$A21&"*")+COUNTIF('Game 10'!$J$5,"*"&$A21&"*")+COUNTIF('Game 11'!$J$5,"*"&$A21&"*")+COUNTIF('Game 12'!$J$5,"*"&$A21&"*")+COUNTIF('Game 13'!$J$5,"*"&$A21&"*")+COUNTIF('Game 14'!$J$5,"*"&$A21&"*")+COUNTIF('Game 15'!$J$5,"*"&$A21&"*")+COUNTIF('Game 16'!$J$5,"*"&$A21&"*") -> 0 | X21: =COUNTIF('Game 1'!$J$6,"*"&$A21&"*")+COUNTIF('Game 2'!$J$6,"*"&$A21&"*")+COUNTIF('Game 3'!$J$6,"*"&$A21&"*")+COUNTIF('Game 4'!$J$6,"*"&$A21&"*")+COUNTIF('Game 5'!$J$6,"*"&$A21&"*")+COUNTIF('Game 6'!$J$6,"*"&$A21&"*")+COUNTIF('Game 7'!$J$6,"*"&$A21&"*")+COUNTIF('Game 8'!$J$6,"*"&$A21&"*")+COUNTIF('Game 9'!$J$6,"*"&$A21&"*")+COUNTIF('Game 10'!$J$6,"*"&$A21&"*")+COUNTIF('Game 11'!$J$6,"*"&$A21&"*")+COUNTIF('Game 12'!$J$6,"*"&$A21&"*")+COUNTIF('Game 13'!$J$6,"*"&$A21&"*")+COUNTIF('Game 14'!$J$6,"*"&$A21&"*")+COUNTIF('Game 15'!$J$6,"*"&$A21&"*")+COUNTIF('Game 16'!$J$6,"*"&$A21&"*") -> 0 | Y21: =COUNTIF('Game 1'!$J$7,"*"&$A21&"*")+COUNTIF('Game 2'!$J$7,"*"&$A21&"*")+COUNTIF('Game 3'!$J$7,"*"&$A21&"*")+COUNTIF('Game 4'!$J$7,"*"&$A21&"*")+COUNTIF('Game 5'!$J$7,"*"&$A21&"*")+COUNTIF('Game 6'!$J$7,"*"&$A21&"*")+COUNTIF('Game 7'!$J$7,"*"&$A21&"*")+COUNTIF('Game 8'!$J$7,"*"&$A21&"*")+COUNTIF('Game 9'!$J$7,"*"&$A21&"*")+COUNTIF('Game 10'!$J$7,"*"&$A21&"*")+COUNTIF('Game 11'!$J$7,"*"&$A21&"*")+COUNTIF('Game 12'!$J$7,"*"&$A21&"*")+COUNTIF('Game 13'!$J$7,"*"&$A21&"*")+COUNTIF('Game 14'!$J$7,"*"&$A21&"*")+COUNTIF('Game 15'!$J$7,"*"&$A21&"*")+COUNTIF('Game 16'!$J$7,"*"&$A21&"*") -> 0 | Z21: =COUNTIF('Game 1'!$J$8,"*"&$A21&"*")+COUNTIF('Game 2'!$J$8,"*"&$A21&"*")+COUNTIF('Game 3'!$J$8,"*"&$A21&"*")+COUNTIF('Game 4'!$J$8,"*"&$A21&"*")+COUNTIF('Game 5'!$J$8,"*"&$A21&"*")+COUNTIF('Game 6'!$J$8,"*"&$A21&"*")+COUNTIF('Game 7'!$J$8,"*"&$A21&"*")+COUNTIF('Game 8'!$J$8,"*"&$A21&"*")+COUNTIF('Game 9'!$J$8,"*"&$A21&"*")+COUNTIF('Game 10'!$J$8,"*"&$A21&"*")+COUNTIF('Game 11'!$J$8,"*"&$A21&"*")+COUNTIF('Game 12'!$J$8,"*"&$A21&"*")+COUNTIF('Game 13'!$J$8,"*"&$A21&"*")+COUNTIF('Game 14'!$J$8,"*"&$A21&"*")+COUNTIF('Game 15'!$J$8,"*"&$A21&"*")+COUNTIF('Game 16'!$J$8,"*"&$A21&"*") -> 0 | AA21: =COUNTIF('Game 1'!$J$9,"*"&$A21&"*")+COUNTIF('Game 2'!$J$9,"*"&$A21&"*")+COUNTIF('Game 3'!$J$9,"*"&$A21&"*")+COUNTIF('Game 4'!$J$9,"*"&$A21&"*")+COUNTIF('Game 5'!$J$9,"*"&$A21&"*")+COUNTIF('Game 6'!$J$9,"*"&$A21&"*")+COUNTIF('Game 7'!$J$9,"*"&$A21&"*")+COUNTIF('Game 8'!$J$9,"*"&$A21&"*")+COUNTIF('Game 9'!$J$9,"*"&$A21&"*")+COUNTIF('Game 10'!$J$9,"*"&$A21&"*")+COUNTIF('Game 11'!$J$9,"*"&$A21&"*")+COUNTIF('Game 12'!$J$9,"*"&$A21&"*")+COUNTIF('Game 13'!$J$9,"*"&$A21&"*")+COUNTIF('Game 14'!$J$9,"*"&$A21&"*")+COUNTIF('Game 15'!$J$9,"*"&$A21&"*")+COUNTIF('Game 16'!$J$9,"*"&$A21&"*") -> 0 | AB21: =COUNTIF('Game 1'!$J$10,"*"&$A21&"*")+COUNTIF('Game 2'!$J$10,"*"&$A21&"*")+COUNTIF('Game 3'!$J$10,"*"&$A21&"*")+COUNTIF('Game 4'!$J$10,"*"&$A21&"*")+COUNTIF('Game 5'!$J$10,"*"&$A21&"*")+COUNTIF('Game 6'!$J$10,"*"&$A21&"*")+COUNTIF('Game 7'!$J$10,"*"&$A21&"*")+COUNTIF('Game 8'!$J$10,"*"&$A21&"*")+COUNTIF('Game 9'!$J$10,"*"&$A21&"*")+COUNTIF('Game 10'!$J$10,"*"&$A21&"*")+COUNTIF('Game 11'!$J$10,"*"&$A21&"*")+COUNTIF('Game 12'!$J$10,"*"&$A21&"*")+COUNTIF('Game 13'!$J$10,"*"&$A21&"*")+COUNTIF('Game 14'!$J$10,"*"&$A21&"*")+COUNTIF('Game 15'!$J$10,"*"&$A21&"*")+COUNTIF('Game 16'!$J$10,"*"&$A21&"*") -> 0 | AC21: =COUNTIF('Game 1'!$J$11,"*"&$A21&"*")+COUNTIF('Game 2'!$J$11,"*"&$A21&"*")+COUNTIF('Game 3'!$J$11,"*"&$A21&"*")+COUNTIF('Game 4'!$J$11,"*"&$A21&"*")+COUNTIF('Game 5'!$J$11,"*"&$A21&"*")+COUNTIF('Game 6'!$J$11,"*"&$A21&"*")+COUNTIF('Game 7'!$J$11,"*"&$A21&"*")+COUNTIF('Game 8'!$J$11,"*"&$A21&"*")+COUNTIF('Game 9'!$J$11,"*"&$A21&"*")+COUNTIF('Game 10'!$J$11,"*"&$A21&"*")+COUNTIF('Game 11'!$J$11,"*"&$A21&"*")+COUNTIF('Game 12'!$J$11,"*"&$A21&"*")+COUNTIF('Game 13'!$J$11,"*"&$A21&"*")+COUNTIF('Game 14'!$J$11,"*"&$A21&"*")+COUNTIF('Game 15'!$J$11,"*"&$A21&"*")+COUNTIF('Game 16'!$J$11,"*"&$A21&"*") -> 0 | AD21: =COUNTIF('Game 1'!$J$12,"*"&$A21&"*")+COUNTIF('Game 2'!$J$12,"*"&$A21&"*")+COUNTIF('Game 3'!$J$12,"*"&$A21&"*")+COUNTIF('Game 4'!$J$12,"*"&$A21&"*")+COUNTIF('Game 5'!$J$12,"*"&$A21&"*")+COUNTIF('Game 6'!$J$12,"*"&$A21&"*")+COUNTIF('Game 7'!$J$12,"*"&$A21&"*")+COUNTIF('Game 8'!$J$12,"*"&$A21&"*")+COUNTIF('Game 9'!$J$12,"*"&$A21&"*")+COUNTIF('Game 10'!$J$12,"*"&$A21&"*")+COUNTIF('Game 11'!$J$12,"*"&$A21&"*")+COUNTIF('Game 12'!$J$12,"*"&$A21&"*")+COUNTIF('Game 13'!$J$12,"*"&$A21&"*")+COUNTIF('Game 14'!$J$12,"*"&$A21&"*")+COUNTIF('Game 15'!$J$12,"*"&$A21&"*")+COUNTIF('Game 16'!$J$12,"*"&$A21&"*") -> 0 | AE21: =COUNTIF('Game 1'!$J$13,"*"&$A21&"*")+COUNTIF('Game 2'!$J$13,"*"&$A21&"*")+COUNTIF('Game 3'!$J$13,"*"&$A21&"*")+COUNTIF('Game 4'!$J$13,"*"&$A21&"*")+COUNTIF('Game 5'!$J$13,"*"&$A21&"*")+COUNTIF('Game 6'!$J$13,"*"&$A21&"*")+COUNTIF('Game 7'!$J$13,"*"&$A21&"*")+COUNTIF('Game 8'!$J$13,"*"&$A21&"*")+COUNTIF('Game 9'!$J$13,"*"&$A21&"*")+COUNTIF('Game 10'!$J$13,"*"&$A21&"*")+COUNTIF('Game 11'!$J$13,"*"&$A21&"*")+COUNTIF('Game 12'!$J$13,"*"&$A21&"*")+COUNTIF('Game 13'!$J$13,"*"&$A21&"*")+COUNTIF('Game 14'!$J$13,"*"&$A21&"*")+COUNTIF('Game 15'!$J$13,"*"&$A21&"*")+COUNTIF('Game 16'!$J$13,"*"&$A21&"*") -> 0 | AF21: =COUNTIF('Game 1'!$J$14,"*"&$A21&"*")+COUNTIF('Game 2'!$J$14,"*"&$A21&"*")+COUNTIF('Game 3'!$J$14,"*"&$A21&"*")+COUNTIF('Game 4'!$J$14,"*"&$A21&"*")+COUNTIF('Game 5'!$J$14,"*"&$A21&"*")+COUNTIF('Game 6'!$J$14,"*"&$A21&"*")+COUNTIF('Game 7'!$J$14,"*"&$A21&"*")+COUNTIF('Game 8'!$J$14,"*"&$A21&"*")+COUNTIF('Game 9'!$J$14,"*"&$A21&"*")+COUNTIF('Game 10'!$J$14,"*"&$A21&"*")+COUNTIF('Game 11'!$J$14,"*"&$A21&"*")+COUNTIF('Game 12'!$J$14,"*"&$A21&"*")+COUNTIF('Game 13'!$J$14,"*"&$A21&"*")+COUNTIF('Game 14'!$J$14,"*"&$A21&"*")+COUNTIF('Game 15'!$J$14,"*"&$A21&"*")+COUNTIF('Game 16'!$J$14,"*"&$A21&"*") -> 0 | AG21: =COUNTIF('Game 1'!$J$15,"*"&$A21&"*")+COUNTIF('Game 2'!$J$15,"*"&$A21&"*")+COUNTIF('Game 3'!$J$15,"*"&$A21&"*")+COUNTIF('Game 4'!$J$15,"*"&$A21&"*")+COUNTIF('Game 5'!$J$15,"*"&$A21&"*")+COUNTIF('Game 6'!$J$15,"*"&$A21&"*")+COUNTIF('Game 7'!$J$15,"*"&$A21&"*")+COUNTIF('Game 8'!$J$15,"*"&$A21&"*")+COUNTIF('Game 9'!$J$15,"*"&$A21&"*")+COUNTIF('Game 10'!$J$15,"*"&$A21&"*")+COUNTIF('Game 11'!$J$15,"*"&$A21&"*")+COUNTIF('Game 12'!$J$15,"*"&$A21&"*")+COUNTIF('Game 13'!$J$15,"*"&$A21&"*")+COUNTIF('Game 14'!$J$15,"*"&$A21&"*")+COUNTIF('Game 15'!$J$15,"*"&$A21&"*")+COUNTIF('Game 16'!$J$15,"*"&$A21&"*") -> 0 | AH21: =COUNTIF('Game 1'!$J$16,"*"&$A21&"*")+COUNTIF('Game 2'!$J$16,"*"&$A21&"*")+COUNTIF('Game 3'!$J$16,"*"&$A21&"*")+COUNTIF('Game 4'!$J$16,"*"&$A21&"*")+COUNTIF('Game 5'!$J$16,"*"&$A21&"*")+COUNTIF('Game 6'!$J$16,"*"&$A21&"*")+COUNTIF('Game 7'!$J$16,"*"&$A21&"*")+COUNTIF('Game 8'!$J$16,"*"&$A21&"*")+COUNTIF('Game 9'!$J$16,"*"&$A21&"*")+COUNTIF('Game 10'!$J$16,"*"&$A21&"*")+COUNTIF('Game 11'!$J$16,"*"&$A21&"*")+COUNTIF('Game 12'!$J$16,"*"&$A21&"*")+COUNTIF('Game 13'!$J$16,"*"&$A21&"*")+COUNTIF('Game 14'!$J$16,"*"&$A21&"*")+COUNTIF('Game 15'!$J$16,"*"&$A21&"*")+COUNTIF('Game 16'!$J$16,"*"&$A21&"*") -> 0 | AI21: =COUNTIF('Game 1'!$J$17,"*"&$A21&"*")+COUNTIF('Game 2'!$J$17,"*"&$A21&"*")+COUNTIF('Game 3'!$J$17,"*"&$A21&"*")+COUNTIF('Game 4'!$J$17,"*"&$A21&"*")+COUNTIF('Game 5'!$J$17,"*"&$A21&"*")+COUNTIF('Game 6'!$J$17,"*"&$A21&"*")+COUNTIF('Game 7'!$J$17,"*"&$A21&"*")+COUNTIF('Game 8'!$J$17,"*"&$A21&"*")+COUNTIF('Game 9'!$J$17,"*"&$A21&"*")+COUNTIF('Game 10'!$J$17,"*"&$A21&"*")+COUNTIF('Game 11'!$J$17,"*"&$A21&"*")+COUNTIF('Game 12'!$J$17,"*"&$A21&"*")+COUNTIF('Game 13'!$J$17,"*"&$A21&"*")+COUNTIF('Game 14'!$J$17,"*"&$A21&"*")+COUNTIF('Game 15'!$J$17,"*"&$A21&"*")+COUNTIF('Game 16'!$J$17,"*"&$A21&"*") -> 0 | AJ21: =COUNTIF('Game 1'!$L$15,"*"&$A21&"*")+COUNTIF('Game 2'!$L$15,"*"&$A21&"*")+COUNTIF('Game 3'!$L$15,"*"&$A21&"*")+COUNTIF('Game 4'!$L$15,"*"&$A21&"*")+COUNTIF('Game 5'!$L$15,"*"&$A21&"*")+COUNTIF('Game 6'!$L$15,"*"&$A21&"*")+COUNTIF('Game 7'!$L$15,"*"&$A21&"*")+COUNTIF('Game 8'!$L$15,"*"&$A21&"*")+COUNTIF('Game 9'!$L$15,"*"&$A21&"*")+COUNTIF('Game 10'!$L$15,"*"&$A21&"*")+COUNTIF('Game 11'!$L$15,"*"&$A21&"*")+COUNTIF('Game 12'!$L$15,"*"&$A21&"*")+COUNTIF('Game 13'!$L$15,"*"&$A21&"*")+COUNTIF('Game 14'!$L$15,"*"&$A21&"*")+COUNTIF('Game 15'!$L$15,"*"&$A21&"*")+COUNTIF('Game 16'!$L$15,"*"&$A21&"*") -> 0
A22: =A6 -> Player 5 | B22: =COUNTIF('Game 1'!$B$13:$G$13,"*"&$A22&"*")+COUNTIF('Game 2'!$B$13:$G$13,"*"&$A22&"*")+COUNTIF('Game 3'!$B$13:$G$13,"*"&$A22&"*")+COUNTIF('Game 4'!$B$13:$G$13,"*"&$A22&"*")+COUNTIF('Game 5'!$B$13:$G$13,"*"&$A22&"*")+COUNTIF('Game 6'!$B$13:$G$13,"*"&$A22&"*")+COUNTIF('Game 7'!$B$13:$G$13,"*"&$A22&"*")+COUNTIF('Game 8'!$B$13:$G$13,"*"&$A22&"*")+COUNTIF('Game 9'!$B$13:$G$13,"*"&$A22&"*")+COUNTIF('Game 10'!$B$13:$G$13,"*"&$A22&"*")+COUNTIF('Game 11'!$B$13:$G$13,"*"&$A22&"*")+COUNTIF('Game 12'!$B$13:$G$13,"*"&$A22&"*")+COUNTIF('Game 13'!$B$13:$G$13,"*"&$A22&"*")+COUNTIF('Game 14'!$B$13:$G$13,"*"&$A22&"*")+COUNTIF('Game 15'!$B$13:$G$13,"*"&$A22&"*")+COUNTIF('Game 16'!$B$13:$G$13,"*"&$A22&"*") -> 0 | C22: =COUNTIF('Game 1'!$B$12:$G$12,"*"&$A22&"*")+COUNTIF('Game 2'!$B$12:$G$12,"*"&$A22&"*")+COUNTIF('Game 3'!$B$12:$G$12,"*"&$A22&"*")+COUNTIF('Game 4'!$B$12:$G$12,"*"&$A22&"*")+COUNTIF('Game 5'!$B$12:$G$12,"*"&$A22&"*")+COUNTIF('Game 6'!$B$12:$G$12,"*"&$A22&"*")+COUNTIF('Game 7'!$B$12:$G$12,"*"&$A22&"*")+COUNTIF('Game 8'!$B$12:$G$12,"*"&$A22&"*")+COUNTIF('Game 9'!$B$12:$G$12,"*"&$A22&"*")+COUNTIF('Game 10'!$B$12:$G$12,"*"&$A22&"*")+COUNTIF('Game 11'!$B$12:$G$12,"*"&$A22&"*")+COUNTIF('Game 12'!$B$12:$G$12,"*"&$A22&"*")+COUNTIF('Game 13'!$B$12:$G$12,"*"&$A22&"*")+COUNTIF('Game 14'!$B$12:$G$12,"*"&$A22&"*")+COUNTIF('Game 15'!$B$12:$G$12,"*"&$A22&"*")+COUNTIF('Game 16'!$B$12:$G$12,"*"&$A22&"*") -> 0 | D22: =COUNTIF('Game 1'!$B$11:$G$11,"*"&$A22&"*")+COUNTIF('Game 2'!$B$11:$G$11,"*"&$A22&"*")+COUNTIF('Game 3'!$B$11:$G$11,"*"&$A22&"*")+COUNTIF('Game 4'!$B$11:$G$11,"*"&$A22&"*")+COUNTIF('Game 5'!$B$11:$G$11,"*"&$A22&"*")+COUNTIF('Game 6'!$B$11:$G$11,"*"&$A22&"*")+COUNTIF('Game 7'!$B$11:$G$11,"*"&$A22&"*")+COUNTIF('Game 8'!$B$11:$G$11,"*"&$A22&"*")+COUNTIF('Game 9'!$B$11:$G$11,"*"&$A22&"*")+COUNTIF('Game 10'!$B$11:$G$11,"*"&$A22&"*")+COUNTIF('Game 11'!$B$11:$G$11,"*"&$A22&"*")+COUNTIF('Game 12'!$B$11:$G$11,"*"&$A22&"*")+COUNTIF('Game 13'!$B$11:$G$11,"*"&$A22&"*")+COUNTIF('Game 14'!$B$11:$G$11,"*"&$A22&"*")+COUNTIF('Game 15'!$B$11:$G$11,"*"&$A22&"*")+COUNTIF('Game 16'!$B$11:$G$11,"*"&$A22&"*") -> 0 | E22: =COUNTIF('Game 1'!$B$10:$G$10,"*"&$A22&"*")+COUNTIF('Game 2'!$B$10:$G$10,"*"&$A22&"*")+COUNTIF('Game 3'!$B$10:$G$10,"*"&$A22&"*")+COUNTIF('Game 4'!$B$10:$G$10,"*"&$A22&"*")+COUNTIF('Game 5'!$B$10:$G$10,"*"&$A22&"*")+COUNTIF('Game 6'!$B$10:$G$10,"*"&$A22&"*")+COUNTIF('Game 7'!$B$10:$G$10,"*"&$A22&"*")+COUNTIF('Game 8'!$B$10:$G$10,"*"&$A22&"*")+COUNTIF('Game 9'!$B$10:$G$10,"*"&$A22&"*")+COUNTIF('Game 10'!$B$10:$G$10,"*"&$A22&"*")+COUNTIF('Game 11'!$B$10:$G$10,"*"&$A22&"*")+COUNTIF('Game 12'!$B$10:$G$10,"*"&$A22&"*")+COUNTIF('Game 13'!$B$10:$G$10,"*"&$A22&"*")+COUNTIF('Game 14'!$B$10:$G$10,"*"&$A22&"*")+COUNTIF('Game 15'!$B$10:$G$10,"*"&$A22&"*")+COUNTIF('Game 16'!$B$10:$G$10,"*"&$A22&"*") -> 0 | F22: =COUNTIF('Game 1'!$B$9:$G$9,"*"&$A22&"*")+COUNTIF('Game 2'!$B$9:$G$9,"*"&$A22&"*")+COUNTIF('Game 3'!$B$9:$G$9,"*"&$A22&"*")+COUNTIF('Game 4'!$B$9:$G$9,"*"&$A22&"*")+COUNTIF('Game 5'!$B$9:$G$9,"*"&$A22&"*")+COUNTIF('Game 6'!$B$9:$G$9,"*"&$A22&"*")+COUNTIF('Game 7'!$B$9:$G$9,"*"&$A22&"*")+COUNTIF('Game 8'!$B$9:$G$9,"*"&$A22&"*")+COUNTIF('Game 9'!$B$9:$G$9,"*"&$A22&"*")+COUNTIF('Game 10'!$B$9:$G$9,"*"&$A22&"*")+COUNTIF('Game 11'!$B$9:$G$9,"*"&$A22&"*")+COUNTIF('Game 12'!$B$9:$G$9,"*"&$A22&"*")+COUNTIF('Game 13'!$B$9:$G$9,"*"&$A22&"*")+COUNTIF('Game 14'!$B$9:$G$9,"*"&$A22&"*")+COUNTIF('Game 15'!$B$9:$G$9,"*"&$A22&"*")+COUNTIF('Game 16'!$B$9:$G$9,"*"&$A22&"*") -> 0 | G22: =COUNTIF('Game 1'!$B$8:$G$8,"*"&$A22&"*")+COUNTIF('Game 2'!$B$8:$G$8,"*"&$A22&"*")+COUNTIF('Game 3'!$B$8:$G$8,"*"&$A22&"*")+COUNTIF('Game 4'!$B$8:$G$8,"*"&$A22&"*")+COUNTIF('Game 5'!$B$8:$G$8,"*"&$A22&"*")+COUNTIF('Game 6'!$B$8:$G$8,"*"&$A22&"*")+COUNTIF('Game 7'!$B$8:$G$8,"*"&$A22&"*")+COUNTIF('Game 8'!$B$8:$G$8,"*"&$A22&"*")+COUNTIF('Game 9'!$B$8:$G$8,"*"&$A22&"*")+COUNTIF('Game 10'!$B$8:$G$8,"*"&$A22&"*")+COUNTIF('Game 11'!$B$8:$G$8,"*"&$A22&"*")+COUNTIF('Game 12'!$B$8:$G$8,"*"&$A22&"*")+COUNTIF('Game 13'!$B$8:$G$8,"*"&$A22&"*")+COUNTIF('Game 14'!$B$8:$G$8,"*"&$A22&"*")+COUNTIF('Game 15'!$B$8:$G$8,"*"&$A22&"*")+COUNTIF('Game 16'!$B$8:$G$8,"*"&$A22&"*") -> 0 | H22: =COUNTIF('Game 1'!$B$4:$G$4,"*"&$A22&"*")+COUNTIF('Game 2'!$B$4:$G$4,"*"&$A22&"*")+COUNTIF('Game 3'!$B$4:$G$4,"*"&$A22&"*")+COUNTIF('Game 4'!$B$4:$G$4,"*"&$A22&"*")+COUNTIF('Game 5'!$B$4:$G$4,"*"&$A22&"*")+COUNTIF('Game 6'!$B$4:$G$4,"*"&$A22&"*")+COUNTIF('Game 7'!$B$4:$G$4,"*"&$A22&"*")+COUNTIF('Game 8'!$B$4:$G$4,"*"&$A22&"*")+COUNTIF('Game 9'!$B$4:$G$4,"*"&$A22&"*")+COUNTIF('Game 10'!$B$4:$G$4,"*"&$A22&"*")+COUNTIF('Game 11'!$B$4:$G$4,"*"&$A22&"*")+COUNTIF('Game 12'!$B$4:$G$4,"*"&$A22&"*")+COUNTIF('Game 13'!$B$4:$G$4,"*"&$A22&"*")+COUNTIF('Game 14'!$B$4:$G$4,"*"&$A22&"*")+COUNTIF('Game 15'!$B$4:$G$4,"*"&$A22&"*")+COUNTIF('Game 16'!$B$4:$G$4,"*"&$A22&"*") -> 0 | I22: =COUNTIF('Game 1'!$B$5:$G$5,"*"&$A22&"*")+COUNTIF('Game 2'!$B$5:$G$5,"*"&$A22&"*")+COUNTIF('Game 3'!$B$5:$G$5,"*"&$A22&"*")+COUNTIF('Game 4'!$B$5:$G$5,"*"&$A22&"*")+COUNTIF('Game 5'!$B$5:$G$5,"*"&$A22&"*")+COUNTIF('Game 6'!$B$5:$G$5,"*"&$A22&"*")+COUNTIF('Game 7'!$B$5:$G$5,"*"&$A22&"*")+COUNTIF('Game 8'!$B$5:$G$5,"*"&$A22&"*")+COUNTIF('Game 9'!$B$5:$G$5,"*"&$A22&"*")+COUNTIF('Game 10'!$B$5:$G$5,"*"&$A22&"*")+COUNTIF('Game 11'!$B$5:$G$5,"*"&$A22&"*")+COUNTIF('Game 12'!$B$5:$G$5,"*"&$A22&"*")+COUNTIF('Game 13'!$B$5:$G$5,"*"&$A22&"*")+COUNTIF('Game 14'!$B$5:$G$5,"*"&$A22&"*")+COUNTIF('Game 15'!$B$5:$G$5,"*"&$A22&"*")+COUNTIF('Game 16'!$B$5:$G$5,"*"&$A22&"*") -> 0 | J22: =COUNTIF('Game 1'!$B$6:$G$6,"*"&$A22&"*")+COUNTIF('Game 2'!$B$6:$G$6,"*"&$A22&"*")+COUNTIF('Game 3'!$B$6:$G$6,"*"&$A22&"*")+COUNTIF('Game 4'!$B$6:$G$6,"*"&$A22&"*")+COUNTIF('Game 5'!$B$6:$G$6,"*"&$A22&"*")+COUNTIF('Game 6'!$B$6:$G$6,"*"&$A22&"*")+COUNTIF('Game 7'!$B$6:$G$6,"*"&$A22&"*")+COUNTIF('Game 8'!$B$6:$G$6,"*"&$A22&"*")+COUNTIF('Game 9'!$B$6:$G$6,"*"&$A22&"*")+COUNTIF('Game 10'!$B$6:$G$6,"*"&$A22&"*")+COUNTIF('Game 11'!$B$6:$G$6,"*"&$A22&"*")+COUNTIF('Game 12'!$B$6:$G$6,"*"&$A22&"*")+COUNTIF('Game 13'!$B$6:$G$6,"*"&$A22&"*")+COUNTIF('Game 14'!$B$6:$G$6,"*"&$A22&"*")+COUNTIF('Game 15'!$B$6:$G$6,"*"&$A22&"*")+COUNTIF('Game 16'!$B$6:$G$6,"*"&$A22&"*") -> 0 | K22: =COUNTIF('Game 1'!$B$7:$G$7,"*"&$A22&"*")+COUNTIF('Game 2'!$B$7:$G$7,"*"&$A22&"*")+COUNTIF('Game 3'!$B$7:$G$7,"*"&$A22&"*")+COUNTIF('Game 4'!$B$7:$G$7,"*"&$A22&"*")+COUNTIF('Game 5'!$B$7:$G$7,"*"&$A22&"*")+COUNTIF('Game 6'!$B$7:$G$7,"*"&$A22&"*")+COUNTIF('Game 7'!$B$7:$G$7,"*"&$A22&"*")+COUNTIF('Game 8'!$B$7:$G$7,"*"&$A22&"*")+COUNTIF('Game 9'!$B$7:$G$7,"*"&$A22&"*")+COUNTIF('Game 10'!$B$7:$G$7,"*"&$A22&"*")+COUNTIF('Game 11'!$B$7:$G$7,"*"&$A22&"*")+COUNTIF('Game 12'!$B$7:$G$7,"*"&$A22&"*")+COUNTIF('Game 13'!$B$7:$G$7,"*"&$A22&"*")+COUNTIF('Game 14'!$B$7:$G$7,"*"&$A22&"*")+COUNTIF('Game 15'!$B$7:$G$7,"*"&$A22&"*")+COUNTIF('Game 16'!$B$7:$G$7,"*"&$A22&"*") -> 0 | L22: =COUNTIF('Game 1'!$B$14:$G$14,"*"&$A22&"*")+COUNTIF('Game 1'!$B$15:$G$15,"*"&$A22&"*")+COUNTIF('Game 1'!$B$16:$G$16,"*"&$A22&"*")+COUNTIF('Game 2'!$B$14:$G$14,"*"&$A22&"*")+COUNTIF('Game 2'!$B$15:$G$15,"*"&$A22&"*")+COUNTIF('Game 2'!$B$16:$G$16,"*"&$A22&"*")+COUNTIF('Game 3'!$B$14:$G$14,"*"&$A22&"*")+COUNTIF('Game 3'!$B$15:$G$15,"*"&$A22&"*")+COUNTIF('Game 3'!$B$16:$G$16,"*"&$A22&"*")+COUNTIF('Game 4'!$B$14:$G$14,"*"&$A22&"*")+COUNTIF('Game 4'!$B$15:$G$15,"*"&$A22&"*")+COUNTIF('Game 4'!$B$16:$G$16,"*"&$A22&"*")+COUNTIF('Game 5'!$B$14:$G$14,"*"&$A22&"*")+COUNTIF('Game 5'!$B$15:$G$15,"*"&$A22&"*")+COUNTIF('Game 5'!$B$16:$G$16,"*"&$A22&"*")+COUNTIF('Game 6'!$B$14:$G$14,"*"&$A22&"*")+COUNTIF('Game 6'!$B$15:$G$15,"*"&$A22&"*")+COUNTIF('Game 6'!$B$16:$G$16,"*"&$A22&"*")+COUNTIF('Game 7'!$B$14:$G$14,"*"&$A22&"*")+COUNTIF('Game 7'!$B$15:$G$15,"*"&$A22&"*")+COUNTIF('Game 7'!$B$16:$G$16,"*"&$A22&"*")+COUNTIF('Game 8'!$B$14:$G$14,"*"&$A22&"*")+COUNTIF('Game 8'!$B$15:$G$15,"*"&$A22&"*")+COUNTIF('Game 8'!$B$16:$G$16,"*"&$A22&"*")+COUNTIF('Game 9'!$B$14:$G$14,"*"&$A22&"*")+COUNTIF('Game 9'!$B$15:$G$15,"*"&$A22&"*")+COUNTIF('Game 9'!$B$16:$G$16,"*"&$A22&"*")+COUNTIF('Game 10'!$B$14:$G$14,"*"&$A22&"*")+COUNTIF('Game 10'!$B$15:$G$15,"*"&$A22&"*")+COUNTIF('Game 10'!$B$16:$G$16,"*"&$A22&"*")+COUNTIF('Game 11'!$B$14:$G$14,"*"&$A22&"*")+COUNTIF('Game 11'!$B$15:$G$15,"*"&$A22&"*")+COUNTIF('Game 11'!$B$16:$G$16,"*"&$A22&"*")+COUNTIF('Game 12'!$B$14:$G$14,"*"&$A22&"*")+COUNTIF('Game 12'!$B$15:$G$15,"*"&$A22&"*")+COUNTIF('Game 12'!$B$16:$G$16,"*"&$A22&"*")+COUNTIF('Game 13'!$B$14:$G$14,"*"&$A22&"*")+COUNTIF('Game 13'!$B$15:$G$15,"*"&$A22&"*")+COUNTIF('Game 13'!$B$16:$G$16,"*"&$A22&"*")+COUNTIF('Game 14'!$B$14:$G$14,"*"&$A22&"*")+COUNTIF('Game 14'!$B$15:$G$15,"*"&$A22&"*")+COUNTIF('Game 14'!$B$16:$G$16,"*"&$A22&"*")+COUNTIF('Game 15'!$B$14:$G$14,"*"&$A22&"*")+COUNTIF('Game 15'!$B$15:$G$15,"*"&$A22&"*")+COUNTIF('Game 15'!$B$16:$G$16,"*"&$A22&"*")+COUNTIF('Game 16'!$B$14:$G$14,"*"&$A22&"*")+COUNTIF('Game 16'!$B$15:$G$15,"*"&$A22&"*")+COUNTIF('Game 16'!$B$16:$G$16,"*"&$A22&"*") -> 0 | M22: =SUM(B22:G22) -> 0 | N22: =SUM(H22:K22) -> 0 | O22: =L22 -> 0 | P22: =SUM(M22:O22) -> 0 | Q22: =IF(P22=0,0,M22/P22) -> 0 | R22: =IF(P22=0,0,N22/P22) -> 0 | S22: =IF(P22=0,0,O22/P22) -> 0 | T22: =IF($U$18=0,0,P22/$U$18) -> 0 | V22: ='Game 1'!Z6+'Game 2'!Z6+'Game 3'!Z6+'Game 4'!Z6+'Game 5'!Z6+'Game 6'!Z6+'Game 7'!Z6+'Game 8'!Z6+'Game 9'!Z6+'Game 10'!Z6+'Game 11'!Z6+'Game 12'!Z6+'Game 13'!Z6+'Game 14'!Z6+'Game 15'!Z6+'Game 16'!Z6 -> 0 | W22: =COUNTIF('Game 1'!$J$5,"*"&$A22&"*")+COUNTIF('Game 2'!$J$5,"*"&$A22&"*")+COUNTIF('Game 3'!$J$5,"*"&$A22&"*")+COUNTIF('Game 4'!$J$5,"*"&$A22&"*")+COUNTIF('Game 5'!$J$5,"*"&$A22&"*")+COUNTIF('Game 6'!$J$5,"*"&$A22&"*")+COUNTIF('Game 7'!$J$5,"*"&$A22&"*")+COUNTIF('Game 8'!$J$5,"*"&$A22&"*")+COUNTIF('Game 9'!$J$5,"*"&$A22&"*")+COUNTIF('Game 10'!$J$5,"*"&$A22&"*")+COUNTIF('Game 11'!$J$5,"*"&$A22&"*")+COUNTIF('Game 12'!$J$5,"*"&$A22&"*")+COUNTIF('Game 13'!$J$5,"*"&$A22&"*")+COUNTIF('Game 14'!$J$5,"*"&$A22&"*")+COUNTIF('Game 15'!$J$5,"*"&$A22&"*")+COUNTIF('Game 16'!$J$5,"*"&$A22&"*") -> 0 | X22: =COUNTIF('Game 1'!$J$6,"*"&$A22&"*")+COUNTIF('Game 2'!$J$6,"*"&$A22&"*")+COUNTIF('Game 3'!$J$6,"*"&$A22&"*")+COUNTIF('Game 4'!$J$6,"*"&$A22&"*")+COUNTIF('Game 5'!$J$6,"*"&$A22&"*")+COUNTIF('Game 6'!$J$6,"*"&$A22&"*")+COUNTIF('Game 7'!$J$6,"*"&$A22&"*")+COUNTIF('Game 8'!$J$6,"*"&$A22&"*")+COUNTIF('Game 9'!$J$6,"*"&$A22&"*")+COUNTIF('Game 10'!$J$6,"*"&$A22&"*")+COUNTIF('Game 11'!$J$6,"*"&$A22&"*")+COUNTIF('Game 12'!$J$6,"*"&$A22&"*")+COUNTIF('Game 13'!$J$6,"*"&$A22&"*")+COUNTIF('Game 14'!$J$6,"*"&$A22&"*")+COUNTIF('Game 15'!$J$6,"*"&$A22&"*")+COUNTIF('Game 16'!$J$6,"*"&$A22&"*") -> 0 | Y22: =COUNTIF('Game 1'!$J$7,"*"&$A22&"*")+COUNTIF('Game 2'!$J$7,"*"&$A22&"*")+COUNTIF('Game 3'!$J$7,"*"&$A22&"*")+COUNTIF('Game 4'!$J$7,"*"&$A22&"*")+COUNTIF('Game 5'!$J$7,"*"&$A22&"*")+COUNTIF('Game 6'!$J$7,"*"&$A22&"*")+COUNTIF('Game 7'!$J$7,"*"&$A22&"*")+COUNTIF('Game 8'!$J$7,"*"&$A22&"*")+COUNTIF('Game 9'!$J$7,"*"&$A22&"*")+COUNTIF('Game 10'!$J$7,"*"&$A22&"*")+COUNTIF('Game 11'!$J$7,"*"&$A22&"*")+COUNTIF('Game 12'!$J$7,"*"&$A22&"*")+COUNTIF('Game 13'!$J$7,"*"&$A22&"*")+COUNTIF('Game 14'!$J$7,"*"&$A22&"*")+COUNTIF('Game 15'!$J$7,"*"&$A22&"*")+COUNTIF('Game 16'!$J$7,"*"&$A22&"*") -> 0 | Z22: =COUNTIF('Game 1'!$J$8,"*"&$A22&"*")+COUNTIF('Game 2'!$J$8,"*"&$A22&"*")+COUNTIF('Game 3'!$J$8,"*"&$A22&"*")+COUNTIF('Game 4'!$J$8,"*"&$A22&"*")+COUNTIF('Game 5'!$J$8,"*"&$A22&"*")+COUNTIF('Game 6'!$J$8,"*"&$A22&"*")+COUNTIF('Game 7'!$J$8,"*"&$A22&"*")+COUNTIF('Game 8'!$J$8,"*"&$A22&"*")+COUNTIF('Game 9'!$J$8,"*"&$A22&"*")+COUNTIF('Game 10'!$J$8,"*"&$A22&"*")+COUNTIF('Game 11'!$J$8,"*"&$A22&"*")+COUNTIF('Game 12'!$J$8,"*"&$A22&"*")+COUNTIF('Game 13'!$J$8,"*"&$A22&"*")+COUNTIF('Game 14'!$J$8,"*"&$A22&"*")+COUNTIF('Game 15'!$J$8,"*"&$A22&"*")+COUNTIF('Game 16'!$J$8,"*"&$A22&"*") -> 0 | AA22: =COUNTIF('Game 1'!$J$9,"*"&$A22&"*")+COUNTIF('Game 2'!$J$9,"*"&$A22&"*")+COUNTIF('Game 3'!$J$9,"*"&$A22&"*")+COUNTIF('Game 4'!$J$9,"*"&$A22&"*")+COUNTIF('Game 5'!$J$9,"*"&$A22&"*")+COUNTIF('Game 6'!$J$9,"*"&$A22&"*")+COUNTIF('Game 7'!$J$9,"*"&$A22&"*")+COUNTIF('Game 8'!$J$9,"*"&$A22&"*")+COUNTIF('Game 9'!$J$9,"*"&$A22&"*")+COUNTIF('Game 10'!$J$9,"*"&$A22&"*")+COUNTIF('Game 11'!$J$9,"*"&$A22&"*")+COUNTIF('Game 12'!$J$9,"*"&$A22&"*")+COUNTIF('Game 13'!$J$9,"*"&$A22&"*")+COUNTIF('Game 14'!$J$9,"*"&$A22&"*")+COUNTIF('Game 15'!$J$9,"*"&$A22&"*")+COUNTIF('Game 16'!$J$9,"*"&$A22&"*") -> 0 | AB22: =COUNTIF('Game 1'!$J$10,"*"&$A22&"*")+COUNTIF('Game 2'!$J$10,"*"&$A22&"*")+COUNTIF('Game 3'!$J$10,"*"&$A22&"*")+COUNTIF('Game 4'!$J$10,"*"&$A22&"*")+COUNTIF('Game 5'!$J$10,"*"&$A22&"*")+COUNTIF('Game 6'!$J$10,"*"&$A22&"*")+COUNTIF('Game 7'!$J$10,"*"&$A22&"*")+COUNTIF('Game 8'!$J$10,"*"&$A22&"*")+COUNTIF('Game 9'!$J$10,"*"&$A22&"*")+COUNTIF('Game 10'!$J$10,"*"&$A22&"*")+COUNTIF('Game 11'!$J$10,"*"&$A22&"*")+COUNTIF('Game 12'!$J$10,"*"&$A22&"*")+COUNTIF('Game 13'!$J$10,"*"&$A22&"*")+COUNTIF('Game 14'!$J$10,"*"&$A22&"*")+COUNTIF('Game 15'!$J$10,"*"&$A22&"*")+COUNTIF('Game 16'!$J$10,"*"&$A22&"*") -> 0 | AC22: =COUNTIF('Game 1'!$J$11,"*"&$A22&"*")+COUNTIF('Game 2'!$J$11,"*"&$A22&"*")+COUNTIF('Game 3'!$J$11,"*"&$A22&"*")+COUNTIF('Game 4'!$J$11,"*"&$A22&"*")+COUNTIF('Game 5'!$J$11,"*"&$A22&"*")+COUNTIF('Game 6'!$J$11,"*"&$A22&"*")+COUNTIF('Game 7'!$J$11,"*"&$A22&"*")+COUNTIF('Game 8'!$J$11,"*"&$A22&"*")+COUNTIF('Game 9'!$J$11,"*"&$A22&"*")+COUNTIF('Game 10'!$J$11,"*"&$A22&"*")+COUNTIF('Game 11'!$J$11,"*"&$A22&"*")+COUNTIF('Game 12'!$J$11,"*"&$A22&"*")+COUNTIF('Game 13'!$J$11,"*"&$A22&"*")+COUNTIF('Game 14'!$J$11,"*"&$A22&"*")+COUNTIF('Game 15'!$J$11,"*"&$A22&"*")+COUNTIF('Game 16'!$J$11,"*"&$A22&"*") -> 0 | AD22: =COUNTIF('Game 1'!$J$12,"*"&$A22&"*")+COUNTIF('Game 2'!$J$12,"*"&$A22&"*")+COUNTIF('Game 3'!$J$12,"*"&$A22&"*")+COUNTIF('Game 4'!$J$12,"*"&$A22&"*")+COUNTIF('Game 5'!$J$12,"*"&$A22&"*")+COUNTIF('Game 6'!$J$12,"*"&$A22&"*")+COUNTIF('Game 7'!$J$12,"*"&$A22&"*")+COUNTIF('Game 8'!$J$12,"*"&$A22&"*")+COUNTIF('Game 9'!$J$12,"*"&$A22&"*")+COUNTIF('Game 10'!$J$12,"*"&$A22&"*")+COUNTIF('Game 11'!$J$12,"*"&$A22&"*")+COUNTIF('Game 12'!$J$12,"*"&$A22&"*")+COUNTIF('Game 13'!$J$12,"*"&$A22&"*")+COUNTIF('Game 14'!$J$12,"*"&$A22&"*")+COUNTIF('Game 15'!$J$12,"*"&$A22&"*")+COUNTIF('Game 16'!$J$12,"*"&$A22&"*") -> 0 | AE22: =COUNTIF('Game 1'!$J$13,"*"&$A22&"*")+COUNTIF('Game 2'!$J$13,"*"&$A22&"*")+COUNTIF('Game 3'!$J$13,"*"&$A22&"*")+COUNTIF('Game 4'!$J$13,"*"&$A22&"*")+COUNTIF('Game 5'!$J$13,"*"&$A22&"*")+COUNTIF('Game 6'!$J$13,"*"&$A22&"*")+COUNTIF('Game 7'!$J$13,"*"&$A22&"*")+COUNTIF('Game 8'!$J$13,"*"&$A22&"*")+COUNTIF('Game 9'!$J$13,"*"&$A22&"*")+COUNTIF('Game 10'!$J$13,"*"&$A22&"*")+COUNTIF('Game 11'!$J$13,"*"&$A22&"*")+COUNTIF('Game 12'!$J$13,"*"&$A22&"*")+COUNTIF('Game 13'!$J$13,"*"&$A22&"*")+COUNTIF('Game 14'!$J$13,"*"&$A22&"*")+COUNTIF('Game 15'!$J$13,"*"&$A22&"*")+COUNTIF('Game 16'!$J$13,"*"&$A22&"*") -> 0 | AF22: =COUNTIF('Game 1'!$J$14,"*"&$A22&"*")+COUNTIF('Game 2'!$J$14,"*"&$A22&"*")+COUNTIF('Game 3'!$J$14,"*"&$A22&"*")+COUNTIF('Game 4'!$J$14,"*"&$A22&"*")+COUNTIF('Game 5'!$J$14,"*"&$A22&"*")+COUNTIF('Game 6'!$J$14,"*"&$A22&"*")+COUNTIF('Game 7'!$J$14,"*"&$A22&"*")+COUNTIF('Game 8'!$J$14,"*"&$A22&"*")+COUNTIF('Game 9'!$J$14,"*"&$A22&"*")+COUNTIF('Game 10'!$J$14,"*"&$A22&"*")+COUNTIF('Game 11'!$J$14,"*"&$A22&"*")+COUNTIF('Game 12'!$J$14,"*"&$A22&"*")+COUNTIF('Game 13'!$J$14,"*"&$A22&"*")+COUNTIF('Game 14'!$J$14,"*"&$A22&"*")+COUNTIF('Game 15'!$J$14,"*"&$A22&"*")+COUNTIF('Game 16'!$J$14,"*"&$A22&"*") -> 0 | AG22: =COUNTIF('Game 1'!$J$15,"*"&$A22&"*")+COUNTIF('Game 2'!$J$15,"*"&$A22&"*")+COUNTIF('Game 3'!$J$15,"*"&$A22&"*")+COUNTIF('Game 4'!$J$15,"*"&$A22&"*")+COUNTIF('Game 5'!$J$15,"*"&$A22&"*")+COUNTIF('Game 6'!$J$15,"*"&$A22&"*")+COUNTIF('Game 7'!$J$15,"*"&$A22&"*")+COUNTIF('Game 8'!$J$15,"*"&$A22&"*")+COUNTIF('Game 9'!$J$15,"*"&$A22&"*")+COUNTIF('Game 10'!$J$15,"*"&$A22&"*")+COUNTIF('Game 11'!$J$15,"*"&$A22&"*")+COUNTIF('Game 12'!$J$15,"*"&$A22&"*")+COUNTIF('Game 13'!$J$15,"*"&$A22&"*")+COUNTIF('Game 14'!$J$15,"*"&$A22&"*")+COUNTIF('Game 15'!$J$15,"*"&$A22&"*")+COUNTIF('Game 16'!$J$15,"*"&$A22&"*") -> 0 | AH22: =COUNTIF('Game 1'!$J$16,"*"&$A22&"*")+COUNTIF('Game 2'!$J$16,"*"&$A22&"*")+COUNTIF('Game 3'!$J$16,"*"&$A22&"*")+COUNTIF('Game 4'!$J$16,"*"&$A22&"*")+COUNTIF('Game 5'!$J$16,"*"&$A22&"*")+COUNTIF('Game 6'!$J$16,"*"&$A22&"*")+COUNTIF('Game 7'!$J$16,"*"&$A22&"*")+COUNTIF('Game 8'!$J$16,"*"&$A22&"*")+COUNTIF('Game 9'!$J$16,"*"&$A22&"*")+COUNTIF('Game 10'!$J$16,"*"&$A22&"*")+COUNTIF('Game 11'!$J$16,"*"&$A22&"*")+COUNTIF('Game 12'!$J$16,"*"&$A22&"*")+COUNTIF('Game 13'!$J$16,"*"&$A22&"*")+COUNTIF('Game 14'!$J$16,"*"&$A22&"*")+COUNTIF('Game 15'!$J$16,"*"&$A22&"*")+COUNTIF('Game 16'!$J$16,"*"&$A22&"*") -> 0 | AI22: =COUNTIF('Game 1'!$J$17,"*"&$A22&"*")+COUNTIF('Game 2'!$J$17,"*"&$A22&"*")+COUNTIF('Game 3'!$J$17,"*"&$A22&"*")+COUNTIF('Game 4'!$J$17,"*"&$A22&"*")+COUNTIF('Game 5'!$J$17,"*"&$A22&"*")+COUNTIF('Game 6'!$J$17,"*"&$A22&"*")+COUNTIF('Game 7'!$J$17,"*"&$A22&"*")+COUNTIF('Game 8'!$J$17,"*"&$A22&"*")+COUNTIF('Game 9'!$J$17,"*"&$A22&"*")+COUNTIF('Game 10'!$J$17,"*"&$A22&"*")+COUNTIF('Game 11'!$J$17,"*"&$A22&"*")+COUNTIF('Game 12'!$J$17,"*"&$A22&"*")+COUNTIF('Game 13'!$J$17,"*"&$A22&"*")+COUNTIF('Game 14'!$J$17,"*"&$A22&"*")+COUNTIF('Game 15'!$J$17,"*"&$A22&"*")+COUNTIF('Game 16'!$J$17,"*"&$A22&"*") -> 0 | AJ22: =COUNTIF('Game 1'!$L$15,"*"&$A22&"*")+COUNTIF('Game 2'!$L$15,"*"&$A22&"*")+COUNTIF('Game 3'!$L$15,"*"&$A22&"*")+COUNTIF('Game 4'!$L$15,"*"&$A22&"*")+COUNTIF('Game 5'!$L$15,"*"&$A22&"*")+COUNTIF('Game 6'!$L$15,"*"&$A22&"*")+COUNTIF('Game 7'!$L$15,"*"&$A22&"*")+COUNTIF('Game 8'!$L$15,"*"&$A22&"*")+COUNTIF('Game 9'!$L$15,"*"&$A22&"*")+COUNTIF('Game 10'!$L$15,"*"&$A22&"*")+COUNTIF('Game 11'!$L$15,"*"&$A22&"*")+COUNTIF('Game 12'!$L$15,"*"&$A22&"*")+COUNTIF('Game 13'!$L$15,"*"&$A22&"*")+COUNTIF('Game 14'!$L$15,"*"&$A22&"*")+COUNTIF('Game 15'!$L$15,"*"&$A22&"*")+COUNTIF('Game 16'!$L$15,"*"&$A22&"*") -> 0
A23: =A7 -> Player 6 | B23: =COUNTIF('Game 1'!$B$13:$G$13,"*"&$A23&"*")+COUNTIF('Game 2'!$B$13:$G$13,"*"&$A23&"*")+COUNTIF('Game 3'!$B$13:$G$13,"*"&$A23&"*")+COUNTIF('Game 4'!$B$13:$G$13,"*"&$A23&"*")+COUNTIF('Game 5'!$B$13:$G$13,"*"&$A23&"*")+COUNTIF('Game 6'!$B$13:$G$13,"*"&$A23&"*")+COUNTIF('Game 7'!$B$13:$G$13,"*"&$A23&"*")+COUNTIF('Game 8'!$B$13:$G$13,"*"&$A23&"*")+COUNTIF('Game 9'!$B$13:$G$13,"*"&$A23&"*")+COUNTIF('Game 10'!$B$13:$G$13,"*"&$A23&"*")+COUNTIF('Game 11'!$B$13:$G$13,"*"&$A23&"*")+COUNTIF('Game 12'!$B$13:$G$13,"*"&$A23&"*")+COUNTIF('Game 13'!$B$13:$G$13,"*"&$A23&"*")+COUNTIF('Game 14'!$B$13:$G$13,"*"&$A23&"*")+COUNTIF('Game 15'!$B$13:$G$13,"*"&$A23&"*")+COUNTIF('Game 16'!$B$13:$G$13,"*"&$A23&"*") -> 0 | C23: =COUNTIF('Game 1'!$B$12:$G$12,"*"&$A23&"*")+COUNTIF('Game 2'!$B$12:$G$12,"*"&$A23&"*")+COUNTIF('Game 3'!$B$12:$G$12,"*"&$A23&"*")+COUNTIF('Game 4'!$B$12:$G$12,"*"&$A23&"*")+COUNTIF('Game 5'!$B$12:$G$12,"*"&$A23&"*")+COUNTIF('Game 6'!$B$12:$G$12,"*"&$A23&"*")+COUNTIF('Game 7'!$B$12:$G$12,"*"&$A23&"*")+COUNTIF('Game 8'!$B$12:$G$12,"*"&$A23&"*")+COUNTIF('Game 9'!$B$12:$G$12,"*"&$A23&"*")+COUNTIF('Game 10'!$B$12:$G$12,"*"&$A23&"*")+COUNTIF('Game 11'!$B$12:$G$12,"*"&$A23&"*")+COUNTIF('Game 12'!$B$12:$G$12,"*"&$A23&"*")+COUNTIF('Game 13'!$B$12:$G$12,"*"&$A23&"*")+COUNTIF('Game 14'!$B$12:$G$12,"*"&$A23&"*")+COUNTIF('Game 15'!$B$12:$G$12,"*"&$A23&"*")+COUNTIF('Game 16'!$B$12:$G$12,"*"&$A23&"*") -> 0 | D23: =COUNTIF('Game 1'!$B$11:$G$11,"*"&$A23&"*")+COUNTIF('Game 2'!$B$11:$G$11,"*"&$A23&"*")+COUNTIF('Game 3'!$B$11:$G$11,"*"&$A23&"*")+COUNTIF('Game 4'!$B$11:$G$11,"*"&$A23&"*")+COUNTIF('Game 5'!$B$11:$G$11,"*"&$A23&"*")+COUNTIF('Game 6'!$B$11:$G$11,"*"&$A23&"*")+COUNTIF('Game 7'!$B$11:$G$11,"*"&$A23&"*")+COUNTIF('Game 8'!$B$11:$G$11,"*"&$A23&"*")+COUNTIF('Game 9'!$B$11:$G$11,"*"&$A23&"*")+COUNTIF('Game 10'!$B$11:$G$11,"*"&$A23&"*")+COUNTIF('Game 11'!$B$11:$G$11,"*"&$A23&"*")+COUNTIF('Game 12'!$B$11:$G$11,"*"&$A23&"*")+COUNTIF('Game 13'!$B$11:$G$11,"*"&$A23&"*")+COUNTIF('Game 14'!$B$11:$G$11,"*"&$A23&"*")+COUNTIF('Game 15'!$B$11:$G$11,"*"&$A23&"*")+COUNTIF('Game 16'!$B$11:$G$11,"*"&$A23&"*") -> 0 | E23: =COUNTIF('Game 1'!$B$10:$G$10,"*"&$A23&"*")+COUNTIF('Game 2'!$B$10:$G$10,"*"&$A23&"*")+COUNTIF('Game 3'!$B$10:$G$10,"*"&$A23&"*")+COUNTIF('Game 4'!$B$10:$G$10,"*"&$A23&"*")+COUNTIF('Game 5'!$B$10:$G$10,"*"&$A23&"*")+COUNTIF('Game 6'!$B$10:$G$10,"*"&$A23&"*")+COUNTIF('Game 7'!$B$10:$G$10,"*"&$A23&"*")+COUNTIF('Game 8'!$B$10:$G$10,"*"&$A23&"*")+COUNTIF('Game 9'!$B$10:$G$10,"*"&$A23&"*")+COUNTIF('Game 10'!$B$10:$G$10,"*"&$A23&"*")+COUNTIF('Game 11'!$B$10:$G$10,"*"&$A23&"*")+COUNTIF('Game 12'!$B$10:$G$10,"*"&$A23&"*")+COUNTIF('Game 13'!$B$10:$G$10,"*"&$A23&"*")+COUNTIF('Game 14'!$B$10:$G$10,"*"&$A23&"*")+COUNTIF('Game 15'!$B$10:$G$10,"*"&$A23&"*")+COUNTIF('Game 16'!$B$10:$G$10,"*"&$A23&"*") -> 0 | F23: =COUNTIF('Game 1'!$B$9:$G$9,"*"&$A23&"*")+COUNTIF('Game 2'!$B$9:$G$9,"*"&$A23&"*")+COUNTIF('Game 3'!$B$9:$G$9,"*"&$A23&"*")+COUNTIF('Game 4'!$B$9:$G$9,"*"&$A23&"*")+COUNTIF('Game 5'!$B$9:$G$9,"*"&$A23&"*")+COUNTIF('Game 6'!$B$9:$G$9,"*"&$A23&"*")+COUNTIF('Game 7'!$B$9:$G$9,"*"&$A23&"*")+COUNTIF('Game 8'!$B$9:$G$9,"*"&$A23&"*")+COUNTIF('Game 9'!$B$9:$G$9,"*"&$A23&"*")+COUNTIF('Game 10'!$B$9:$G$9,"*"&$A23&"*")+COUNTIF('Game 11'!$B$9:$G$9,"*"&$A23&"*")+COUNTIF('Game 12'!$B$9:$G$9,"*"&$A23&"*")+COUNTIF('Game 13'!$B$9:$G$9,"*"&$A23&"*")+COUNTIF('Game 14'!$B$9:$G$9,"*"&$A23&"*")+COUNTIF('Game 15'!$B$9:$G$9,"*"&$A23&"*")+COUNTIF('Game 16'!$B$9:$G$9,"*"&$A23&"*") -> 0 | G23: =COUNTIF('Game 1'!$B$8:$G$8,"*"&$A23&"*")+COUNTIF('Game 2'!$B$8:$G$8,"*"&$A23&"*")+COUNTIF('Game 3'!$B$8:$G$8,"*"&$A23&"*")+COUNTIF('Game 4'!$B$8:$G$8,"*"&$A23&"*")+COUNTIF('Game 5'!$B$8:$G$8,"*"&$A23&"*")+COUNTIF('Game 6'!$B$8:$G$8,"*"&$A23&"*")+COUNTIF('Game 7'!$B$8:$G$8,"*"&$A23&"*")+COUNTIF('Game 8'!$B$8:$G$8,"*"&$A23&"*")+COUNTIF('Game 9'!$B$8:$G$8,"*"&$A23&"*")+COUNTIF('Game 10'!$B$8:$G$8,"*"&$A23&"*")+COUNTIF('Game 11'!$B$8:$G$8,"*"&$A23&"*")+COUNTIF('Game 12'!$B$8:$G$8,"*"&$A23&"*")+COUNTIF('Game 13'!$B$8:$G$8,"*"&$A23&"*")+COUNTIF('Game 14'!$B$8:$G$8,"*"&$A23&"*")+COUNTIF('Game 15'!$B$8:$G$8,"*"&$A23&"*")+COUNTIF('Game 16'!$B$8:$G$8,"*"&$A23&"*") -> 0 | H23: =COUNTIF('Game 1'!$B$4:$G$4,"*"&$A23&"*")+COUNTIF('Game 2'!$B$4:$G$4,"*"&$A23&"*")+COUNTIF('Game 3'!$B$4:$G$4,"*"&$A23&"*")+COUNTIF('Game 4'!$B$4:$G$4,"*"&$A23&"*")+COUNTIF('Game 5'!$B$4:$G$4,"*"&$A23&"*")+COUNTIF('Game 6'!$B$4:$G$4,"*"&$A23&"*")+COUNTIF('Game 7'!$B$4:$G$4,"*"&$A23&"*")+COUNTIF('Game 8'!$B$4:$G$4,"*"&$A23&"*")+COUNTIF('Game 9'!$B$4:$G$4,"*"&$A23&"*")+COUNTIF('Game 10'!$B$4:$G$4,"*"&$A23&"*")+COUNTIF('Game 11'!$B$4:$G$4,"*"&$A23&"*")+COUNTIF('Game 12'!$B$4:$G$4,"*"&$A23&"*")+COUNTIF('Game 13'!$B$4:$G$4,"*"&$A23&"*")+COUNTIF('Game 14'!$B$4:$G$4,"*"&$A23&"*")+COUNTIF('Game 15'!$B$4:$G$4,"*"&$A23&"*")+COUNTIF('Game 16'!$B$4:$G$4,"*"&$A23&"*") -> 0 | I23: =COUNTIF('Game 1'!$B$5:$G$5,"*"&$A23&"*")+COUNTIF('Game 2'!$B$5:$G$5,"*"&$A23&"*")+COUNTIF('Game 3'!$B$5:$G$5,"*"&$A23&"*")+COUNTIF('Game 4'!$B$5:$G$5,"*"&$A23&"*")+COUNTIF('Game 5'!$B$5:$G$5,"*"&$A23&"*")+COUNTIF('Game 6'!$B$5:$G$5,"*"&$A23&"*")+COUNTIF('Game 7'!$B$5:$G$5,"*"&$A23&"*")+COUNTIF('Game 8'!$B$5:$G$5,"*"&$A23&"*")+COUNTIF('Game 9'!$B$5:$G$5,"*"&$A23&"*")+COUNTIF('Game 10'!$B$5:$G$5,"*"&$A23&"*")+COUNTIF('Game 11'!$B$5:$G$5,"*"&$A23&"*")+COUNTIF('Game 12'!$B$5:$G$5,"*"&$A23&"*")+COUNTIF('Game 13'!$B$5:$G$5,"*"&$A23&"*")+COUNTIF('Game 14'!$B$5:$G$5,"*"&$A23&"*")+COUNTIF('Game 15'!$B$5:$G$5,"*"&$A23&"*")+COUNTIF('Game 16'!$B$5:$G$5,"*"&$A23&"*") -> 0 | J23: =COUNTIF('Game 1'!$B$6:$G$6,"*"&$A23&"*")+COUNTIF('Game 2'!$B$6:$G$6,"*"&$A23&"*")+COUNTIF('Game 3'!$B$6:$G$6,"*"&$A23&"*")+COUNTIF('Game 4'!$B$6:$G$6,"*"&$A23&"*")+COUNTIF('Game 5'!$B$6:$G$6,"*"&$A23&"*")+COUNTIF('Game 6'!$B$6:$G$6,"*"&$A23&"*")+COUNTIF('Game 7'!$B$6:$G$6,"*"&$A23&"*")+COUNTIF('Game 8'!$B$6:$G$6,"*"&$A23&"*")+COUNTIF('Game 9'!$B$6:$G$6,"*"&$A23&"*")+COUNTIF('Game 10'!$B$6:$G$6,"*"&$A23&"*")+COUNTIF('Game 11'!$B$6:$G$6,"*"&$A23&"*")+COUNTIF('Game 12'!$B$6:$G$6,"*"&$A23&"*")+COUNTIF('Game 13'!$B$6:$G$6,"*"&$A23&"*")+COUNTIF('Game 14'!$B$6:$G$6,"*"&$A23&"*")+COUNTIF('Game 15'!$B$6:$G$6,"*"&$A23&"*")+COUNTIF('Game 16'!$B$6:$G$6,"*"&$A23&"*") -> 0 | K23: =COUNTIF('Game 1'!$B$7:$G$7,"*"&$A23&"*")+COUNTIF('Game 2'!$B$7:$G$7,"*"&$A23&"*")+COUNTIF('Game 3'!$B$7:$G$7,"*"&$A23&"*")+COUNTIF('Game 4'!$B$7:$G$7,"*"&$A23&"*")+COUNTIF('Game 5'!$B$7:$G$7,"*"&$A23&"*")+COUNTIF('Game 6'!$B$7:$G$7,"*"&$A23&"*")+COUNTIF('Game 7'!$B$7:$G$7,"*"&$A23&"*")+COUNTIF('Game 8'!$B$7:$G$7,"*"&$A23&"*")+COUNTIF('Game 9'!$B$7:$G$7,"*"&$A23&"*")+COUNTIF('Game 10'!$B$7:$G$7,"*"&$A23&"*")+COUNTIF('Game 11'!$B$7:$G$7,"*"&$A23&"*")+COUNTIF('Game 12'!$B$7:$G$7,"*"&$A23&"*")+COUNTIF('Game 13'!$B$7:$G$7,"*"&$A23&"*")+COUNTIF('Game 14'!$B$7:$G$7,"*"&$A23&"*")+COUNTIF('Game 15'!$B$7:$G$7,"*"&$A23&"*")+COUNTIF('Game 16'!$B$7:$G$7,"*"&$A23&"*") -> 0 | L23: =COUNTIF('Game 1'!$B$14:$G$14,"*"&$A23&"*")+COUNTIF('Game 1'!$B$15:$G$15,"*"&$A23&"*")+COUNTIF('Game 1'!$B$16:$G$16,"*"&$A23&"*")+COUNTIF('Game 2'!$B$14:$G$14,"*"&$A23&"*")+COUNTIF('Game 2'!$B$15:$G$15,"*"&$A23&"*")+COUNTIF('Game 2'!$B$16:$G$16,"*"&$A23&"*")+COUNTIF('Game 3'!$B$14:$G$14,"*"&$A23&"*")+COUNTIF('Game 3'!$B$15:$G$15,"*"&$A23&"*")+COUNTIF('Game 3'!$B$16:$G$16,"*"&$A23&"*")+COUNTIF('Game 4'!$B$14:$G$14,"*"&$A23&"*")+COUNTIF('Game 4'!$B$15:$G$15,"*"&$A23&"*")+COUNTIF('Game 4'!$B$16:$G$16,"*"&$A23&"*")+COUNTIF('Game 5'!$B$14:$G$14,"*"&$A23&"*")+COUNTIF('Game 5'!$B$15:$G$15,"*"&$A23&"*")+COUNTIF('Game 5'!$B$16:$G$16,"*"&$A23&"*")+COUNTIF('Game 6'!$B$14:$G$14,"*"&$A23&"*")+COUNTIF('Game 6'!$B$15:$G$15,"*"&$A23&"*")+COUNTIF('Game 6'!$B$16:$G$16,"*"&$A23&"*")+COUNTIF('Game 7'!$B$14:$G$14,"*"&$A23&"*")+COUNTIF('Game 7'!$B$15:$G$15,"*"&$A23&"*")+COUNTIF('Game 7'!$B$16:$G$16,"*"&$A23&"*")+COUNTIF('Game 8'!$B$14:$G$14,"*"&$A23&"*")+COUNTIF('Game 8'!$B$15:$G$15,"*"&$A23&"*")+COUNTIF('Game 8'!$B$16:$G$16,"*"&$A23&"*")+COUNTIF('Game 9'!$B$14:$G$14,"*"&$A23&"*")+COUNTIF('Game 9'!$B$15:$G$15,"*"&$A23&"*")+COUNTIF('Game 9'!$B$16:$G$16,"*"&$A23&"*")+COUNTIF('Game 10'!$B$14:$G$14,"*"&$A23&"*")+COUNTIF('Game 10'!$B$15:$G$15,"*"&$A23&"*")+COUNTIF('Game 10'!$B$16:$G$16,"*"&$A23&"*")+COUNTIF('Game 11'!$B$14:$G$14,"*"&$A23&"*")+COUNTIF('Game 11'!$B$15:$G$15,"*"&$A23&"*")+COUNTIF('Game 11'!$B$16:$G$16,"*"&$A23&"*")+COUNTIF('Game 12'!$B$14:$G$14,"*"&$A23&"*")+COUNTIF('Game 12'!$B$15:$G$15,"*"&$A23&"*")+COUNTIF('Game 12'!$B$16:$G$16,"*"&$A23&"*")+COUNTIF('Game 13'!$B$14:$G$14,"*"&$A23&"*")+COUNTIF('Game 13'!$B$15:$G$15,"*"&$A23&"*")+COUNTIF('Game 13'!$B$16:$G$16,"*"&$A23&"*")+COUNTIF('Game 14'!$B$14:$G$14,"*"&$A23&"*")+COUNTIF('Game 14'!$B$15:$G$15,"*"&$A23&"*")+COUNTIF('Game 14'!$B$16:$G$16,"*"&$A23&"*")+COUNTIF('Game 15'!$B$14:$G$14,"*"&$A23&"*")+COUNTIF('Game 15'!$B$15:$G$15,"*"&$A23&"*")+COUNTIF('Game 15'!$B$16:$G$16,"*"&$A23&"*")+COUNTIF('Game 16'!$B$14:$G$14,"*"&$A23&"*")+COUNTIF('Game 16'!$B$15:$G$15,"*"&$A23&"*")+COUNTIF('Game 16'!$B$16:$G$16,"*"&$A23&"*") -> 0 | M23: =SUM(B23:G23) -> 0 | N23: =SUM(H23:K23) -> 0 | O23: =L23 -> 0 | P23: =SUM(M23:O23) -> 0 | Q23: =IF(P23=0,0,M23/P23) -> 0 | R23: =IF(P23=0,0,N23/P23) -> 0 | S23: =IF(P23=0,0,O23/P23) -> 0 | T23: =IF($U$18=0,0,P23/$U$18) -> 0 | V23: ='Game 1'!Z7+'Game 2'!Z7+'Game 3'!Z7+'Game 4'!Z7+'Game 5'!Z7+'Game 6'!Z7+'Game 7'!Z7+'Game 8'!Z7+'Game 9'!Z7+'Game 10'!Z7+'Game 11'!Z7+'Game 12'!Z7+'Game 13'!Z7+'Game 14'!Z7+'Game 15'!Z7+'Game 16'!Z7 -> 0 | W23: =COUNTIF('Game 1'!$J$5,"*"&$A23&"*")+COUNTIF('Game 2'!$J$5,"*"&$A23&"*")+COUNTIF('Game 3'!$J$5,"*"&$A23&"*")+COUNTIF('Game 4'!$J$5,"*"&$A23&"*")+COUNTIF('Game 5'!$J$5,"*"&$A23&"*")+COUNTIF('Game 6'!$J$5,"*"&$A23&"*")+COUNTIF('Game 7'!$J$5,"*"&$A23&"*")+COUNTIF('Game 8'!$J$5,"*"&$A23&"*")+COUNTIF('Game 9'!$J$5,"*"&$A23&"*")+COUNTIF('Game 10'!$J$5,"*"&$A23&"*")+COUNTIF('Game 11'!$J$5,"*"&$A23&"*")+COUNTIF('Game 12'!$J$5,"*"&$A23&"*")+COUNTIF('Game 13'!$J$5,"*"&$A23&"*")+COUNTIF('Game 14'!$J$5,"*"&$A23&"*")+COUNTIF('Game 15'!$J$5,"*"&$A23&"*")+COUNTIF('Game 16'!$J$5,"*"&$A23&"*") -> 0 | X23: =COUNTIF('Game 1'!$J$6,"*"&$A23&"*")+COUNTIF('Game 2'!$J$6,"*"&$A23&"*")+COUNTIF('Game 3'!$J$6,"*"&$A23&"*")+COUNTIF('Game 4'!$J$6,"*"&$A23&"*")+COUNTIF('Game 5'!$J$6,"*"&$A23&"*")+COUNTIF('Game 6'!$J$6,"*"&$A23&"*")+COUNTIF('Game 7'!$J$6,"*"&$A23&"*")+COUNTIF('Game 8'!$J$6,"*"&$A23&"*")+COUNTIF('Game 9'!$J$6,"*"&$A23&"*")+COUNTIF('Game 10'!$J$6,"*"&$A23&"*")+COUNTIF('Game 11'!$J$6,"*"&$A23&"*")+COUNTIF('Game 12'!$J$6,"*"&$A23&"*")+COUNTIF('Game 13'!$J$6,"*"&$A23&"*")+COUNTIF('Game 14'!$J$6,"*"&$A23&"*")+COUNTIF('Game 15'!$J$6,"*"&$A23&"*")+COUNTIF('Game 16'!$J$6,"*"&$A23&"*") -> 0 | Y23: =COUNTIF('Game 1'!$J$7,"*"&$A23&"*")+COUNTIF('Game 2'!$J$7,"*"&$A23&"*")+COUNTIF('Game 3'!$J$7,"*"&$A23&"*")+COUNTIF('Game 4'!$J$7,"*"&$A23&"*")+COUNTIF('Game 5'!$J$7,"*"&$A23&"*")+COUNTIF('Game 6'!$J$7,"*"&$A23&"*")+COUNTIF('Game 7'!$J$7,"*"&$A23&"*")+COUNTIF('Game 8'!$J$7,"*"&$A23&"*")+COUNTIF('Game 9'!$J$7,"*"&$A23&"*")+COUNTIF('Game 10'!$J$7,"*"&$A23&"*")+COUNTIF('Game 11'!$J$7,"*"&$A23&"*")+COUNTIF('Game 12'!$J$7,"*"&$A23&"*")+COUNTIF('Game 13'!$J$7,"*"&$A23&"*")+COUNTIF('Game 14'!$J$7,"*"&$A23&"*")+COUNTIF('Game 15'!$J$7,"*"&$A23&"*")+COUNTIF('Game 16'!$J$7,"*"&$A23&"*") -> 0 | Z23: =COUNTIF('Game 1'!$J$8,"*"&$A23&"*")+COUNTIF('Game 2'!$J$8,"*"&$A23&"*")+COUNTIF('Game 3'!$J$8,"*"&$A23&"*")+COUNTIF('Game 4'!$J$8,"*"&$A23&"*")+COUNTIF('Game 5'!$J$8,"*"&$A23&"*")+COUNTIF('Game 6'!$J$8,"*"&$A23&"*")+COUNTIF('Game 7'!$J$8,"*"&$A23&"*")+COUNTIF('Game 8'!$J$8,"*"&$A23&"*")+COUNTIF('Game 9'!$J$8,"*"&$A23&"*")+COUNTIF('Game 10'!$J$8,"*"&$A23&"*")+COUNTIF('Game 11'!$J$8,"*"&$A23&"*")+COUNTIF('Game 12'!$J$8,"*"&$A23&"*")+COUNTIF('Game 13'!$J$8,"*"&$A23&"*")+COUNTIF('Game 14'!$J$8,"*"&$A23&"*")+COUNTIF('Game 15'!$J$8,"*"&$A23&"*")+COUNTIF('Game 16'!$J$8,"*"&$A23&"*") -> 0 | AA23: =COUNTIF('Game 1'!$J$9,"*"&$A23&"*")+COUNTIF('Game 2'!$J$9,"*"&$A23&"*")+COUNTIF('Game 3'!$J$9,"*"&$A23&"*")+COUNTIF('Game 4'!$J$9,"*"&$A23&"*")+COUNTIF('Game 5'!$J$9,"*"&$A23&"*")+COUNTIF('Game 6'!$J$9,"*"&$A23&"*")+COUNTIF('Game 7'!$J$9,"*"&$A23&"*")+COUNTIF('Game 8'!$J$9,"*"&$A23&"*")+COUNTIF('Game 9'!$J$9,"*"&$A23&"*")+COUNTIF('Game 10'!$J$9,"*"&$A23&"*")+COUNTIF('Game 11'!$J$9,"*"&$A23&"*")+COUNTIF('Game 12'!$J$9,"*"&$A23&"*")+COUNTIF('Game 13'!$J$9,"*"&$A23&"*")+COUNTIF('Game 14'!$J$9,"*"&$A23&"*")+COUNTIF('Game 15'!$J$9,"*"&$A23&"*")+COUNTIF('Game 16'!$J$9,"*"&$A23&"*") -> 0 | AB23: =COUNTIF('Game 1'!$J$10,"*"&$A23&"*")+COUNTIF('Game 2'!$J$10,"*"&$A23&"*")+COUNTIF('Game 3'!$J$10,"*"&$A23&"*")+COUNTIF('Game 4'!$J$10,"*"&$A23&"*")+COUNTIF('Game 5'!$J$10,"*"&$A23&"*")+COUNTIF('Game 6'!$J$10,"*"&$A23&"*")+COUNTIF('Game 7'!$J$10,"*"&$A23&"*")+COUNTIF('Game 8'!$J$10,"*"&$A23&"*")+COUNTIF('Game 9'!$J$10,"*"&$A23&"*")+COUNTIF('Game 10'!$J$10,"*"&$A23&"*")+COUNTIF('Game 11'!$J$10,"*"&$A23&"*")+COUNTIF('Game 12'!$J$10,"*"&$A23&"*")+COUNTIF('Game 13'!$J$10,"*"&$A23&"*")+COUNTIF('Game 14'!$J$10,"*"&$A23&"*")+COUNTIF('Game 15'!$J$10,"*"&$A23&"*")+COUNTIF('Game 16'!$J$10,"*"&$A23&"*") -> 0 | AC23: =COUNTIF('Game 1'!$J$11,"*"&$A23&"*")+COUNTIF('Game 2'!$J$11,"*"&$A23&"*")+COUNTIF('Game 3'!$J$11,"*"&$A23&"*")+COUNTIF('Game 4'!$J$11,"*"&$A23&"*")+COUNTIF('Game 5'!$J$11,"*"&$A23&"*")+COUNTIF('Game 6'!$J$11,"*"&$A23&"*")+COUNTIF('Game 7'!$J$11,"*"&$A23&"*")+COUNTIF('Game 8'!$J$11,"*"&$A23&"*")+COUNTIF('Game 9'!$J$11,"*"&$A23&"*")+COUNTIF('Game 10'!$J$11,"*"&$A23&"*")+COUNTIF('Game 11'!$J$11,"*"&$A23&"*")+COUNTIF('Game 12'!$J$11,"*"&$A23&"*")+COUNTIF('Game 13'!$J$11,"*"&$A23&"*")+COUNTIF('Game 14'!$J$11,"*"&$A23&"*")+COUNTIF('Game 15'!$J$11,"*"&$A23&"*")+COUNTIF('Game 16'!$J$11,"*"&$A23&"*") -> 0 | AD23: =COUNTIF('Game 1'!$J$12,"*"&$A23&"*")+COUNTIF('Game 2'!$J$12,"*"&$A23&"*")+COUNTIF('Game 3'!$J$12,"*"&$A23&"*")+COUNTIF('Game 4'!$J$12,"*"&$A23&"*")+COUNTIF('Game 5'!$J$12,"*"&$A23&"*")+COUNTIF('Game 6'!$J$12,"*"&$A23&"*")+COUNTIF('Game 7'!$J$12,"*"&$A23&"*")+COUNTIF('Game 8'!$J$12,"*"&$A23&"*")+COUNTIF('Game 9'!$J$12,"*"&$A23&"*")+COUNTIF('Game 10'!$J$12,"*"&$A23&"*")+COUNTIF('Game 11'!$J$12,"*"&$A23&"*")+COUNTIF('Game 12'!$J$12,"*"&$A23&"*")+COUNTIF('Game 13'!$J$12,"*"&$A23&"*")+COUNTIF('Game 14'!$J$12,"*"&$A23&"*")+COUNTIF('Game 15'!$J$12,"*"&$A23&"*")+COUNTIF('Game 16'!$J$12,"*"&$A23&"*") -> 0 | AE23: =COUNTIF('Game 1'!$J$13,"*"&$A23&"*")+COUNTIF('Game 2'!$J$13,"*"&$A23&"*")+COUNTIF('Game 3'!$J$13,"*"&$A23&"*")+COUNTIF('Game 4'!$J$13,"*"&$A23&"*")+COUNTIF('Game 5'!$J$13,"*"&$A23&"*")+COUNTIF('Game 6'!$J$13,"*"&$A23&"*")+COUNTIF('Game 7'!$J$13,"*"&$A23&"*")+COUNTIF('Game 8'!$J$13,"*"&$A23&"*")+COUNTIF('Game 9'!$J$13,"*"&$A23&"*")+COUNTIF('Game 10'!$J$13,"*"&$A23&"*")+COUNTIF('Game 11'!$J$13,"*"&$A23&"*")+COUNTIF('Game 12'!$J$13,"*"&$A23&"*")+COUNTIF('Game 13'!$J$13,"*"&$A23&"*")+COUNTIF('Game 14'!$J$13,"*"&$A23&"*")+COUNTIF('Game 15'!$J$13,"*"&$A23&"*")+COUNTIF('Game 16'!$J$13,"*"&$A23&"*") -> 0 | AF23: =COUNTIF('Game 1'!$J$14,"*"&$A23&"*")+COUNTIF('Game 2'!$J$14,"*"&$A23&"*")+COUNTIF('Game 3'!$J$14,"*"&$A23&"*")+COUNTIF('Game 4'!$J$14,"*"&$A23&"*")+COUNTIF('Game 5'!$J$14,"*"&$A23&"*")+COUNTIF('Game 6'!$J$14,"*"&$A23&"*")+COUNTIF('Game 7'!$J$14,"*"&$A23&"*")+COUNTIF('Game 8'!$J$14,"*"&$A23&"*")+COUNTIF('Game 9'!$J$14,"*"&$A23&"*")+COUNTIF('Game 10'!$J$14,"*"&$A23&"*")+COUNTIF('Game 11'!$J$14,"*"&$A23&"*")+COUNTIF('Game 12'!$J$14,"*"&$A23&"*")+COUNTIF('Game 13'!$J$14,"*"&$A23&"*")+COUNTIF('Game 14'!$J$14,"*"&$A23&"*")+COUNTIF('Game 15'!$J$14,"*"&$A23&"*")+COUNTIF('Game 16'!$J$14,"*"&$A23&"*") -> 0 | AG23: =COUNTIF('Game 1'!$J$15,"*"&$A23&"*")+COUNTIF('Game 2'!$J$15,"*"&$A23&"*")+COUNTIF('Game 3'!$J$15,"*"&$A23&"*")+COUNTIF('Game 4'!$J$15,"*"&$A23&"*")+COUNTIF('Game 5'!$J$15,"*"&$A23&"*")+COUNTIF('Game 6'!$J$15,"*"&$A23&"*")+COUNTIF('Game 7'!$J$15,"*"&$A23&"*")+COUNTIF('Game 8'!$J$15,"*"&$A23&"*")+COUNTIF('Game 9'!$J$15,"*"&$A23&"*")+COUNTIF('Game 10'!$J$15,"*"&$A23&"*")+COUNTIF('Game 11'!$J$15,"*"&$A23&"*")+COUNTIF('Game 12'!$J$15,"*"&$A23&"*")+COUNTIF('Game 13'!$J$15,"*"&$A23&"*")+COUNTIF('Game 14'!$J$15,"*"&$A23&"*")+COUNTIF('Game 15'!$J$15,"*"&$A23&"*")+COUNTIF('Game 16'!$J$15,"*"&$A23&"*") -> 0 | AH23: =COUNTIF('Game 1'!$J$16,"*"&$A23&"*")+COUNTIF('Game 2'!$J$16,"*"&$A23&"*")+COUNTIF('Game 3'!$J$16,"*"&$A23&"*")+COUNTIF('Game 4'!$J$16,"*"&$A23&"*")+COUNTIF('Game 5'!$J$16,"*"&$A23&"*")+COUNTIF('Game 6'!$J$16,"*"&$A23&"*")+COUNTIF('Game 7'!$J$16,"*"&$A23&"*")+COUNTIF('Game 8'!$J$16,"*"&$A23&"*")+COUNTIF('Game 9'!$J$16,"*"&$A23&"*")+COUNTIF('Game 10'!$J$16,"*"&$A23&"*")+COUNTIF('Game 11'!$J$16,"*"&$A23&"*")+COUNTIF('Game 12'!$J$16,"*"&$A23&"*")+COUNTIF('Game 13'!$J$16,"*"&$A23&"*")+COUNTIF('Game 14'!$J$16,"*"&$A23&"*")+COUNTIF('Game 15'!$J$16,"*"&$A23&"*")+COUNTIF('Game 16'!$J$16,"*"&$A23&"*") -> 0 | AI23: =COUNTIF('Game 1'!$J$17,"*"&$A23&"*")+COUNTIF('Game 2'!$J$17,"*"&$A23&"*")+COUNTIF('Game 3'!$J$17,"*"&$A23&"*")+COUNTIF('Game 4'!$J$17,"*"&$A23&"*")+COUNTIF('Game 5'!$J$17,"*"&$A23&"*")+COUNTIF('Game 6'!$J$17,"*"&$A23&"*")+COUNTIF('Game 7'!$J$17,"*"&$A23&"*")+COUNTIF('Game 8'!$J$17,"*"&$A23&"*")+COUNTIF('Game 9'!$J$17,"*"&$A23&"*")+COUNTIF('Game 10'!$J$17,"*"&$A23&"*")+COUNTIF('Game 11'!$J$17,"*"&$A23&"*")+COUNTIF('Game 12'!$J$17,"*"&$A23&"*")+COUNTIF('Game 13'!$J$17,"*"&$A23&"*")+COUNTIF('Game 14'!$J$17,"*"&$A23&"*")+COUNTIF('Game 15'!$J$17,"*"&$A23&"*")+COUNTIF('Game 16'!$J$17,"*"&$A23&"*") -> 0 | AJ23: =COUNTIF('Game 1'!$L$15,"*"&$A23&"*")+COUNTIF('Game 2'!$L$15,"*"&$A23&"*")+COUNTIF('Game 3'!$L$15,"*"&$A23&"*")+COUNTIF('Game 4'!$L$15,"*"&$A23&"*")+COUNTIF('Game 5'!$L$15,"*"&$A23&"*")+COUNTIF('Game 6'!$L$15,"*"&$A23&"*")+COUNTIF('Game 7'!$L$15,"*"&$A23&"*")+COUNTIF('Game 8'!$L$15,"*"&$A23&"*")+COUNTIF('Game 9'!$L$15,"*"&$A23&"*")+COUNTIF('Game 10'!$L$15,"*"&$A23&"*")+COUNTIF('Game 11'!$L$15,"*"&$A23&"*")+COUNTIF('Game 12'!$L$15,"*"&$A23&"*")+COUNTIF('Game 13'!$L$15,"*"&$A23&"*")+COUNTIF('Game 14'!$L$15,"*"&$A23&"*")+COUNTIF('Game 15'!$L$15,"*"&$A23&"*")+COUNTIF('Game 16'!$L$15,"*"&$A23&"*") -> 0
A24: =A8 -> Player 7 | B24: =COUNTIF('Game 1'!$B$13:$G$13,"*"&$A24&"*")+COUNTIF('Game 2'!$B$13:$G$13,"*"&$A24&"*")+COUNTIF('Game 3'!$B$13:$G$13,"*"&$A24&"*")+COUNTIF('Game 4'!$B$13:$G$13,"*"&$A24&"*")+COUNTIF('Game 5'!$B$13:$G$13,"*"&$A24&"*")+COUNTIF('Game 6'!$B$13:$G$13,"*"&$A24&"*")+COUNTIF('Game 7'!$B$13:$G$13,"*"&$A24&"*")+COUNTIF('Game 8'!$B$13:$G$13,"*"&$A24&"*")+COUNTIF('Game 9'!$B$13:$G$13,"*"&$A24&"*")+COUNTIF('Game 10'!$B$13:$G$13,"*"&$A24&"*")+COUNTIF('Game 11'!$B$13:$G$13,"*"&$A24&"*")+COUNTIF('Game 12'!$B$13:$G$13,"*"&$A24&"*")+COUNTIF('Game 13'!$B$13:$G$13,"*"&$A24&"*")+COUNTIF('Game 14'!$B$13:$G$13,"*"&$A24&"*")+COUNTIF('Game 15'!$B$13:$G$13,"*"&$A24&"*")+COUNTIF('Game 16'!$B$13:$G$13,"*"&$A24&"*") -> 0 | C24: =COUNTIF('Game 1'!$B$12:$G$12,"*"&$A24&"*")+COUNTIF('Game 2'!$B$12:$G$12,"*"&$A24&"*")+COUNTIF('Game 3'!$B$12:$G$12,"*"&$A24&"*")+COUNTIF('Game 4'!$B$12:$G$12,"*"&$A24&"*")+COUNTIF('Game 5'!$B$12:$G$12,"*"&$A24&"*")+COUNTIF('Game 6'!$B$12:$G$12,"*"&$A24&"*")+COUNTIF('Game 7'!$B$12:$G$12,"*"&$A24&"*")+COUNTIF('Game 8'!$B$12:$G$12,"*"&$A24&"*")+COUNTIF('Game 9'!$B$12:$G$12,"*"&$A24&"*")+COUNTIF('Game 10'!$B$12:$G$12,"*"&$A24&"*")+COUNTIF('Game 11'!$B$12:$G$12,"*"&$A24&"*")+COUNTIF('Game 12'!$B$12:$G$12,"*"&$A24&"*")+COUNTIF('Game 13'!$B$12:$G$12,"*"&$A24&"*")+COUNTIF('Game 14'!$B$12:$G$12,"*"&$A24&"*")+COUNTIF('Game 15'!$B$12:$G$12,"*"&$A24&"*")+COUNTIF('Game 16'!$B$12:$G$12,"*"&$A24&"*") -> 0 | D24: =COUNTIF('Game 1'!$B$11:$G$11,"*"&$A24&"*")+COUNTIF('Game 2'!$B$11:$G$11,"*"&$A24&"*")+COUNTIF('Game 3'!$B$11:$G$11,"*"&$A24&"*")+COUNTIF('Game 4'!$B$11:$G$11,"*"&$A24&"*")+COUNTIF('Game 5'!$B$11:$G$11,"*"&$A24&"*")+COUNTIF('Game 6'!$B$11:$G$11,"*"&$A24&"*")+COUNTIF('Game 7'!$B$11:$G$11,"*"&$A24&"*")+COUNTIF('Game 8'!$B$11:$G$11,"*"&$A24&"*")+COUNTIF('Game 9'!$B$11:$G$11,"*"&$A24&"*")+COUNTIF('Game 10'!$B$11:$G$11,"*"&$A24&"*")+COUNTIF('Game 11'!$B$11:$G$11,"*"&$A24&"*")+COUNTIF('Game 12'!$B$11:$G$11,"*"&$A24&"*")+COUNTIF('Game 13'!$B$11:$G$11,"*"&$A24&"*")+COUNTIF('Game 14'!$B$11:$G$11,"*"&$A24&"*")+COUNTIF('Game 15'!$B$11:$G$11,"*"&$A24&"*")+COUNTIF('Game 16'!$B$11:$G$11,"*"&$A24&"*") -> 0 | E24: =COUNTIF('Game 1'!$B$10:$G$10,"*"&$A24&"*")+COUNTIF('Game 2'!$B$10:$G$10,"*"&$A24&"*")+COUNTIF('Game 3'!$B$10:$G$10,"*"&$A24&"*")+COUNTIF('Game 4'!$B$10:$G$10,"*"&$A24&"*")+COUNTIF('Game 5'!$B$10:$G$10,"*"&$A24&"*")+COUNTIF('Game 6'!$B$10:$G$10,"*"&$A24&"*")+COUNTIF('Game 7'!$B$10:$G$10,"*"&$A24&"*")+COUNTIF('Game 8'!$B$10:$G$10,"*"&$A24&"*")+COUNTIF('Game 9'!$B$10:$G$10,"*"&$A24&"*")+COUNTIF('Game 10'!$B$10:$G$10,"*"&$A24&"*")+COUNTIF('Game 11'!$B$10:$G$10,"*"&$A24&"*")+COUNTIF('Game 12'!$B$10:$G$10,"*"&$A24&"*")+COUNTIF('Game 13'!$B$10:$G$10,"*"&$A24&"*")+COUNTIF('Game 14'!$B$10:$G$10,"*"&$A24&"*")+COUNTIF('Game 15'!$B$10:$G$10,"*"&$A24&"*")+COUNTIF('Game 16'!$B$10:$G$10,"*"&$A24&"*") -> 0 | F24: =COUNTIF('Game 1'!$B$9:$G$9,"*"&$A24&"*")+COUNTIF('Game 2'!$B$9:$G$9,"*"&$A24&"*")+COUNTIF('Game 3'!$B$9:$G$9,"*"&$A24&"*")+COUNTIF('Game 4'!$B$9:$G$9,"*"&$A24&"*")+COUNTIF('Game 5'!$B$9:$G$9,"*"&$A24&"*")+COUNTIF('Game 6'!$B$9:$G$9,"*"&$A24&"*")+COUNTIF('Game 7'!$B$9:$G$9,"*"&$A24&"*")+COUNTIF('Game 8'!$B$9:$G$9,"*"&$A24&"*")+COUNTIF('Game 9'!$B$9:$G$9,"*"&$A24&"*")+COUNTIF('Game 10'!$B$9:$G$9,"*"&$A24&"*")+COUNTIF('Game 11'!$B$9:$G$9,"*"&$A24&"*")+COUNTIF('Game 12'!$B$9:$G$9,"*"&$A24&"*")+COUNTIF('Game 13'!$B$9:$G$9,"*"&$A24&"*")+COUNTIF('Game 14'!$B$9:$G$9,"*"&$A24&"*")+COUNTIF('Game 15'!$B$9:$G$9,"*"&$A24&"*")+COUNTIF('Game 16'!$B$9:$G$9,"*"&$A24&"*") -> 0 | G24: =COUNTIF('Game 1'!$B$8:$G$8,"*"&$A24&"*")+COUNTIF('Game 2'!$B$8:$G$8,"*"&$A24&"*")+COUNTIF('Game 3'!$B$8:$G$8,"*"&$A24&"*")+COUNTIF('Game 4'!$B$8:$G$8,"*"&$A24&"*")+COUNTIF('Game 5'!$B$8:$G$8,"*"&$A24&"*")+COUNTIF('Game 6'!$B$8:$G$8,"*"&$A24&"*")+COUNTIF('Game 7'!$B$8:$G$8,"*"&$A24&"*")+COUNTIF('Game 8'!$B$8:$G$8,"*"&$A24&"*")+COUNTIF('Game 9'!$B$8:$G$8,"*"&$A24&"*")+COUNTIF('Game 10'!$B$8:$G$8,"*"&$A24&"*")+COUNTIF('Game 11'!$B$8:$G$8,"*"&$A24&"*")+COUNTIF('Game 12'!$B$8:$G$8,"*"&$A24&"*")+COUNTIF('Game 13'!$B$8:$G$8,"*"&$A24&"*")+COUNTIF('Game 14'!$B$8:$G$8,"*"&$A24&"*")+COUNTIF('Game 15'!$B$8:$G$8,"*"&$A24&"*")+COUNTIF('Game 16'!$B$8:$G$8,"*"&$A24&"*") -> 0 | H24: =COUNTIF('Game 1'!$B$4:$G$4,"*"&$A24&"*")+COUNTIF('Game 2'!$B$4:$G$4,"*"&$A24&"*")+COUNTIF('Game 3'!$B$4:$G$4,"*"&$A24&"*")+COUNTIF('Game 4'!$B$4:$G$4,"*"&$A24&"*")+COUNTIF('Game 5'!$B$4:$G$4,"*"&$A24&"*")+COUNTIF('Game 6'!$B$4:$G$4,"*"&$A24&"*")+COUNTIF('Game 7'!$B$4:$G$4,"*"&$A24&"*")+COUNTIF('Game 8'!$B$4:$G$4,"*"&$A24&"*")+COUNTIF('Game 9'!$B$4:$G$4,"*"&$A24&"*")+COUNTIF('Game 10'!$B$4:$G$4,"*"&$A24&"*")+COUNTIF('Game 11'!$B$4:$G$4,"*"&$A24&"*")+COUNTIF('Game 12'!$B$4:$G$4,"*"&$A24&"*")+COUNTIF('Game 13'!$B$4:$G$4,"*"&$A24&"*")+COUNTIF('Game 14'!$B$4:$G$4,"*"&$A24&"*")+COUNTIF('Game 15'!$B$4:$G$4,"*"&$A24&"*")+COUNTIF('Game 16'!$B$4:$G$4,"*"&$A24&"*") -> 0 | I24: =COUNTIF('Game 1'!$B$5:$G$5,"*"&$A24&"*")+COUNTIF('Game 2'!$B$5:$G$5,"*"&$A24&"*")+COUNTIF('Game 3'!$B$5:$G$5,"*"&$A24&"*")+COUNTIF('Game 4'!$B$5:$G$5,"*"&$A24&"*")+COUNTIF('Game 5'!$B$5:$G$5,"*"&$A24&"*")+COUNTIF('Game 6'!$B$5:$G$5,"*"&$A24&"*")+COUNTIF('Game 7'!$B$5:$G$5,"*"&$A24&"*")+COUNTIF('Game 8'!$B$5:$G$5,"*"&$A24&"*")+COUNTIF('Game 9'!$B$5:$G$5,"*"&$A24&"*")+COUNTIF('Game 10'!$B$5:$G$5,"*"&$A24&"*")+COUNTIF('Game 11'!$B$5:$G$5,"*"&$A24&"*")+COUNTIF('Game 12'!$B$5:$G$5,"*"&$A24&"*")+COUNTIF('Game 13'!$B$5:$G$5,"*"&$A24&"*")+COUNTIF('Game 14'!$B$5:$G$5,"*"&$A24&"*")+COUNTIF('Game 15'!$B$5:$G$5,"*"&$A24&"*")+COUNTIF('Game 16'!$B$5:$G$5,"*"&$A24&"*") -> 0 | J24: =COUNTIF('Game 1'!$B$6:$G$6,"*"&$A24&"*")+COUNTIF('Game 2'!$B$6:$G$6,"*"&$A24&"*")+COUNTIF('Game 3'!$B$6:$G$6,"*"&$A24&"*")+COUNTIF('Game 4'!$B$6:$G$6,"*"&$A24&"*")+COUNTIF('Game 5'!$B$6:$G$6,"*"&$A24&"*")+COUNTIF('Game 6'!$B$6:$G$6,"*"&$A24&"*")+COUNTIF('Game 7'!$B$6:$G$6,"*"&$A24&"*")+COUNTIF('Game 8'!$B$6:$G$6,"*"&$A24&"*")+COUNTIF('Game 9'!$B$6:$G$6,"*"&$A24&"*")+COUNTIF('Game 10'!$B$6:$G$6,"*"&$A24&"*")+COUNTIF('Game 11'!$B$6:$G$6,"*"&$A24&"*")+COUNTIF('Game 12'!$B$6:$G$6,"*"&$A24&"*")+COUNTIF('Game 13'!$B$6:$G$6,"*"&$A24&"*")+COUNTIF('Game 14'!$B$6:$G$6,"*"&$A24&"*")+COUNTIF('Game 15'!$B$6:$G$6,"*"&$A24&"*")+COUNTIF('Game 16'!$B$6:$G$6,"*"&$A24&"*") -> 0 | K24: =COUNTIF('Game 1'!$B$7:$G$7,"*"&$A24&"*")+COUNTIF('Game 2'!$B$7:$G$7,"*"&$A24&"*")+COUNTIF('Game 3'!$B$7:$G$7,"*"&$A24&"*")+COUNTIF('Game 4'!$B$7:$G$7,"*"&$A24&"*")+COUNTIF('Game 5'!$B$7:$G$7,"*"&$A24&"*")+COUNTIF('Game 6'!$B$7:$G$7,"*"&$A24&"*")+COUNTIF('Game 7'!$B$7:$G$7,"*"&$A24&"*")+COUNTIF('Game 8'!$B$7:$G$7,"*"&$A24&"*")+COUNTIF('Game 9'!$B$7:$G$7,"*"&$A24&"*")+COUNTIF('Game 10'!$B$7:$G$7,"*"&$A24&"*")+COUNTIF('Game 11'!$B$7:$G$7,"*"&$A24&"*")+COUNTIF('Game 12'!$B$7:$G$7,"*"&$A24&"*")+COUNTIF('Game 13'!$B$7:$G$7,"*"&$A24&"*")+COUNTIF('Game 14'!$B$7:$G$7,"*"&$A24&"*")+COUNTIF('Game 15'!$B$7:$G$7,"*"&$A24&"*")+COUNTIF('Game 16'!$B$7:$G$7,"*"&$A24&"*") -> 0 | L24: =COUNTIF('Game 1'!$B$14:$G$14,"*"&$A24&"*")+COUNTIF('Game 1'!$B$15:$G$15,"*"&$A24&"*")+COUNTIF('Game 1'!$B$16:$G$16,"*"&$A24&"*")+COUNTIF('Game 2'!$B$14:$G$14,"*"&$A24&"*")+COUNTIF('Game 2'!$B$15:$G$15,"*"&$A24&"*")+COUNTIF('Game 2'!$B$16:$G$16,"*"&$A24&"*")+COUNTIF('Game 3'!$B$14:$G$14,"*"&$A24&"*")+COUNTIF('Game 3'!$B$15:$G$15,"*"&$A24&"*")+COUNTIF('Game 3'!$B$16:$G$16,"*"&$A24&"*")+COUNTIF('Game 4'!$B$14:$G$14,"*"&$A24&"*")+COUNTIF('Game 4'!$B$15:$G$15,"*"&$A24&"*")+COUNTIF('Game 4'!$B$16:$G$16,"*"&$A24&"*")+COUNTIF('Game 5'!$B$14:$G$14,"*"&$A24&"*")+COUNTIF('Game 5'!$B$15:$G$15,"*"&$A24&"*")+COUNTIF('Game 5'!$B$16:$G$16,"*"&$A24&"*")+COUNTIF('Game 6'!$B$14:$G$14,"*"&$A24&"*")+COUNTIF('Game 6'!$B$15:$G$15,"*"&$A24&"*")+COUNTIF('Game 6'!$B$16:$G$16,"*"&$A24&"*")+COUNTIF('Game 7'!$B$14:$G$14,"*"&$A24&"*")+COUNTIF('Game 7'!$B$15:$G$15,"*"&$A24&"*")+COUNTIF('Game 7'!$B$16:$G$16,"*"&$A24&"*")+COUNTIF('Game 8'!$B$14:$G$14,"*"&$A24&"*")+COUNTIF('Game 8'!$B$15:$G$15,"*"&$A24&"*")+COUNTIF('Game 8'!$B$16:$G$16,"*"&$A24&"*")+COUNTIF('Game 9'!$B$14:$G$14,"*"&$A24&"*")+COUNTIF('Game 9'!$B$15:$G$15,"*"&$A24&"*")+COUNTIF('Game 9'!$B$16:$G$16,"*"&$A24&"*")+COUNTIF('Game 10'!$B$14:$G$14,"*"&$A24&"*")+COUNTIF('Game 10'!$B$15:$G$15,"*"&$A24&"*")+COUNTIF('Game 10'!$B$16:$G$16,"*"&$A24&"*")+COUNTIF('Game 11'!$B$14:$G$14,"*"&$A24&"*")+COUNTIF('Game 11'!$B$15:$G$15,"*"&$A24&"*")+COUNTIF('Game 11'!$B$16:$G$16,"*"&$A24&"*")+COUNTIF('Game 12'!$B$14:$G$14,"*"&$A24&"*")+COUNTIF('Game 12'!$B$15:$G$15,"*"&$A24&"*")+COUNTIF('Game 12'!$B$16:$G$16,"*"&$A24&"*")+COUNTIF('Game 13'!$B$14:$G$14,"*"&$A24&"*")+COUNTIF('Game 13'!$B$15:$G$15,"*"&$A24&"*")+COUNTIF('Game 13'!$B$16:$G$16,"*"&$A24&"*")+COUNTIF('Game 14'!$B$14:$G$14,"*"&$A24&"*")+COUNTIF('Game 14'!$B$15:$G$15,"*"&$A24&"*")+COUNTIF('Game 14'!$B$16:$G$16,"*"&$A24&"*")+COUNTIF('Game 15'!$B$14:$G$14,"*"&$A24&"*")+COUNTIF('Game 15'!$B$15:$G$15,"*"&$A24&"*")+COUNTIF('Game 15'!$B$16:$G$16,"*"&$A24&"*")+COUNTIF('Game 16'!$B$14:$G$14,"*"&$A24&"*")+COUNTIF('Game 16'!$B$15:$G$15,"*"&$A24&"*")+COUNTIF('Game 16'!$B$16:$G$16,"*"&$A24&"*") -> 0 | M24: =SUM(B24:G24) -> 0 | N24: =SUM(H24:K24) -> 0 | O24: =L24 -> 0 | P24: =SUM(M24:O24) -> 0 | Q24: =IF(P24=0,0,M24/P24) -> 0 | R24: =IF(P24=0,0,N24/P24) -> 0 | S24: =IF(P24=0,0,O24/P24) -> 0 | T24: =IF($U$18=0,0,P24/$U$18) -> 0 | V24: ='Game 1'!Z8+'Game 2'!Z8+'Game 3'!Z8+'Game 4'!Z8+'Game 5'!Z8+'Game 6'!Z8+'Game 7'!Z8+'Game 8'!Z8+'Game 9'!Z8+'Game 10'!Z8+'Game 11'!Z8+'Game 12'!Z8+'Game 13'!Z8+'Game 14'!Z8+'Game 15'!Z8+'Game 16'!Z8 -> 0 | W24: =COUNTIF('Game 1'!$J$5,"*"&$A24&"*")+COUNTIF('Game 2'!$J$5,"*"&$A24&"*")+COUNTIF('Game 3'!$J$5,"*"&$A24&"*")+COUNTIF('Game 4'!$J$5,"*"&$A24&"*")+COUNTIF('Game 5'!$J$5,"*"&$A24&"*")+COUNTIF('Game 6'!$J$5,"*"&$A24&"*")+COUNTIF('Game 7'!$J$5,"*"&$A24&"*")+COUNTIF('Game 8'!$J$5,"*"&$A24&"*")+COUNTIF('Game 9'!$J$5,"*"&$A24&"*")+COUNTIF('Game 10'!$J$5,"*"&$A24&"*")+COUNTIF('Game 11'!$J$5,"*"&$A24&"*")+COUNTIF('Game 12'!$J$5,"*"&$A24&"*")+COUNTIF('Game 13'!$J$5,"*"&$A24&"*")+COUNTIF('Game 14'!$J$5,"*"&$A24&"*")+COUNTIF('Game 15'!$J$5,"*"&$A24&"*")+COUNTIF('Game 16'!$J$5,"*"&$A24&"*") -> 0 | X24: =COUNTIF('Game 1'!$J$6,"*"&$A24&"*")+COUNTIF('Game 2'!$J$6,"*"&$A24&"*")+COUNTIF('Game 3'!$J$6,"*"&$A24&"*")+COUNTIF('Game 4'!$J$6,"*"&$A24&"*")+COUNTIF('Game 5'!$J$6,"*"&$A24&"*")+COUNTIF('Game 6'!$J$6,"*"&$A24&"*")+COUNTIF('Game 7'!$J$6,"*"&$A24&"*")+COUNTIF('Game 8'!$J$6,"*"&$A24&"*")+COUNTIF('Game 9'!$J$6,"*"&$A24&"*")+COUNTIF('Game 10'!$J$6,"*"&$A24&"*")+COUNTIF('Game 11'!$J$6,"*"&$A24&"*")+COUNTIF('Game 12'!$J$6,"*"&$A24&"*")+COUNTIF('Game 13'!$J$6,"*"&$A24&"*")+COUNTIF('Game 14'!$J$6,"*"&$A24&"*")+COUNTIF('Game 15'!$J$6,"*"&$A24&"*")+COUNTIF('Game 16'!$J$6,"*"&$A24&"*") -> 0 | Y24: =COUNTIF('Game 1'!$J$7,"*"&$A24&"*")+COUNTIF('Game 2'!$J$7,"*"&$A24&"*")+COUNTIF('Game 3'!$J$7,"*"&$A24&"*")+COUNTIF('Game 4'!$J$7,"*"&$A24&"*")+COUNTIF('Game 5'!$J$7,"*"&$A24&"*")+COUNTIF('Game 6'!$J$7,"*"&$A24&"*")+COUNTIF('Game 7'!$J$7,"*"&$A24&"*")+COUNTIF('Game 8'!$J$7,"*"&$A24&"*")+COUNTIF('Game 9'!$J$7,"*"&$A24&"*")+COUNTIF('Game 10'!$J$7,"*"&$A24&"*")+COUNTIF('Game 11'!$J$7,"*"&$A24&"*")+COUNTIF('Game 12'!$J$7,"*"&$A24&"*")+COUNTIF('Game 13'!$J$7,"*"&$A24&"*")+COUNTIF('Game 14'!$J$7,"*"&$A24&"*")+COUNTIF('Game 15'!$J$7,"*"&$A24&"*")+COUNTIF('Game 16'!$J$7,"*"&$A24&"*") -> 0 | Z24: =COUNTIF('Game 1'!$J$8,"*"&$A24&"*")+COUNTIF('Game 2'!$J$8,"*"&$A24&"*")+COUNTIF('Game 3'!$J$8,"*"&$A24&"*")+COUNTIF('Game 4'!$J$8,"*"&$A24&"*")+COUNTIF('Game 5'!$J$8,"*"&$A24&"*")+COUNTIF('Game 6'!$J$8,"*"&$A24&"*")+COUNTIF('Game 7'!$J$8,"*"&$A24&"*")+COUNTIF('Game 8'!$J$8,"*"&$A24&"*")+COUNTIF('Game 9'!$J$8,"*"&$A24&"*")+COUNTIF('Game 10'!$J$8,"*"&$A24&"*")+COUNTIF('Game 11'!$J$8,"*"&$A24&"*")+COUNTIF('Game 12'!$J$8,"*"&$A24&"*")+COUNTIF('Game 13'!$J$8,"*"&$A24&"*")+COUNTIF('Game 14'!$J$8,"*"&$A24&"*")+COUNTIF('Game 15'!$J$8,"*"&$A24&"*")+COUNTIF('Game 16'!$J$8,"*"&$A24&"*") -> 0 | AA24: =COUNTIF('Game 1'!$J$9,"*"&$A24&"*")+COUNTIF('Game 2'!$J$9,"*"&$A24&"*")+COUNTIF('Game 3'!$J$9,"*"&$A24&"*")+COUNTIF('Game 4'!$J$9,"*"&$A24&"*")+COUNTIF('Game 5'!$J$9,"*"&$A24&"*")+COUNTIF('Game 6'!$J$9,"*"&$A24&"*")+COUNTIF('Game 7'!$J$9,"*"&$A24&"*")+COUNTIF('Game 8'!$J$9,"*"&$A24&"*")+COUNTIF('Game 9'!$J$9,"*"&$A24&"*")+COUNTIF('Game 10'!$J$9,"*"&$A24&"*")+COUNTIF('Game 11'!$J$9,"*"&$A24&"*")+COUNTIF('Game 12'!$J$9,"*"&$A24&"*")+COUNTIF('Game 13'!$J$9,"*"&$A24&"*")+COUNTIF('Game 14'!$J$9,"*"&$A24&"*")+COUNTIF('Game 15'!$J$9,"*"&$A24&"*")+COUNTIF('Game 16'!$J$9,"*"&$A24&"*") -> 0 | AB24: =COUNTIF('Game 1'!$J$10,"*"&$A24&"*")+COUNTIF('Game 2'!$J$10,"*"&$A24&"*")+COUNTIF('Game 3'!$J$10,"*"&$A24&"*")+COUNTIF('Game 4'!$J$10,"*"&$A24&"*")+COUNTIF('Game 5'!$J$10,"*"&$A24&"*")+COUNTIF('Game 6'!$J$10,"*"&$A24&"*")+COUNTIF('Game 7'!$J$10,"*"&$A24&"*")+COUNTIF('Game 8'!$J$10,"*"&$A24&"*")+COUNTIF('Game 9'!$J$10,"*"&$A24&"*")+COUNTIF('Game 10'!$J$10,"*"&$A24&"*")+COUNTIF('Game 11'!$J$10,"*"&$A24&"*")+COUNTIF('Game 12'!$J$10,"*"&$A24&"*")+COUNTIF('Game 13'!$J$10,"*"&$A24&"*")+COUNTIF('Game 14'!$J$10,"*"&$A24&"*")+COUNTIF('Game 15'!$J$10,"*"&$A24&"*")+COUNTIF('Game 16'!$J$10,"*"&$A24&"*") -> 0 | AC24: =COUNTIF('Game 1'!$J$11,"*"&$A24&"*")+COUNTIF('Game 2'!$J$11,"*"&$A24&"*")+COUNTIF('Game 3'!$J$11,"*"&$A24&"*")+COUNTIF('Game 4'!$J$11,"*"&$A24&"*")+COUNTIF('Game 5'!$J$11,"*"&$A24&"*")+COUNTIF('Game 6'!$J$11,"*"&$A24&"*")+COUNTIF('Game 7'!$J$11,"*"&$A24&"*")+COUNTIF('Game 8'!$J$11,"*"&$A24&"*")+COUNTIF('Game 9'!$J$11,"*"&$A24&"*")+COUNTIF('Game 10'!$J$11,"*"&$A24&"*")+COUNTIF('Game 11'!$J$11,"*"&$A24&"*")+COUNTIF('Game 12'!$J$11,"*"&$A24&"*")+COUNTIF('Game 13'!$J$11,"*"&$A24&"*")+COUNTIF('Game 14'!$J$11,"*"&$A24&"*")+COUNTIF('Game 15'!$J$11,"*"&$A24&"*")+COUNTIF('Game 16'!$J$11,"*"&$A24&"*") -> 0 | AD24: =COUNTIF('Game 1'!$J$12,"*"&$A24&"*")+COUNTIF('Game 2'!$J$12,"*"&$A24&"*")+COUNTIF('Game 3'!$J$12,"*"&$A24&"*")+COUNTIF('Game 4'!$J$12,"*"&$A24&"*")+COUNTIF('Game 5'!$J$12,"*"&$A24&"*")+COUNTIF('Game 6'!$J$12,"*"&$A24&"*")+COUNTIF('Game 7'!$J$12,"*"&$A24&"*")+COUNTIF('Game 8'!$J$12,"*"&$A24&"*")+COUNTIF('Game 9'!$J$12,"*"&$A24&"*")+COUNTIF('Game 10'!$J$12,"*"&$A24&"*")+COUNTIF('Game 11'!$J$12,"*"&$A24&"*")+COUNTIF('Game 12'!$J$12,"*"&$A24&"*")+COUNTIF('Game 13'!$J$12,"*"&$A24&"*")+COUNTIF('Game 14'!$J$12,"*"&$A24&"*")+COUNTIF('Game 15'!$J$12,"*"&$A24&"*")+COUNTIF('Game 16'!$J$12,"*"&$A24&"*") -> 0 | AE24: =COUNTIF('Game 1'!$J$13,"*"&$A24&"*")+COUNTIF('Game 2'!$J$13,"*"&$A24&"*")+COUNTIF('Game 3'!$J$13,"*"&$A24&"*")+COUNTIF('Game 4'!$J$13,"*"&$A24&"*")+COUNTIF('Game 5'!$J$13,"*"&$A24&"*")+COUNTIF('Game 6'!$J$13,"*"&$A24&"*")+COUNTIF('Game 7'!$J$13,"*"&$A24&"*")+COUNTIF('Game 8'!$J$13,"*"&$A24&"*")+COUNTIF('Game 9'!$J$13,"*"&$A24&"*")+COUNTIF('Game 10'!$J$13,"*"&$A24&"*")+COUNTIF('Game 11'!$J$13,"*"&$A24&"*")+COUNTIF('Game 12'!$J$13,"*"&$A24&"*")+COUNTIF('Game 13'!$J$13,"*"&$A24&"*")+COUNTIF('Game 14'!$J$13,"*"&$A24&"*")+COUNTIF('Game 15'!$J$13,"*"&$A24&"*")+COUNTIF('Game 16'!$J$13,"*"&$A24&"*") -> 0 | AF24: =COUNTIF('Game 1'!$J$14,"*"&$A24&"*")+COUNTIF('Game 2'!$J$14,"*"&$A24&"*")+COUNTIF('Game 3'!$J$14,"*"&$A24&"*")+COUNTIF('Game 4'!$J$14,"*"&$A24&"*")+COUNTIF('Game 5'!$J$14,"*"&$A24&"*")+COUNTIF('Game 6'!$J$14,"*"&$A24&"*")+COUNTIF('Game 7'!$J$14,"*"&$A24&"*")+COUNTIF('Game 8'!$J$14,"*"&$A24&"*")+COUNTIF('Game 9'!$J$14,"*"&$A24&"*")+COUNTIF('Game 10'!$J$14,"*"&$A24&"*")+COUNTIF('Game 11'!$J$14,"*"&$A24&"*")+COUNTIF('Game 12'!$J$14,"*"&$A24&"*")+COUNTIF('Game 13'!$J$14,"*"&$A24&"*")+COUNTIF('Game 14'!$J$14,"*"&$A24&"*")+COUNTIF('Game 15'!$J$14,"*"&$A24&"*")+COUNTIF('Game 16'!$J$14,"*"&$A24&"*") -> 0 | AG24: =COUNTIF('Game 1'!$J$15,"*"&$A24&"*")+COUNTIF('Game 2'!$J$15,"*"&$A24&"*")+COUNTIF('Game 3'!$J$15,"*"&$A24&"*")+COUNTIF('Game 4'!$J$15,"*"&$A24&"*")+COUNTIF('Game 5'!$J$15,"*"&$A24&"*")+COUNTIF('Game 6'!$J$15,"*"&$A24&"*")+COUNTIF('Game 7'!$J$15,"*"&$A24&"*")+COUNTIF('Game 8'!$J$15,"*"&$A24&"*")+COUNTIF('Game 9'!$J$15,"*"&$A24&"*")+COUNTIF('Game 10'!$J$15,"*"&$A24&"*")+COUNTIF('Game 11'!$J$15,"*"&$A24&"*")+COUNTIF('Game 12'!$J$15,"*"&$A24&"*")+COUNTIF('Game 13'!$J$15,"*"&$A24&"*")+COUNTIF('Game 14'!$J$15,"*"&$A24&"*")+COUNTIF('Game 15'!$J$15,"*"&$A24&"*")+COUNTIF('Game 16'!$J$15,"*"&$A24&"*") -> 0 | AH24: =COUNTIF('Game 1'!$J$16,"*"&$A24&"*")+COUNTIF('Game 2'!$J$16,"*"&$A24&"*")+COUNTIF('Game 3'!$J$16,"*"&$A24&"*")+COUNTIF('Game 4'!$J$16,"*"&$A24&"*")+COUNTIF('Game 5'!$J$16,"*"&$A24&"*")+COUNTIF('Game 6'!$J$16,"*"&$A24&"*")+COUNTIF('Game 7'!$J$16,"*"&$A24&"*")+COUNTIF('Game 8'!$J$16,"*"&$A24&"*")+COUNTIF('Game 9'!$J$16,"*"&$A24&"*")+COUNTIF('Game 10'!$J$16,"*"&$A24&"*")+COUNTIF('Game 11'!$J$16,"*"&$A24&"*")+COUNTIF('Game 12'!$J$16,"*"&$A24&"*")+COUNTIF('Game 13'!$J$16,"*"&$A24&"*")+COUNTIF('Game 14'!$J$16,"*"&$A24&"*")+COUNTIF('Game 15'!$J$16,"*"&$A24&"*")+COUNTIF('Game 16'!$J$16,"*"&$A24&"*") -> 0 | AI24: =COUNTIF('Game 1'!$J$17,"*"&$A24&"*")+COUNTIF('Game 2'!$J$17,"*"&$A24&"*")+COUNTIF('Game 3'!$J$17,"*"&$A24&"*")+COUNTIF('Game 4'!$J$17,"*"&$A24&"*")+COUNTIF('Game 5'!$J$17,"*"&$A24&"*")+COUNTIF('Game 6'!$J$17,"*"&$A24&"*")+COUNTIF('Game 7'!$J$17,"*"&$A24&"*")+COUNTIF('Game 8'!$J$17,"*"&$A24&"*")+COUNTIF('Game 9'!$J$17,"*"&$A24&"*")+COUNTIF('Game 10'!$J$17,"*"&$A24&"*")+COUNTIF('Game 11'!$J$17,"*"&$A24&"*")+COUNTIF('Game 12'!$J$17,"*"&$A24&"*")+COUNTIF('Game 13'!$J$17,"*"&$A24&"*")+COUNTIF('Game 14'!$J$17,"*"&$A24&"*")+COUNTIF('Game 15'!$J$17,"*"&$A24&"*")+COUNTIF('Game 16'!$J$17,"*"&$A24&"*") -> 0 | AJ24: =COUNTIF('Game 1'!$L$15,"*"&$A24&"*")+COUNTIF('Game 2'!$L$15,"*"&$A24&"*")+COUNTIF('Game 3'!$L$15,"*"&$A24&"*")+COUNTIF('Game 4'!$L$15,"*"&$A24&"*")+COUNTIF('Game 5'!$L$15,"*"&$A24&"*")+COUNTIF('Game 6'!$L$15,"*"&$A24&"*")+COUNTIF('Game 7'!$L$15,"*"&$A24&"*")+COUNTIF('Game 8'!$L$15,"*"&$A24&"*")+COUNTIF('Game 9'!$L$15,"*"&$A24&"*")+COUNTIF('Game 10'!$L$15,"*"&$A24&"*")+COUNTIF('Game 11'!$L$15,"*"&$A24&"*")+COUNTIF('Game 12'!$L$15,"*"&$A24&"*")+COUNTIF('Game 13'!$L$15,"*"&$A24&"*")+COUNTIF('Game 14'!$L$15,"*"&$A24&"*")+COUNTIF('Game 15'!$L$15,"*"&$A24&"*")+COUNTIF('Game 16'!$L$15,"*"&$A24&"*") -> 0
A25: =A9 -> Player 8 | B25: =COUNTIF('Game 1'!$B$13:$G$13,"*"&$A25&"*")+COUNTIF('Game 2'!$B$13:$G$13,"*"&$A25&"*")+COUNTIF('Game 3'!$B$13:$G$13,"*"&$A25&"*")+COUNTIF('Game 4'!$B$13:$G$13,"*"&$A25&"*")+COUNTIF('Game 5'!$B$13:$G$13,"*"&$A25&"*")+COUNTIF('Game 6'!$B$13:$G$13,"*"&$A25&"*")+COUNTIF('Game 7'!$B$13:$G$13,"*"&$A25&"*")+COUNTIF('Game 8'!$B$13:$G$13,"*"&$A25&"*")+COUNTIF('Game 9'!$B$13:$G$13,"*"&$A25&"*")+COUNTIF('Game 10'!$B$13:$G$13,"*"&$A25&"*")+COUNTIF('Game 11'!$B$13:$G$13,"*"&$A25&"*")+COUNTIF('Game 12'!$B$13:$G$13,"*"&$A25&"*")+COUNTIF('Game 13'!$B$13:$G$13,"*"&$A25&"*")+COUNTIF('Game 14'!$B$13:$G$13,"*"&$A25&"*")+COUNTIF('Game 15'!$B$13:$G$13,"*"&$A25&"*")+COUNTIF('Game 16'!$B$13:$G$13,"*"&$A25&"*") -> 0 | C25: =COUNTIF('Game 1'!$B$12:$G$12,"*"&$A25&"*")+COUNTIF('Game 2'!$B$12:$G$12,"*"&$A25&"*")+COUNTIF('Game 3'!$B$12:$G$12,"*"&$A25&"*")+COUNTIF('Game 4'!$B$12:$G$12,"*"&$A25&"*")+COUNTIF('Game 5'!$B$12:$G$12,"*"&$A25&"*")+COUNTIF('Game 6'!$B$12:$G$12,"*"&$A25&"*")+COUNTIF('Game 7'!$B$12:$G$12,"*"&$A25&"*")+COUNTIF('Game 8'!$B$12:$G$12,"*"&$A25&"*")+COUNTIF('Game 9'!$B$12:$G$12,"*"&$A25&"*")+COUNTIF('Game 10'!$B$12:$G$12,"*"&$A25&"*")+COUNTIF('Game 11'!$B$12:$G$12,"*"&$A25&"*")+COUNTIF('Game 12'!$B$12:$G$12,"*"&$A25&"*")+COUNTIF('Game 13'!$B$12:$G$12,"*"&$A25&"*")+COUNTIF('Game 14'!$B$12:$G$12,"*"&$A25&"*")+COUNTIF('Game 15'!$B$12:$G$12,"*"&$A25&"*")+COUNTIF('Game 16'!$B$12:$G$12,"*"&$A25&"*") -> 0 | D25: =COUNTIF('Game 1'!$B$11:$G$11,"*"&$A25&"*")+COUNTIF('Game 2'!$B$11:$G$11,"*"&$A25&"*")+COUNTIF('Game 3'!$B$11:$G$11,"*"&$A25&"*")+COUNTIF('Game 4'!$B$11:$G$11,"*"&$A25&"*")+COUNTIF('Game 5'!$B$11:$G$11,"*"&$A25&"*")+COUNTIF('Game 6'!$B$11:$G$11,"*"&$A25&"*")+COUNTIF('Game 7'!$B$11:$G$11,"*"&$A25&"*")+COUNTIF('Game 8'!$B$11:$G$11,"*"&$A25&"*")+COUNTIF('Game 9'!$B$11:$G$11,"*"&$A25&"*")+COUNTIF('Game 10'!$B$11:$G$11,"*"&$A25&"*")+COUNTIF('Game 11'!$B$11:$G$11,"*"&$A25&"*")+COUNTIF('Game 12'!$B$11:$G$11,"*"&$A25&"*")+COUNTIF('Game 13'!$B$11:$G$11,"*"&$A25&"*")+COUNTIF('Game 14'!$B$11:$G$11,"*"&$A25&"*")+COUNTIF('Game 15'!$B$11:$G$11,"*"&$A25&"*")+COUNTIF('Game 16'!$B$11:$G$11,"*"&$A25&"*") -> 0 | E25: =COUNTIF('Game 1'!$B$10:$G$10,"*"&$A25&"*")+COUNTIF('Game 2'!$B$10:$G$10,"*"&$A25&"*")+COUNTIF('Game 3'!$B$10:$G$10,"*"&$A25&"*")+COUNTIF('Game 4'!$B$10:$G$10,"*"&$A25&"*")+COUNTIF('Game 5'!$B$10:$G$10,"*"&$A25&"*")+COUNTIF('Game 6'!$B$10:$G$10,"*"&$A25&"*")+COUNTIF('Game 7'!$B$10:$G$10,"*"&$A25&"*")+COUNTIF('Game 8'!$B$10:$G$10,"*"&$A25&"*")+COUNTIF('Game 9'!$B$10:$G$10,"*"&$A25&"*")+COUNTIF('Game 10'!$B$10:$G$10,"*"&$A25&"*")+COUNTIF('Game 11'!$B$10:$G$10,"*"&$A25&"*")+COUNTIF('Game 12'!$B$10:$G$10,"*"&$A25&"*")+COUNTIF('Game 13'!$B$10:$G$10,"*"&$A25&"*")+COUNTIF('Game 14'!$B$10:$G$10,"*"&$A25&"*")+COUNTIF('Game 15'!$B$10:$G$10,"*"&$A25&"*")+COUNTIF('Game 16'!$B$10:$G$10,"*"&$A25&"*") -> 0 | F25: =COUNTIF('Game 1'!$B$9:$G$9,"*"&$A25&"*")+COUNTIF('Game 2'!$B$9:$G$9,"*"&$A25&"*")+COUNTIF('Game 3'!$B$9:$G$9,"*"&$A25&"*")+COUNTIF('Game 4'!$B$9:$G$9,"*"&$A25&"*")+COUNTIF('Game 5'!$B$9:$G$9,"*"&$A25&"*")+COUNTIF('Game 6'!$B$9:$G$9,"*"&$A25&"*")+COUNTIF('Game 7'!$B$9:$G$9,"*"&$A25&"*")+COUNTIF('Game 8'!$B$9:$G$9,"*"&$A25&"*")+COUNTIF('Game 9'!$B$9:$G$9,"*"&$A25&"*")+COUNTIF('Game 10'!$B$9:$G$9,"*"&$A25&"*")+COUNTIF('Game 11'!$B$9:$G$9,"*"&$A25&"*")+COUNTIF('Game 12'!$B$9:$G$9,"*"&$A25&"*")+COUNTIF('Game 13'!$B$9:$G$9,"*"&$A25&"*")+COUNTIF('Game 14'!$B$9:$G$9,"*"&$A25&"*")+COUNTIF('Game 15'!$B$9:$G$9,"*"&$A25&"*")+COUNTIF('Game 16'!$B$9:$G$9,"*"&$A25&"*") -> 0 | G25: =COUNTIF('Game 1'!$B$8:$G$8,"*"&$A25&"*")+COUNTIF('Game 2'!$B$8:$G$8,"*"&$A25&"*")+COUNTIF('Game 3'!$B$8:$G$8,"*"&$A25&"*")+COUNTIF('Game 4'!$B$8:$G$8,"*"&$A25&"*")+COUNTIF('Game 5'!$B$8:$G$8,"*"&$A25&"*")+COUNTIF('Game 6'!$B$8:$G$8,"*"&$A25&"*")+COUNTIF('Game 7'!$B$8:$G$8,"*"&$A25&"*")+COUNTIF('Game 8'!$B$8:$G$8,"*"&$A25&"*")+COUNTIF('Game 9'!$B$8:$G$8,"*"&$A25&"*")+COUNTIF('Game 10'!$B$8:$G$8,"*"&$A25&"*")+COUNTIF('Game 11'!$B$8:$G$8,"*"&$A25&"*")+COUNTIF('Game 12'!$B$8:$G$8,"*"&$A25&"*")+COUNTIF('Game 13'!$B$8:$G$8,"*"&$A25&"*")+COUNTIF('Game 14'!$B$8:$G$8,"*"&$A25&"*")+COUNTIF('Game 15'!$B$8:$G$8,"*"&$A25&"*")+COUNTIF('Game 16'!$B$8:$G$8,"*"&$A25&"*") -> 0 | H25: =COUNTIF('Game 1'!$B$4:$G$4,"*"&$A25&"*")+COUNTIF('Game 2'!$B$4:$G$4,"*"&$A25&"*")+COUNTIF('Game 3'!$B$4:$G$4,"*"&$A25&"*")+COUNTIF('Game 4'!$B$4:$G$4,"*"&$A25&"*")+COUNTIF('Game 5'!$B$4:$G$4,"*"&$A25&"*")+COUNTIF('Game 6'!$B$4:$G$4,"*"&$A25&"*")+COUNTIF('Game 7'!$B$4:$G$4,"*"&$A25&"*")+COUNTIF('Game 8'!$B$4:$G$4,"*"&$A25&"*")+COUNTIF('Game 9'!$B$4:$G$4,"*"&$A25&"*")+COUNTIF('Game 10'!$B$4:$G$4,"*"&$A25&"*")+COUNTIF('Game 11'!$B$4:$G$4,"*"&$A25&"*")+COUNTIF('Game 12'!$B$4:$G$4,"*"&$A25&"*")+COUNTIF('Game 13'!$B$4:$G$4,"*"&$A25&"*")+COUNTIF('Game 14'!$B$4:$G$4,"*"&$A25&"*")+COUNTIF('Game 15'!$B$4:$G$4,"*"&$A25&"*")+COUNTIF('Game 16'!$B$4:$G$4,"*"&$A25&"*") -> 0 | I25: =COUNTIF('Game 1'!$B$5:$G$5,"*"&$A25&"*")+COUNTIF('Game 2'!$B$5:$G$5,"*"&$A25&"*")+COUNTIF('Game 3'!$B$5:$G$5,"*"&$A25&"*")+COUNTIF('Game 4'!$B$5:$G$5,"*"&$A25&"*")+COUNTIF('Game 5'!$B$5:$G$5,"*"&$A25&"*")+COUNTIF('Game 6'!$B$5:$G$5,"*"&$A25&"*")+COUNTIF('Game 7'!$B$5:$G$5,"*"&$A25&"*")+COUNTIF('Game 8'!$B$5:$G$5,"*"&$A25&"*")+COUNTIF('Game 9'!$B$5:$G$5,"*"&$A25&"*")+COUNTIF('Game 10'!$B$5:$G$5,"*"&$A25&"*")+COUNTIF('Game 11'!$B$5:$G$5,"*"&$A25&"*")+COUNTIF('Game 12'!$B$5:$G$5,"*"&$A25&"*")+COUNTIF('Game 13'!$B$5:$G$5,"*"&$A25&"*")+COUNTIF('Game 14'!$B$5:$G$5,"*"&$A25&"*")+COUNTIF('Game 15'!$B$5:$G$5,"*"&$A25&"*")+COUNTIF('Game 16'!$B$5:$G$5,"*"&$A25&"*") -> 0 | J25: =COUNTIF('Game 1'!$B$6:$G$6,"*"&$A25&"*")+COUNTIF('Game 2'!$B$6:$G$6,"*"&$A25&"*")+COUNTIF('Game 3'!$B$6:$G$6,"*"&$A25&"*")+COUNTIF('Game 4'!$B$6:$G$6,"*"&$A25&"*")+COUNTIF('Game 5'!$B$6:$G$6,"*"&$A25&"*")+COUNTIF('Game 6'!$B$6:$G$6,"*"&$A25&"*")+COUNTIF('Game 7'!$B$6:$G$6,"*"&$A25&"*")+COUNTIF('Game 8'!$B$6:$G$6,"*"&$A25&"*")+COUNTIF('Game 9'!$B$6:$G$6,"*"&$A25&"*")+COUNTIF('Game 10'!$B$6:$G$6,"*"&$A25&"*")+COUNTIF('Game 11'!$B$6:$G$6,"*"&$A25&"*")+COUNTIF('Game 12'!$B$6:$G$6,"*"&$A25&"*")+COUNTIF('Game 13'!$B$6:$G$6,"*"&$A25&"*")+COUNTIF('Game 14'!$B$6:$G$6,"*"&$A25&"*")+COUNTIF('Game 15'!$B$6:$G$6,"*"&$A25&"*")+COUNTIF('Game 16'!$B$6:$G$6,"*"&$A25&"*") -> 0 | K25: =COUNTIF('Game 1'!$B$7:$G$7,"*"&$A25&"*")+COUNTIF('Game 2'!$B$7:$G$7,"*"&$A25&"*")+COUNTIF('Game 3'!$B$7:$G$7,"*"&$A25&"*")+COUNTIF('Game 4'!$B$7:$G$7,"*"&$A25&"*")+COUNTIF('Game 5'!$B$7:$G$7,"*"&$A25&"*")+COUNTIF('Game 6'!$B$7:$G$7,"*"&$A25&"*")+COUNTIF('Game 7'!$B$7:$G$7,"*"&$A25&"*")+COUNTIF('Game 8'!$B$7:$G$7,"*"&$A25&"*")+COUNTIF('Game 9'!$B$7:$G$7,"*"&$A25&"*")+COUNTIF('Game 10'!$B$7:$G$7,"*"&$A25&"*")+COUNTIF('Game 11'!$B$7:$G$7,"*"&$A25&"*")+COUNTIF('Game 12'!$B$7:$G$7,"*"&$A25&"*")+COUNTIF('Game 13'!$B$7:$G$7,"*"&$A25&"*")+COUNTIF('Game 14'!$B$7:$G$7,"*"&$A25&"*")+COUNTIF('Game 15'!$B$7:$G$7,"*"&$A25&"*")+COUNTIF('Game 16'!$B$7:$G$7,"*"&$A25&"*") -> 0 | L25: =COUNTIF('Game 1'!$B$14:$G$14,"*"&$A25&"*")+COUNTIF('Game 1'!$B$15:$G$15,"*"&$A25&"*")+COUNTIF('Game 1'!$B$16:$G$16,"*"&$A25&"*")+COUNTIF('Game 2'!$B$14:$G$14,"*"&$A25&"*")+COUNTIF('Game 2'!$B$15:$G$15,"*"&$A25&"*")+COUNTIF('Game 2'!$B$16:$G$16,"*"&$A25&"*")+COUNTIF('Game 3'!$B$14:$G$14,"*"&$A25&"*")+COUNTIF('Game 3'!$B$15:$G$15,"*"&$A25&"*")+COUNTIF('Game 3'!$B$16:$G$16,"*"&$A25&"*")+COUNTIF('Game 4'!$B$14:$G$14,"*"&$A25&"*")+COUNTIF('Game 4'!$B$15:$G$15,"*"&$A25&"*")+COUNTIF('Game 4'!$B$16:$G$16,"*"&$A25&"*")+COUNTIF('Game 5'!$B$14:$G$14,"*"&$A25&"*")+COUNTIF('Game 5'!$B$15:$G$15,"*"&$A25&"*")+COUNTIF('Game 5'!$B$16:$G$16,"*"&$A25&"*")+COUNTIF('Game 6'!$B$14:$G$14,"*"&$A25&"*")+COUNTIF('Game 6'!$B$15:$G$15,"*"&$A25&"*")+COUNTIF('Game 6'!$B$16:$G$16,"*"&$A25&"*")+COUNTIF('Game 7'!$B$14:$G$14,"*"&$A25&"*")+COUNTIF('Game 7'!$B$15:$G$15,"*"&$A25&"*")+COUNTIF('Game 7'!$B$16:$G$16,"*"&$A25&"*")+COUNTIF('Game 8'!$B$14:$G$14,"*"&$A25&"*")+COUNTIF('Game 8'!$B$15:$G$15,"*"&$A25&"*")+COUNTIF('Game 8'!$B$16:$G$16,"*"&$A25&"*")+COUNTIF('Game 9'!$B$14:$G$14,"*"&$A25&"*")+COUNTIF('Game 9'!$B$15:$G$15,"*"&$A25&"*")+COUNTIF('Game 9'!$B$16:$G$16,"*"&$A25&"*")+COUNTIF('Game 10'!$B$14:$G$14,"*"&$A25&"*")+COUNTIF('Game 10'!$B$15:$G$15,"*"&$A25&"*")+COUNTIF('Game 10'!$B$16:$G$16,"*"&$A25&"*")+COUNTIF('Game 11'!$B$14:$G$14,"*"&$A25&"*")+COUNTIF('Game 11'!$B$15:$G$15,"*"&$A25&"*")+COUNTIF('Game 11'!$B$16:$G$16,"*"&$A25&"*")+COUNTIF('Game 12'!$B$14:$G$14,"*"&$A25&"*")+COUNTIF('Game 12'!$B$15:$G$15,"*"&$A25&"*")+COUNTIF('Game 12'!$B$16:$G$16,"*"&$A25&"*")+COUNTIF('Game 13'!$B$14:$G$14,"*"&$A25&"*")+COUNTIF('Game 13'!$B$15:$G$15,"*"&$A25&"*")+COUNTIF('Game 13'!$B$16:$G$16,"*"&$A25&"*")+COUNTIF('Game 14'!$B$14:$G$14,"*"&$A25&"*")+COUNTIF('Game 14'!$B$15:$G$15,"*"&$A25&"*")+COUNTIF('Game 14'!$B$16:$G$16,"*"&$A25&"*")+COUNTIF('Game 15'!$B$14:$G$14,"*"&$A25&"*")+COUNTIF('Game 15'!$B$15:$G$15,"*"&$A25&"*")+COUNTIF('Game 15'!$B$16:$G$16,"*"&$A25&"*")+COUNTIF('Game 16'!$B$14:$G$14,"*"&$A25&"*")+COUNTIF('Game 16'!$B$15:$G$15,"*"&$A25&"*")+COUNTIF('Game 16'!$B$16:$G$16,"*"&$A25&"*") -> 0 | M25: =SUM(B25:G25) -> 0 | N25: =SUM(H25:K25) -> 0 | O25: =L25 -> 0 | P25: =SUM(M25:O25) -> 0 | Q25: =IF(P25=0,0,M25/P25) -> 0 | R25: =IF(P25=0,0,N25/P25) -> 0 | S25: =IF(P25=0,0,O25/P25) -> 0 | T25: =IF($U$18=0,0,P25/$U$18) -> 0 | V25: ='Game 1'!Z9+'Game 2'!Z9+'Game 3'!Z9+'Game 4'!Z9+'Game 5'!Z9+'Game 6'!Z9+'Game 7'!Z9+'Game 8'!Z9+'Game 9'!Z9+'Game 10'!Z9+'Game 11'!Z9+'Game 12'!Z9+'Game 13'!Z9+'Game 14'!Z9+'Game 15'!Z9+'Game 16'!Z9 -> 0 | W25: =COUNTIF('Game 1'!$J$5,"*"&$A25&"*")+COUNTIF('Game 2'!$J$5,"*"&$A25&"*")+COUNTIF('Game 3'!$J$5,"*"&$A25&"*")+COUNTIF('Game 4'!$J$5,"*"&$A25&"*")+COUNTIF('Game 5'!$J$5,"*"&$A25&"*")+COUNTIF('Game 6'!$J$5,"*"&$A25&"*")+COUNTIF('Game 7'!$J$5,"*"&$A25&"*")+COUNTIF('Game 8'!$J$5,"*"&$A25&"*")+COUNTIF('Game 9'!$J$5,"*"&$A25&"*")+COUNTIF('Game 10'!$J$5,"*"&$A25&"*")+COUNTIF('Game 11'!$J$5,"*"&$A25&"*")+COUNTIF('Game 12'!$J$5,"*"&$A25&"*")+COUNTIF('Game 13'!$J$5,"*"&$A25&"*")+COUNTIF('Game 14'!$J$5,"*"&$A25&"*")+COUNTIF('Game 15'!$J$5,"*"&$A25&"*")+COUNTIF('Game 16'!$J$5,"*"&$A25&"*") -> 0 | X25: =COUNTIF('Game 1'!$J$6,"*"&$A25&"*")+COUNTIF('Game 2'!$J$6,"*"&$A25&"*")+COUNTIF('Game 3'!$J$6,"*"&$A25&"*")+COUNTIF('Game 4'!$J$6,"*"&$A25&"*")+COUNTIF('Game 5'!$J$6,"*"&$A25&"*")+COUNTIF('Game 6'!$J$6,"*"&$A25&"*")+COUNTIF('Game 7'!$J$6,"*"&$A25&"*")+COUNTIF('Game 8'!$J$6,"*"&$A25&"*")+COUNTIF('Game 9'!$J$6,"*"&$A25&"*")+COUNTIF('Game 10'!$J$6,"*"&$A25&"*")+COUNTIF('Game 11'!$J$6,"*"&$A25&"*")+COUNTIF('Game 12'!$J$6,"*"&$A25&"*")+COUNTIF('Game 13'!$J$6,"*"&$A25&"*")+COUNTIF('Game 14'!$J$6,"*"&$A25&"*")+COUNTIF('Game 15'!$J$6,"*"&$A25&"*")+COUNTIF('Game 16'!$J$6,"*"&$A25&"*") -> 0 | Y25: =COUNTIF('Game 1'!$J$7,"*"&$A25&"*")+COUNTIF('Game 2'!$J$7,"*"&$A25&"*")+COUNTIF('Game 3'!$J$7,"*"&$A25&"*")+COUNTIF('Game 4'!$J$7,"*"&$A25&"*")+COUNTIF('Game 5'!$J$7,"*"&$A25&"*")+COUNTIF('Game 6'!$J$7,"*"&$A25&"*")+COUNTIF('Game 7'!$J$7,"*"&$A25&"*")+COUNTIF('Game 8'!$J$7,"*"&$A25&"*")+COUNTIF('Game 9'!$J$7,"*"&$A25&"*")+COUNTIF('Game 10'!$J$7,"*"&$A25&"*")+COUNTIF('Game 11'!$J$7,"*"&$A25&"*")+COUNTIF('Game 12'!$J$7,"*"&$A25&"*")+COUNTIF('Game 13'!$J$7,"*"&$A25&"*")+COUNTIF('Game 14'!$J$7,"*"&$A25&"*")+COUNTIF('Game 15'!$J$7,"*"&$A25&"*")+COUNTIF('Game 16'!$J$7,"*"&$A25&"*") -> 0 | Z25: =COUNTIF('Game 1'!$J$8,"*"&$A25&"*")+COUNTIF('Game 2'!$J$8,"*"&$A25&"*")+COUNTIF('Game 3'!$J$8,"*"&$A25&"*")+COUNTIF('Game 4'!$J$8,"*"&$A25&"*")+COUNTIF('Game 5'!$J$8,"*"&$A25&"*")+COUNTIF('Game 6'!$J$8,"*"&$A25&"*")+COUNTIF('Game 7'!$J$8,"*"&$A25&"*")+COUNTIF('Game 8'!$J$8,"*"&$A25&"*")+COUNTIF('Game 9'!$J$8,"*"&$A25&"*")+COUNTIF('Game 10'!$J$8,"*"&$A25&"*")+COUNTIF('Game 11'!$J$8,"*"&$A25&"*")+COUNTIF('Game 12'!$J$8,"*"&$A25&"*")+COUNTIF('Game 13'!$J$8,"*"&$A25&"*")+COUNTIF('Game 14'!$J$8,"*"&$A25&"*")+COUNTIF('Game 15'!$J$8,"*"&$A25&"*")+COUNTIF('Game 16'!$J$8,"*"&$A25&"*") -> 0 | AA25: =COUNTIF('Game 1'!$J$9,"*"&$A25&"*")+COUNTIF('Game 2'!$J$9,"*"&$A25&"*")+COUNTIF('Game 3'!$J$9,"*"&$A25&"*")+COUNTIF('Game 4'!$J$9,"*"&$A25&"*")+COUNTIF('Game 5'!$J$9,"*"&$A25&"*")+COUNTIF('Game 6'!$J$9,"*"&$A25&"*")+COUNTIF('Game 7'!$J$9,"*"&$A25&"*")+COUNTIF('Game 8'!$J$9,"*"&$A25&"*")+COUNTIF('Game 9'!$J$9,"*"&$A25&"*")+COUNTIF('Game 10'!$J$9,"*"&$A25&"*")+COUNTIF('Game 11'!$J$9,"*"&$A25&"*")+COUNTIF('Game 12'!$J$9,"*"&$A25&"*")+COUNTIF('Game 13'!$J$9,"*"&$A25&"*")+COUNTIF('Game 14'!$J$9,"*"&$A25&"*")+COUNTIF('Game 15'!$J$9,"*"&$A25&"*")+COUNTIF('Game 16'!$J$9,"*"&$A25&"*") -> 0 | AB25: =COUNTIF('Game 1'!$J$10,"*"&$A25&"*")+COUNTIF('Game 2'!$J$10,"*"&$A25&"*")+COUNTIF('Game 3'!$J$10,"*"&$A25&"*")+COUNTIF('Game 4'!$J$10,"*"&$A25&"*")+COUNTIF('Game 5'!$J$10,"*"&$A25&"*")+COUNTIF('Game 6'!$J$10,"*"&$A25&"*")+COUNTIF('Game 7'!$J$10,"*"&$A25&"*")+COUNTIF('Game 8'!$J$10,"*"&$A25&"*")+COUNTIF('Game 9'!$J$10,"*"&$A25&"*")+COUNTIF('Game 10'!$J$10,"*"&$A25&"*")+COUNTIF('Game 11'!$J$10,"*"&$A25&"*")+COUNTIF('Game 12'!$J$10,"*"&$A25&"*")+COUNTIF('Game 13'!$J$10,"*"&$A25&"*")+COUNTIF('Game 14'!$J$10,"*"&$A25&"*")+COUNTIF('Game 15'!$J$10,"*"&$A25&"*")+COUNTIF('Game 16'!$J$10,"*"&$A25&"*") -> 0 | AC25: =COUNTIF('Game 1'!$J$11,"*"&$A25&"*")+COUNTIF('Game 2'!$J$11,"*"&$A25&"*")+COUNTIF('Game 3'!$J$11,"*"&$A25&"*")+COUNTIF('Game 4'!$J$11,"*"&$A25&"*")+COUNTIF('Game 5'!$J$11,"*"&$A25&"*")+COUNTIF('Game 6'!$J$11,"*"&$A25&"*")+COUNTIF('Game 7'!$J$11,"*"&$A25&"*")+COUNTIF('Game 8'!$J$11,"*"&$A25&"*")+COUNTIF('Game 9'!$J$11,"*"&$A25&"*")+COUNTIF('Game 10'!$J$11,"*"&$A25&"*")+COUNTIF('Game 11'!$J$11,"*"&$A25&"*")+COUNTIF('Game 12'!$J$11,"*"&$A25&"*")+COUNTIF('Game 13'!$J$11,"*"&$A25&"*")+COUNTIF('Game 14'!$J$11,"*"&$A25&"*")+COUNTIF('Game 15'!$J$11,"*"&$A25&"*")+COUNTIF('Game 16'!$J$11,"*"&$A25&"*") -> 0 | AD25: =COUNTIF('Game 1'!$J$12,"*"&$A25&"*")+COUNTIF('Game 2'!$J$12,"*"&$A25&"*")+COUNTIF('Game 3'!$J$12,"*"&$A25&"*")+COUNTIF('Game 4'!$J$12,"*"&$A25&"*")+COUNTIF('Game 5'!$J$12,"*"&$A25&"*")+COUNTIF('Game 6'!$J$12,"*"&$A25&"*")+COUNTIF('Game 7'!$J$12,"*"&$A25&"*")+COUNTIF('Game 8'!$J$12,"*"&$A25&"*")+COUNTIF('Game 9'!$J$12,"*"&$A25&"*")+COUNTIF('Game 10'!$J$12,"*"&$A25&"*")+COUNTIF('Game 11'!$J$12,"*"&$A25&"*")+COUNTIF('Game 12'!$J$12,"*"&$A25&"*")+COUNTIF('Game 13'!$J$12,"*"&$A25&"*")+COUNTIF('Game 14'!$J$12,"*"&$A25&"*")+COUNTIF('Game 15'!$J$12,"*"&$A25&"*")+COUNTIF('Game 16'!$J$12,"*"&$A25&"*") -> 0 | AE25: =COUNTIF('Game 1'!$J$13,"*"&$A25&"*")+COUNTIF('Game 2'!$J$13,"*"&$A25&"*")+COUNTIF('Game 3'!$J$13,"*"&$A25&"*")+COUNTIF('Game 4'!$J$13,"*"&$A25&"*")+COUNTIF('Game 5'!$J$13,"*"&$A25&"*")+COUNTIF('Game 6'!$J$13,"*"&$A25&"*")+COUNTIF('Game 7'!$J$13,"*"&$A25&"*")+COUNTIF('Game 8'!$J$13,"*"&$A25&"*")+COUNTIF('Game 9'!$J$13,"*"&$A25&"*")+COUNTIF('Game 10'!$J$13,"*"&$A25&"*")+COUNTIF('Game 11'!$J$13,"*"&$A25&"*")+COUNTIF('Game 12'!$J$13,"*"&$A25&"*")+COUNTIF('Game 13'!$J$13,"*"&$A25&"*")+COUNTIF('Game 14'!$J$13,"*"&$A25&"*")+COUNTIF('Game 15'!$J$13,"*"&$A25&"*")+COUNTIF('Game 16'!$J$13,"*"&$A25&"*") -> 0 | AF25: =COUNTIF('Game 1'!$J$14,"*"&$A25&"*")+COUNTIF('Game 2'!$J$14,"*"&$A25&"*")+COUNTIF('Game 3'!$J$14,"*"&$A25&"*")+COUNTIF('Game 4'!$J$14,"*"&$A25&"*")+COUNTIF('Game 5'!$J$14,"*"&$A25&"*")+COUNTIF('Game 6'!$J$14,"*"&$A25&"*")+COUNTIF('Game 7'!$J$14,"*"&$A25&"*")+COUNTIF('Game 8'!$J$14,"*"&$A25&"*")+COUNTIF('Game 9'!$J$14,"*"&$A25&"*")+COUNTIF('Game 10'!$J$14,"*"&$A25&"*")+COUNTIF('Game 11'!$J$14,"*"&$A25&"*")+COUNTIF('Game 12'!$J$14,"*"&$A25&"*")+COUNTIF('Game 13'!$J$14,"*"&$A25&"*")+COUNTIF('Game 14'!$J$14,"*"&$A25&"*")+COUNTIF('Game 15'!$J$14,"*"&$A25&"*")+COUNTIF('Game 16'!$J$14,"*"&$A25&"*") -> 0 | AG25: =COUNTIF('Game 1'!$J$15,"*"&$A25&"*")+COUNTIF('Game 2'!$J$15,"*"&$A25&"*")+COUNTIF('Game 3'!$J$15,"*"&$A25&"*")+COUNTIF('Game 4'!$J$15,"*"&$A25&"*")+COUNTIF('Game 5'!$J$15,"*"&$A25&"*")+COUNTIF('Game 6'!$J$15,"*"&$A25&"*")+COUNTIF('Game 7'!$J$15,"*"&$A25&"*")+COUNTIF('Game 8'!$J$15,"*"&$A25&"*")+COUNTIF('Game 9'!$J$15,"*"&$A25&"*")+COUNTIF('Game 10'!$J$15,"*"&$A25&"*")+COUNTIF('Game 11'!$J$15,"*"&$A25&"*")+COUNTIF('Game 12'!$J$15,"*"&$A25&"*")+COUNTIF('Game 13'!$J$15,"*"&$A25&"*")+COUNTIF('Game 14'!$J$15,"*"&$A25&"*")+COUNTIF('Game 15'!$J$15,"*"&$A25&"*")+COUNTIF('Game 16'!$J$15,"*"&$A25&"*") -> 0 | AH25: =COUNTIF('Game 1'!$J$16,"*"&$A25&"*")+COUNTIF('Game 2'!$J$16,"*"&$A25&"*")+COUNTIF('Game 3'!$J$16,"*"&$A25&"*")+COUNTIF('Game 4'!$J$16,"*"&$A25&"*")+COUNTIF('Game 5'!$J$16,"*"&$A25&"*")+COUNTIF('Game 6'!$J$16,"*"&$A25&"*")+COUNTIF('Game 7'!$J$16,"*"&$A25&"*")+COUNTIF('Game 8'!$J$16,"*"&$A25&"*")+COUNTIF('Game 9'!$J$16,"*"&$A25&"*")+COUNTIF('Game 10'!$J$16,"*"&$A25&"*")+COUNTIF('Game 11'!$J$16,"*"&$A25&"*")+COUNTIF('Game 12'!$J$16,"*"&$A25&"*")+COUNTIF('Game 13'!$J$16,"*"&$A25&"*")+COUNTIF('Game 14'!$J$16,"*"&$A25&"*")+COUNTIF('Game 15'!$J$16,"*"&$A25&"*")+COUNTIF('Game 16'!$J$16,"*"&$A25&"*") -> 0 | AI25: =COUNTIF('Game 1'!$J$17,"*"&$A25&"*")+COUNTIF('Game 2'!$J$17,"*"&$A25&"*")+COUNTIF('Game 3'!$J$17,"*"&$A25&"*")+COUNTIF('Game 4'!$J$17,"*"&$A25&"*")+COUNTIF('Game 5'!$J$17,"*"&$A25&"*")+COUNTIF('Game 6'!$J$17,"*"&$A25&"*")+COUNTIF('Game 7'!$J$17,"*"&$A25&"*")+COUNTIF('Game 8'!$J$17,"*"&$A25&"*")+COUNTIF('Game 9'!$J$17,"*"&$A25&"*")+COUNTIF('Game 10'!$J$17,"*"&$A25&"*")+COUNTIF('Game 11'!$J$17,"*"&$A25&"*")+COUNTIF('Game 12'!$J$17,"*"&$A25&"*")+COUNTIF('Game 13'!$J$17,"*"&$A25&"*")+COUNTIF('Game 14'!$J$17,"*"&$A25&"*")+COUNTIF('Game 15'!$J$17,"*"&$A25&"*")+COUNTIF('Game 16'!$J$17,"*"&$A25&"*") -> 0 | AJ25: =COUNTIF('Game 1'!$L$15,"*"&$A25&"*")+COUNTIF('Game 2'!$L$15,"*"&$A25&"*")+COUNTIF('Game 3'!$L$15,"*"&$A25&"*")+COUNTIF('Game 4'!$L$15,"*"&$A25&"*")+COUNTIF('Game 5'!$L$15,"*"&$A25&"*")+COUNTIF('Game 6'!$L$15,"*"&$A25&"*")+COUNTIF('Game 7'!$L$15,"*"&$A25&"*")+COUNTIF('Game 8'!$L$15,"*"&$A25&"*")+COUNTIF('Game 9'!$L$15,"*"&$A25&"*")+COUNTIF('Game 10'!$L$15,"*"&$A25&"*")+COUNTIF('Game 11'!$L$15,"*"&$A25&"*")+COUNTIF('Game 12'!$L$15,"*"&$A25&"*")+COUNTIF('Game 13'!$L$15,"*"&$A25&"*")+COUNTIF('Game 14'!$L$15,"*"&$A25&"*")+COUNTIF('Game 15'!$L$15,"*"&$A25&"*")+COUNTIF('Game 16'!$L$15,"*"&$A25&"*") -> 0
A26: =A10 -> Player 9 | B26: =COUNTIF('Game 1'!$B$13:$G$13,"*"&$A26&"*")+COUNTIF('Game 2'!$B$13:$G$13,"*"&$A26&"*")+COUNTIF('Game 3'!$B$13:$G$13,"*"&$A26&"*")+COUNTIF('Game 4'!$B$13:$G$13,"*"&$A26&"*")+COUNTIF('Game 5'!$B$13:$G$13,"*"&$A26&"*")+COUNTIF('Game 6'!$B$13:$G$13,"*"&$A26&"*")+COUNTIF('Game 7'!$B$13:$G$13,"*"&$A26&"*")+COUNTIF('Game 8'!$B$13:$G$13,"*"&$A26&"*")+COUNTIF('Game 9'!$B$13:$G$13,"*"&$A26&"*")+COUNTIF('Game 10'!$B$13:$G$13,"*"&$A26&"*")+COUNTIF('Game 11'!$B$13:$G$13,"*"&$A26&"*")+COUNTIF('Game 12'!$B$13:$G$13,"*"&$A26&"*")+COUNTIF('Game 13'!$B$13:$G$13,"*"&$A26&"*")+COUNTIF('Game 14'!$B$13:$G$13,"*"&$A26&"*")+COUNTIF('Game 15'!$B$13:$G$13,"*"&$A26&"*")+COUNTIF('Game 16'!$B$13:$G$13,"*"&$A26&"*") -> 0 | C26: =COUNTIF('Game 1'!$B$12:$G$12,"*"&$A26&"*")+COUNTIF('Game 2'!$B$12:$G$12,"*"&$A26&"*")+COUNTIF('Game 3'!$B$12:$G$12,"*"&$A26&"*")+COUNTIF('Game 4'!$B$12:$G$12,"*"&$A26&"*")+COUNTIF('Game 5'!$B$12:$G$12,"*"&$A26&"*")+COUNTIF('Game 6'!$B$12:$G$12,"*"&$A26&"*")+COUNTIF('Game 7'!$B$12:$G$12,"*"&$A26&"*")+COUNTIF('Game 8'!$B$12:$G$12,"*"&$A26&"*")+COUNTIF('Game 9'!$B$12:$G$12,"*"&$A26&"*")+COUNTIF('Game 10'!$B$12:$G$12,"*"&$A26&"*")+COUNTIF('Game 11'!$B$12:$G$12,"*"&$A26&"*")+COUNTIF('Game 12'!$B$12:$G$12,"*"&$A26&"*")+COUNTIF('Game 13'!$B$12:$G$12,"*"&$A26&"*")+COUNTIF('Game 14'!$B$12:$G$12,"*"&$A26&"*")+COUNTIF('Game 15'!$B$12:$G$12,"*"&$A26&"*")+COUNTIF('Game 16'!$B$12:$G$12,"*"&$A26&"*") -> 0 | D26: =COUNTIF('Game 1'!$B$11:$G$11,"*"&$A26&"*")+COUNTIF('Game 2'!$B$11:$G$11,"*"&$A26&"*")+COUNTIF('Game 3'!$B$11:$G$11,"*"&$A26&"*")+COUNTIF('Game 4'!$B$11:$G$11,"*"&$A26&"*")+COUNTIF('Game 5'!$B$11:$G$11,"*"&$A26&"*")+COUNTIF('Game 6'!$B$11:$G$11,"*"&$A26&"*")+COUNTIF('Game 7'!$B$11:$G$11,"*"&$A26&"*")+COUNTIF('Game 8'!$B$11:$G$11,"*"&$A26&"*")+COUNTIF('Game 9'!$B$11:$G$11,"*"&$A26&"*")+COUNTIF('Game 10'!$B$11:$G$11,"*"&$A26&"*")+COUNTIF('Game 11'!$B$11:$G$11,"*"&$A26&"*")+COUNTIF('Game 12'!$B$11:$G$11,"*"&$A26&"*")+COUNTIF('Game 13'!$B$11:$G$11,"*"&$A26&"*")+COUNTIF('Game 14'!$B$11:$G$11,"*"&$A26&"*")+COUNTIF('Game 15'!$B$11:$G$11,"*"&$A26&"*")+COUNTIF('Game 16'!$B$11:$G$11,"*"&$A26&"*") -> 0 | E26: =COUNTIF('Game 1'!$B$10:$G$10,"*"&$A26&"*")+COUNTIF('Game 2'!$B$10:$G$10,"*"&$A26&"*")+COUNTIF('Game 3'!$B$10:$G$10,"*"&$A26&"*")+COUNTIF('Game 4'!$B$10:$G$10,"*"&$A26&"*")+COUNTIF('Game 5'!$B$10:$G$10,"*"&$A26&"*")+COUNTIF('Game 6'!$B$10:$G$10,"*"&$A26&"*")+COUNTIF('Game 7'!$B$10:$G$10,"*"&$A26&"*")+COUNTIF('Game 8'!$B$10:$G$10,"*"&$A26&"*")+COUNTIF('Game 9'!$B$10:$G$10,"*"&$A26&"*")+COUNTIF('Game 10'!$B$10:$G$10,"*"&$A26&"*")+COUNTIF('Game 11'!$B$10:$G$10,"*"&$A26&"*")+COUNTIF('Game 12'!$B$10:$G$10,"*"&$A26&"*")+COUNTIF('Game 13'!$B$10:$G$10,"*"&$A26&"*")+COUNTIF('Game 14'!$B$10:$G$10,"*"&$A26&"*")+COUNTIF('Game 15'!$B$10:$G$10,"*"&$A26&"*")+COUNTIF('Game 16'!$B$10:$G$10,"*"&$A26&"*") -> 0 | F26: =COUNTIF('Game 1'!$B$9:$G$9,"*"&$A26&"*")+COUNTIF('Game 2'!$B$9:$G$9,"*"&$A26&"*")+COUNTIF('Game 3'!$B$9:$G$9,"*"&$A26&"*")+COUNTIF('Game 4'!$B$9:$G$9,"*"&$A26&"*")+COUNTIF('Game 5'!$B$9:$G$9,"*"&$A26&"*")+COUNTIF('Game 6'!$B$9:$G$9,"*"&$A26&"*")+COUNTIF('Game 7'!$B$9:$G$9,"*"&$A26&"*")+COUNTIF('Game 8'!$B$9:$G$9,"*"&$A26&"*")+COUNTIF('Game 9'!$B$9:$G$9,"*"&$A26&"*")+COUNTIF('Game 10'!$B$9:$G$9,"*"&$A26&"*")+COUNTIF('Game 11'!$B$9:$G$9,"*"&$A26&"*")+COUNTIF('Game 12'!$B$9:$G$9,"*"&$A26&"*")+COUNTIF('Game 13'!$B$9:$G$9,"*"&$A26&"*")+COUNTIF('Game 14'!$B$9:$G$9,"*"&$A26&"*")+COUNTIF('Game 15'!$B$9:$G$9,"*"&$A26&"*")+COUNTIF('Game 16'!$B$9:$G$9,"*"&$A26&"*") -> 0 | G26: =COUNTIF('Game 1'!$B$8:$G$8,"*"&$A26&"*")+COUNTIF('Game 2'!$B$8:$G$8,"*"&$A26&"*")+COUNTIF('Game 3'!$B$8:$G$8,"*"&$A26&"*")+COUNTIF('Game 4'!$B$8:$G$8,"*"&$A26&"*")+COUNTIF('Game 5'!$B$8:$G$8,"*"&$A26&"*")+COUNTIF('Game 6'!$B$8:$G$8,"*"&$A26&"*")+COUNTIF('Game 7'!$B$8:$G$8,"*"&$A26&"*")+COUNTIF('Game 8'!$B$8:$G$8,"*"&$A26&"*")+COUNTIF('Game 9'!$B$8:$G$8,"*"&$A26&"*")+COUNTIF('Game 10'!$B$8:$G$8,"*"&$A26&"*")+COUNTIF('Game 11'!$B$8:$G$8,"*"&$A26&"*")+COUNTIF('Game 12'!$B$8:$G$8,"*"&$A26&"*")+COUNTIF('Game 13'!$B$8:$G$8,"*"&$A26&"*")+COUNTIF('Game 14'!$B$8:$G$8,"*"&$A26&"*")+COUNTIF('Game 15'!$B$8:$G$8,"*"&$A26&"*")+COUNTIF('Game 16'!$B$8:$G$8,"*"&$A26&"*") -> 0 | H26: =COUNTIF('Game 1'!$B$4:$G$4,"*"&$A26&"*")+COUNTIF('Game 2'!$B$4:$G$4,"*"&$A26&"*")+COUNTIF('Game 3'!$B$4:$G$4,"*"&$A26&"*")+COUNTIF('Game 4'!$B$4:$G$4,"*"&$A26&"*")+COUNTIF('Game 5'!$B$4:$G$4,"*"&$A26&"*")+COUNTIF('Game 6'!$B$4:$G$4,"*"&$A26&"*")+COUNTIF('Game 7'!$B$4:$G$4,"*"&$A26&"*")+COUNTIF('Game 8'!$B$4:$G$4,"*"&$A26&"*")+COUNTIF('Game 9'!$B$4:$G$4,"*"&$A26&"*")+COUNTIF('Game 10'!$B$4:$G$4,"*"&$A26&"*")+COUNTIF('Game 11'!$B$4:$G$4,"*"&$A26&"*")+COUNTIF('Game 12'!$B$4:$G$4,"*"&$A26&"*")+COUNTIF('Game 13'!$B$4:$G$4,"*"&$A26&"*")+COUNTIF('Game 14'!$B$4:$G$4,"*"&$A26&"*")+COUNTIF('Game 15'!$B$4:$G$4,"*"&$A26&"*")+COUNTIF('Game 16'!$B$4:$G$4,"*"&$A26&"*") -> 0 | I26: =COUNTIF('Game 1'!$B$5:$G$5,"*"&$A26&"*")+COUNTIF('Game 2'!$B$5:$G$5,"*"&$A26&"*")+COUNTIF('Game 3'!$B$5:$G$5,"*"&$A26&"*")+COUNTIF('Game 4'!$B$5:$G$5,"*"&$A26&"*")+COUNTIF('Game 5'!$B$5:$G$5,"*"&$A26&"*")+COUNTIF('Game 6'!$B$5:$G$5,"*"&$A26&"*")+COUNTIF('Game 7'!$B$5:$G$5,"*"&$A26&"*")+COUNTIF('Game 8'!$B$5:$G$5,"*"&$A26&"*")+COUNTIF('Game 9'!$B$5:$G$5,"*"&$A26&"*")+COUNTIF('Game 10'!$B$5:$G$5,"*"&$A26&"*")+COUNTIF('Game 11'!$B$5:$G$5,"*"&$A26&"*")+COUNTIF('Game 12'!$B$5:$G$5,"*"&$A26&"*")+COUNTIF('Game 13'!$B$5:$G$5,"*"&$A26&"*")+COUNTIF('Game 14'!$B$5:$G$5,"*"&$A26&"*")+COUNTIF('Game 15'!$B$5:$G$5,"*"&$A26&"*")+COUNTIF('Game 16'!$B$5:$G$5,"*"&$A26&"*") -> 0 | J26: =COUNTIF('Game 1'!$B$6:$G$6,"*"&$A26&"*")+COUNTIF('Game 2'!$B$6:$G$6,"*"&$A26&"*")+COUNTIF('Game 3'!$B$6:$G$6,"*"&$A26&"*")+COUNTIF('Game 4'!$B$6:$G$6,"*"&$A26&"*")+COUNTIF('Game 5'!$B$6:$G$6,"*"&$A26&"*")+COUNTIF('Game 6'!$B$6:$G$6,"*"&$A26&"*")+COUNTIF('Game 7'!$B$6:$G$6,"*"&$A26&"*")+COUNTIF('Game 8'!$B$6:$G$6,"*"&$A26&"*")+COUNTIF('Game 9'!$B$6:$G$6,"*"&$A26&"*")+COUNTIF('Game 10'!$B$6:$G$6,"*"&$A26&"*")+COUNTIF('Game 11'!$B$6:$G$6,"*"&$A26&"*")+COUNTIF('Game 12'!$B$6:$G$6,"*"&$A26&"*")+COUNTIF('Game 13'!$B$6:$G$6,"*"&$A26&"*")+COUNTIF('Game 14'!$B$6:$G$6,"*"&$A26&"*")+COUNTIF('Game 15'!$B$6:$G$6,"*"&$A26&"*")+COUNTIF('Game 16'!$B$6:$G$6,"*"&$A26&"*") -> 0 | K26: =COUNTIF('Game 1'!$B$7:$G$7,"*"&$A26&"*")+COUNTIF('Game 2'!$B$7:$G$7,"*"&$A26&"*")+COUNTIF('Game 3'!$B$7:$G$7,"*"&$A26&"*")+COUNTIF('Game 4'!$B$7:$G$7,"*"&$A26&"*")+COUNTIF('Game 5'!$B$7:$G$7,"*"&$A26&"*")+COUNTIF('Game 6'!$B$7:$G$7,"*"&$A26&"*")+COUNTIF('Game 7'!$B$7:$G$7,"*"&$A26&"*")+COUNTIF('Game 8'!$B$7:$G$7,"*"&$A26&"*")+COUNTIF('Game 9'!$B$7:$G$7,"*"&$A26&"*")+COUNTIF('Game 10'!$B$7:$G$7,"*"&$A26&"*")+COUNTIF('Game 11'!$B$7:$G$7,"*"&$A26&"*")+COUNTIF('Game 12'!$B$7:$G$7,"*"&$A26&"*")+COUNTIF('Game 13'!$B$7:$G$7,"*"&$A26&"*")+COUNTIF('Game 14'!$B$7:$G$7,"*"&$A26&"*")+COUNTIF('Game 15'!$B$7:$G$7,"*"&$A26&"*")+COUNTIF('Game 16'!$B$7:$G$7,"*"&$A26&"*") -> 0 | L26: =COUNTIF('Game 1'!$B$14:$G$14,"*"&$A26&"*")+COUNTIF('Game 1'!$B$15:$G$15,"*"&$A26&"*")+COUNTIF('Game 1'!$B$16:$G$16,"*"&$A26&"*")+COUNTIF('Game 2'!$B$14:$G$14,"*"&$A26&"*")+COUNTIF('Game 2'!$B$15:$G$15,"*"&$A26&"*")+COUNTIF('Game 2'!$B$16:$G$16,"*"&$A26&"*")+COUNTIF('Game 3'!$B$14:$G$14,"*"&$A26&"*")+COUNTIF('Game 3'!$B$15:$G$15,"*"&$A26&"*")+COUNTIF('Game 3'!$B$16:$G$16,"*"&$A26&"*")+COUNTIF('Game 4'!$B$14:$G$14,"*"&$A26&"*")+COUNTIF('Game 4'!$B$15:$G$15,"*"&$A26&"*")+COUNTIF('Game 4'!$B$16:$G$16,"*"&$A26&"*")+COUNTIF('Game 5'!$B$14:$G$14,"*"&$A26&"*")+COUNTIF('Game 5'!$B$15:$G$15,"*"&$A26&"*")+COUNTIF('Game 5'!$B$16:$G$16,"*"&$A26&"*")+COUNTIF('Game 6'!$B$14:$G$14,"*"&$A26&"*")+COUNTIF('Game 6'!$B$15:$G$15,"*"&$A26&"*")+COUNTIF('Game 6'!$B$16:$G$16,"*"&$A26&"*")+COUNTIF('Game 7'!$B$14:$G$14,"*"&$A26&"*")+COUNTIF('Game 7'!$B$15:$G$15,"*"&$A26&"*")+COUNTIF('Game 7'!$B$16:$G$16,"*"&$A26&"*")+COUNTIF('Game 8'!$B$14:$G$14,"*"&$A26&"*")+COUNTIF('Game 8'!$B$15:$G$15,"*"&$A26&"*")+COUNTIF('Game 8'!$B$16:$G$16,"*"&$A26&"*")+COUNTIF('Game 9'!$B$14:$G$14,"*"&$A26&"*")+COUNTIF('Game 9'!$B$15:$G$15,"*"&$A26&"*")+COUNTIF('Game 9'!$B$16:$G$16,"*"&$A26&"*")+COUNTIF('Game 10'!$B$14:$G$14,"*"&$A26&"*")+COUNTIF('Game 10'!$B$15:$G$15,"*"&$A26&"*")+COUNTIF('Game 10'!$B$16:$G$16,"*"&$A26&"*")+COUNTIF('Game 11'!$B$14:$G$14,"*"&$A26&"*")+COUNTIF('Game 11'!$B$15:$G$15,"*"&$A26&"*")+COUNTIF('Game 11'!$B$16:$G$16,"*"&$A26&"*")+COUNTIF('Game 12'!$B$14:$G$14,"*"&$A26&"*")+COUNTIF('Game 12'!$B$15:$G$15,"*"&$A26&"*")+COUNTIF('Game 12'!$B$16:$G$16,"*"&$A26&"*")+COUNTIF('Game 13'!$B$14:$G$14,"*"&$A26&"*")+COUNTIF('Game 13'!$B$15:$G$15,"*"&$A26&"*")+COUNTIF('Game 13'!$B$16:$G$16,"*"&$A26&"*")+COUNTIF('Game 14'!$B$14:$G$14,"*"&$A26&"*")+COUNTIF('Game 14'!$B$15:$G$15,"*"&$A26&"*")+COUNTIF('Game 14'!$B$16:$G$16,"*"&$A26&"*")+COUNTIF('Game 15'!$B$14:$G$14,"*"&$A26&"*")+COUNTIF('Game 15'!$B$15:$G$15,"*"&$A26&"*")+COUNTIF('Game 15'!$B$16:$G$16,"*"&$A26&"*")+COUNTIF('Game 16'!$B$14:$G$14,"*"&$A26&"*")+COUNTIF('Game 16'!$B$15:$G$15,"*"&$A26&"*")+COUNTIF('Game 16'!$B$16:$G$16,"*"&$A26&"*") -> 0 | M26: =SUM(B26:G26) -> 0 | N26: =SUM(H26:K26) -> 0 | O26: =L26 -> 0 | P26: =SUM(M26:O26) -> 0 | Q26: =IF(P26=0,0,M26/P26) -> 0 | R26: =IF(P26=0,0,N26/P26) -> 0 | S26: =IF(P26=0,0,O26/P26) -> 0 | T26: =IF($U$18=0,0,P26/$U$18) -> 0 | V26: ='Game 1'!Z10+'Game 2'!Z10+'Game 3'!Z10+'Game 4'!Z10+'Game 5'!Z10+'Game 6'!Z10+'Game 7'!Z10+'Game 8'!Z10+'Game 9'!Z10+'Game 10'!Z10+'Game 11'!Z10+'Game 12'!Z10+'Game 13'!Z10+'Game 14'!Z10+'Game 15'!Z10+'Game 16'!Z10 -> 0 | W26: =COUNTIF('Game 1'!$J$5,"*"&$A26&"*")+COUNTIF('Game 2'!$J$5,"*"&$A26&"*")+COUNTIF('Game 3'!$J$5,"*"&$A26&"*")+COUNTIF('Game 4'!$J$5,"*"&$A26&"*")+COUNTIF('Game 5'!$J$5,"*"&$A26&"*")+COUNTIF('Game 6'!$J$5,"*"&$A26&"*")+COUNTIF('Game 7'!$J$5,"*"&$A26&"*")+COUNTIF('Game 8'!$J$5,"*"&$A26&"*")+COUNTIF('Game 9'!$J$5,"*"&$A26&"*")+COUNTIF('Game 10'!$J$5,"*"&$A26&"*")+COUNTIF('Game 11'!$J$5,"*"&$A26&"*")+COUNTIF('Game 12'!$J$5,"*"&$A26&"*")+COUNTIF('Game 13'!$J$5,"*"&$A26&"*")+COUNTIF('Game 14'!$J$5,"*"&$A26&"*")+COUNTIF('Game 15'!$J$5,"*"&$A26&"*")+COUNTIF('Game 16'!$J$5,"*"&$A26&"*") -> 0 | X26: =COUNTIF('Game 1'!$J$6,"*"&$A26&"*")+COUNTIF('Game 2'!$J$6,"*"&$A26&"*")+COUNTIF('Game 3'!$J$6,"*"&$A26&"*")+COUNTIF('Game 4'!$J$6,"*"&$A26&"*")+COUNTIF('Game 5'!$J$6,"*"&$A26&"*")+COUNTIF('Game 6'!$J$6,"*"&$A26&"*")+COUNTIF('Game 7'!$J$6,"*"&$A26&"*")+COUNTIF('Game 8'!$J$6,"*"&$A26&"*")+COUNTIF('Game 9'!$J$6,"*"&$A26&"*")+COUNTIF('Game 10'!$J$6,"*"&$A26&"*")+COUNTIF('Game 11'!$J$6,"*"&$A26&"*")+COUNTIF('Game 12'!$J$6,"*"&$A26&"*")+COUNTIF('Game 13'!$J$6,"*"&$A26&"*")+COUNTIF('Game 14'!$J$6,"*"&$A26&"*")+COUNTIF('Game 15'!$J$6,"*"&$A26&"*")+COUNTIF('Game 16'!$J$6,"*"&$A26&"*") -> 0 | Y26: =COUNTIF('Game 1'!$J$7,"*"&$A26&"*")+COUNTIF('Game 2'!$J$7,"*"&$A26&"*")+COUNTIF('Game 3'!$J$7,"*"&$A26&"*")+COUNTIF('Game 4'!$J$7,"*"&$A26&"*")+COUNTIF('Game 5'!$J$7,"*"&$A26&"*")+COUNTIF('Game 6'!$J$7,"*"&$A26&"*")+COUNTIF('Game 7'!$J$7,"*"&$A26&"*")+COUNTIF('Game 8'!$J$7,"*"&$A26&"*")+COUNTIF('Game 9'!$J$7,"*"&$A26&"*")+COUNTIF('Game 10'!$J$7,"*"&$A26&"*")+COUNTIF('Game 11'!$J$7,"*"&$A26&"*")+COUNTIF('Game 12'!$J$7,"*"&$A26&"*")+COUNTIF('Game 13'!$J$7,"*"&$A26&"*")+COUNTIF('Game 14'!$J$7,"*"&$A26&"*")+COUNTIF('Game 15'!$J$7,"*"&$A26&"*")+COUNTIF('Game 16'!$J$7,"*"&$A26&"*") -> 0 | Z26: =COUNTIF('Game 1'!$J$8,"*"&$A26&"*")+COUNTIF('Game 2'!$J$8,"*"&$A26&"*")+COUNTIF('Game 3'!$J$8,"*"&$A26&"*")+COUNTIF('Game 4'!$J$8,"*"&$A26&"*")+COUNTIF('Game 5'!$J$8,"*"&$A26&"*")+COUNTIF('Game 6'!$J$8,"*"&$A26&"*")+COUNTIF('Game 7'!$J$8,"*"&$A26&"*")+COUNTIF('Game 8'!$J$8,"*"&$A26&"*")+COUNTIF('Game 9'!$J$8,"*"&$A26&"*")+COUNTIF('Game 10'!$J$8,"*"&$A26&"*")+COUNTIF('Game 11'!$J$8,"*"&$A26&"*")+COUNTIF('Game 12'!$J$8,"*"&$A26&"*")+COUNTIF('Game 13'!$J$8,"*"&$A26&"*")+COUNTIF('Game 14'!$J$8,"*"&$A26&"*")+COUNTIF('Game 15'!$J$8,"*"&$A26&"*")+COUNTIF('Game 16'!$J$8,"*"&$A26&"*") -> 0 | AA26: =COUNTIF('Game 1'!$J$9,"*"&$A26&"*")+COUNTIF('Game 2'!$J$9,"*"&$A26&"*")+COUNTIF('Game 3'!$J$9,"*"&$A26&"*")+COUNTIF('Game 4'!$J$9,"*"&$A26&"*")+COUNTIF('Game 5'!$J$9,"*"&$A26&"*")+COUNTIF('Game 6'!$J$9,"*"&$A26&"*")+COUNTIF('Game 7'!$J$9,"*"&$A26&"*")+COUNTIF('Game 8'!$J$9,"*"&$A26&"*")+COUNTIF('Game 9'!$J$9,"*"&$A26&"*")+COUNTIF('Game 10'!$J$9,"*"&$A26&"*")+COUNTIF('Game 11'!$J$9,"*"&$A26&"*")+COUNTIF('Game 12'!$J$9,"*"&$A26&"*")+COUNTIF('Game 13'!$J$9,"*"&$A26&"*")+COUNTIF('Game 14'!$J$9,"*"&$A26&"*")+COUNTIF('Game 15'!$J$9,"*"&$A26&"*")+COUNTIF('Game 16'!$J$9,"*"&$A26&"*") -> 0 | AB26: =COUNTIF('Game 1'!$J$10,"*"&$A26&"*")+COUNTIF('Game 2'!$J$10,"*"&$A26&"*")+COUNTIF('Game 3'!$J$10,"*"&$A26&"*")+COUNTIF('Game 4'!$J$10,"*"&$A26&"*")+COUNTIF('Game 5'!$J$10,"*"&$A26&"*")+COUNTIF('Game 6'!$J$10,"*"&$A26&"*")+COUNTIF('Game 7'!$J$10,"*"&$A26&"*")+COUNTIF('Game 8'!$J$10,"*"&$A26&"*")+COUNTIF('Game 9'!$J$10,"*"&$A26&"*")+COUNTIF('Game 10'!$J$10,"*"&$A26&"*")+COUNTIF('Game 11'!$J$10,"*"&$A26&"*")+COUNTIF('Game 12'!$J$10,"*"&$A26&"*")+COUNTIF('Game 13'!$J$10,"*"&$A26&"*")+COUNTIF('Game 14'!$J$10,"*"&$A26&"*")+COUNTIF('Game 15'!$J$10,"*"&$A26&"*")+COUNTIF('Game 16'!$J$10,"*"&$A26&"*") -> 0 | AC26: =COUNTIF('Game 1'!$J$11,"*"&$A26&"*")+COUNTIF('Game 2'!$J$11,"*"&$A26&"*")+COUNTIF('Game 3'!$J$11,"*"&$A26&"*")+COUNTIF('Game 4'!$J$11,"*"&$A26&"*")+COUNTIF('Game 5'!$J$11,"*"&$A26&"*")+COUNTIF('Game 6'!$J$11,"*"&$A26&"*")+COUNTIF('Game 7'!$J$11,"*"&$A26&"*")+COUNTIF('Game 8'!$J$11,"*"&$A26&"*")+COUNTIF('Game 9'!$J$11,"*"&$A26&"*")+COUNTIF('Game 10'!$J$11,"*"&$A26&"*")+COUNTIF('Game 11'!$J$11,"*"&$A26&"*")+COUNTIF('Game 12'!$J$11,"*"&$A26&"*")+COUNTIF('Game 13'!$J$11,"*"&$A26&"*")+COUNTIF('Game 14'!$J$11,"*"&$A26&"*")+COUNTIF('Game 15'!$J$11,"*"&$A26&"*")+COUNTIF('Game 16'!$J$11,"*"&$A26&"*") -> 0 | AD26: =COUNTIF('Game 1'!$J$12,"*"&$A26&"*")+COUNTIF('Game 2'!$J$12,"*"&$A26&"*")+COUNTIF('Game 3'!$J$12,"*"&$A26&"*")+COUNTIF('Game 4'!$J$12,"*"&$A26&"*")+COUNTIF('Game 5'!$J$12,"*"&$A26&"*")+COUNTIF('Game 6'!$J$12,"*"&$A26&"*")+COUNTIF('Game 7'!$J$12,"*"&$A26&"*")+COUNTIF('Game 8'!$J$12,"*"&$A26&"*")+COUNTIF('Game 9'!$J$12,"*"&$A26&"*")+COUNTIF('Game 10'!$J$12,"*"&$A26&"*")+COUNTIF('Game 11'!$J$12,"*"&$A26&"*")+COUNTIF('Game 12'!$J$12,"*"&$A26&"*")+COUNTIF('Game 13'!$J$12,"*"&$A26&"*")+COUNTIF('Game 14'!$J$12,"*"&$A26&"*")+COUNTIF('Game 15'!$J$12,"*"&$A26&"*")+COUNTIF('Game 16'!$J$12,"*"&$A26&"*") -> 0 | AE26: =COUNTIF('Game 1'!$J$13,"*"&$A26&"*")+COUNTIF('Game 2'!$J$13,"*"&$A26&"*")+COUNTIF('Game 3'!$J$13,"*"&$A26&"*")+COUNTIF('Game 4'!$J$13,"*"&$A26&"*")+COUNTIF('Game 5'!$J$13,"*"&$A26&"*")+COUNTIF('Game 6'!$J$13,"*"&$A26&"*")+COUNTIF('Game 7'!$J$13,"*"&$A26&"*")+COUNTIF('Game 8'!$J$13,"*"&$A26&"*")+COUNTIF('Game 9'!$J$13,"*"&$A26&"*")+COUNTIF('Game 10'!$J$13,"*"&$A26&"*")+COUNTIF('Game 11'!$J$13,"*"&$A26&"*")+COUNTIF('Game 12'!$J$13,"*"&$A26&"*")+COUNTIF('Game 13'!$J$13,"*"&$A26&"*")+COUNTIF('Game 14'!$J$13,"*"&$A26&"*")+COUNTIF('Game 15'!$J$13,"*"&$A26&"*")+COUNTIF('Game 16'!$J$13,"*"&$A26&"*") -> 0 | AF26: =COUNTIF('Game 1'!$J$14,"*"&$A26&"*")+COUNTIF('Game 2'!$J$14,"*"&$A26&"*")+COUNTIF('Game 3'!$J$14,"*"&$A26&"*")+COUNTIF('Game 4'!$J$14,"*"&$A26&"*")+COUNTIF('Game 5'!$J$14,"*"&$A26&"*")+COUNTIF('Game 6'!$J$14,"*"&$A26&"*")+COUNTIF('Game 7'!$J$14,"*"&$A26&"*")+COUNTIF('Game 8'!$J$14,"*"&$A26&"*")+COUNTIF('Game 9'!$J$14,"*"&$A26&"*")+COUNTIF('Game 10'!$J$14,"*"&$A26&"*")+COUNTIF('Game 11'!$J$14,"*"&$A26&"*")+COUNTIF('Game 12'!$J$14,"*"&$A26&"*")+COUNTIF('Game 13'!$J$14,"*"&$A26&"*")+COUNTIF('Game 14'!$J$14,"*"&$A26&"*")+COUNTIF('Game 15'!$J$14,"*"&$A26&"*")+COUNTIF('Game 16'!$J$14,"*"&$A26&"*") -> 0 | AG26: =COUNTIF('Game 1'!$J$15,"*"&$A26&"*")+COUNTIF('Game 2'!$J$15,"*"&$A26&"*")+COUNTIF('Game 3'!$J$15,"*"&$A26&"*")+COUNTIF('Game 4'!$J$15,"*"&$A26&"*")+COUNTIF('Game 5'!$J$15,"*"&$A26&"*")+COUNTIF('Game 6'!$J$15,"*"&$A26&"*")+COUNTIF('Game 7'!$J$15,"*"&$A26&"*")+COUNTIF('Game 8'!$J$15,"*"&$A26&"*")+COUNTIF('Game 9'!$J$15,"*"&$A26&"*")+COUNTIF('Game 10'!$J$15,"*"&$A26&"*")+COUNTIF('Game 11'!$J$15,"*"&$A26&"*")+COUNTIF('Game 12'!$J$15,"*"&$A26&"*")+COUNTIF('Game 13'!$J$15,"*"&$A26&"*")+COUNTIF('Game 14'!$J$15,"*"&$A26&"*")+COUNTIF('Game 15'!$J$15,"*"&$A26&"*")+COUNTIF('Game 16'!$J$15,"*"&$A26&"*") -> 0 | AH26: =COUNTIF('Game 1'!$J$16,"*"&$A26&"*")+COUNTIF('Game 2'!$J$16,"*"&$A26&"*")+COUNTIF('Game 3'!$J$16,"*"&$A26&"*")+COUNTIF('Game 4'!$J$16,"*"&$A26&"*")+COUNTIF('Game 5'!$J$16,"*"&$A26&"*")+COUNTIF('Game 6'!$J$16,"*"&$A26&"*")+COUNTIF('Game 7'!$J$16,"*"&$A26&"*")+COUNTIF('Game 8'!$J$16,"*"&$A26&"*")+COUNTIF('Game 9'!$J$16,"*"&$A26&"*")+COUNTIF('Game 10'!$J$16,"*"&$A26&"*")+COUNTIF('Game 11'!$J$16,"*"&$A26&"*")+COUNTIF('Game 12'!$J$16,"*"&$A26&"*")+COUNTIF('Game 13'!$J$16,"*"&$A26&"*")+COUNTIF('Game 14'!$J$16,"*"&$A26&"*")+COUNTIF('Game 15'!$J$16,"*"&$A26&"*")+COUNTIF('Game 16'!$J$16,"*"&$A26&"*") -> 0 | AI26: =COUNTIF('Game 1'!$J$17,"*"&$A26&"*")+COUNTIF('Game 2'!$J$17,"*"&$A26&"*")+COUNTIF('Game 3'!$J$17,"*"&$A26&"*")+COUNTIF('Game 4'!$J$17,"*"&$A26&"*")+COUNTIF('Game 5'!$J$17,"*"&$A26&"*")+COUNTIF('Game 6'!$J$17,"*"&$A26&"*")+COUNTIF('Game 7'!$J$17,"*"&$A26&"*")+COUNTIF('Game 8'!$J$17,"*"&$A26&"*")+COUNTIF('Game 9'!$J$17,"*"&$A26&"*")+COUNTIF('Game 10'!$J$17,"*"&$A26&"*")+COUNTIF('Game 11'!$J$17,"*"&$A26&"*")+COUNTIF('Game 12'!$J$17,"*"&$A26&"*")+COUNTIF('Game 13'!$J$17,"*"&$A26&"*")+COUNTIF('Game 14'!$J$17,"*"&$A26&"*")+COUNTIF('Game 15'!$J$17,"*"&$A26&"*")+COUNTIF('Game 16'!$J$17,"*"&$A26&"*") -> 0 | AJ26: =COUNTIF('Game 1'!$L$15,"*"&$A26&"*")+COUNTIF('Game 2'!$L$15,"*"&$A26&"*")+COUNTIF('Game 3'!$L$15,"*"&$A26&"*")+COUNTIF('Game 4'!$L$15,"*"&$A26&"*")+COUNTIF('Game 5'!$L$15,"*"&$A26&"*")+COUNTIF('Game 6'!$L$15,"*"&$A26&"*")+COUNTIF('Game 7'!$L$15,"*"&$A26&"*")+COUNTIF('Game 8'!$L$15,"*"&$A26&"*")+COUNTIF('Game 9'!$L$15,"*"&$A26&"*")+COUNTIF('Game 10'!$L$15,"*"&$A26&"*")+COUNTIF('Game 11'!$L$15,"*"&$A26&"*")+COUNTIF('Game 12'!$L$15,"*"&$A26&"*")+COUNTIF('Game 13'!$L$15,"*"&$A26&"*")+COUNTIF('Game 14'!$L$15,"*"&$A26&"*")+COUNTIF('Game 15'!$L$15,"*"&$A26&"*")+COUNTIF('Game 16'!$L$15,"*"&$A26&"*") -> 0
A27: =A11 -> Player 10 | B27: =COUNTIF('Game 1'!$B$13:$G$13,"*"&$A27&"*")+COUNTIF('Game 2'!$B$13:$G$13,"*"&$A27&"*")+COUNTIF('Game 3'!$B$13:$G$13,"*"&$A27&"*")+COUNTIF('Game 4'!$B$13:$G$13,"*"&$A27&"*")+COUNTIF('Game 5'!$B$13:$G$13,"*"&$A27&"*")+COUNTIF('Game 6'!$B$13:$G$13,"*"&$A27&"*")+COUNTIF('Game 7'!$B$13:$G$13,"*"&$A27&"*")+COUNTIF('Game 8'!$B$13:$G$13,"*"&$A27&"*")+COUNTIF('Game 9'!$B$13:$G$13,"*"&$A27&"*")+COUNTIF('Game 10'!$B$13:$G$13,"*"&$A27&"*")+COUNTIF('Game 11'!$B$13:$G$13,"*"&$A27&"*")+COUNTIF('Game 12'!$B$13:$G$13,"*"&$A27&"*")+COUNTIF('Game 13'!$B$13:$G$13,"*"&$A27&"*")+COUNTIF('Game 14'!$B$13:$G$13,"*"&$A27&"*")+COUNTIF('Game 15'!$B$13:$G$13,"*"&$A27&"*")+COUNTIF('Game 16'!$B$13:$G$13,"*"&$A27&"*") -> 0 | C27: =COUNTIF('Game 1'!$B$12:$G$12,"*"&$A27&"*")+COUNTIF('Game 2'!$B$12:$G$12,"*"&$A27&"*")+COUNTIF('Game 3'!$B$12:$G$12,"*"&$A27&"*")+COUNTIF('Game 4'!$B$12:$G$12,"*"&$A27&"*")+COUNTIF('Game 5'!$B$12:$G$12,"*"&$A27&"*")+COUNTIF('Game 6'!$B$12:$G$12,"*"&$A27&"*")+COUNTIF('Game 7'!$B$12:$G$12,"*"&$A27&"*")+COUNTIF('Game 8'!$B$12:$G$12,"*"&$A27&"*")+COUNTIF('Game 9'!$B$12:$G$12,"*"&$A27&"*")+COUNTIF('Game 10'!$B$12:$G$12,"*"&$A27&"*")+COUNTIF('Game 11'!$B$12:$G$12,"*"&$A27&"*")+COUNTIF('Game 12'!$B$12:$G$12,"*"&$A27&"*")+COUNTIF('Game 13'!$B$12:$G$12,"*"&$A27&"*")+COUNTIF('Game 14'!$B$12:$G$12,"*"&$A27&"*")+COUNTIF('Game 15'!$B$12:$G$12,"*"&$A27&"*")+COUNTIF('Game 16'!$B$12:$G$12,"*"&$A27&"*") -> 0 | D27: =COUNTIF('Game 1'!$B$11:$G$11,"*"&$A27&"*")+COUNTIF('Game 2'!$B$11:$G$11,"*"&$A27&"*")+COUNTIF('Game 3'!$B$11:$G$11,"*"&$A27&"*")+COUNTIF('Game 4'!$B$11:$G$11,"*"&$A27&"*")+COUNTIF('Game 5'!$B$11:$G$11,"*"&$A27&"*")+COUNTIF('Game 6'!$B$11:$G$11,"*"&$A27&"*")+COUNTIF('Game 7'!$B$11:$G$11,"*"&$A27&"*")+COUNTIF('Game 8'!$B$11:$G$11,"*"&$A27&"*")+COUNTIF('Game 9'!$B$11:$G$11,"*"&$A27&"*")+COUNTIF('Game 10'!$B$11:$G$11,"*"&$A27&"*")+COUNTIF('Game 11'!$B$11:$G$11,"*"&$A27&"*")+COUNTIF('Game 12'!$B$11:$G$11,"*"&$A27&"*")+COUNTIF('Game 13'!$B$11:$G$11,"*"&$A27&"*")+COUNTIF('Game 14'!$B$11:$G$11,"*"&$A27&"*")+COUNTIF('Game 15'!$B$11:$G$11,"*"&$A27&"*")+COUNTIF('Game 16'!$B$11:$G$11,"*"&$A27&"*") -> 0 | E27: =COUNTIF('Game 1'!$B$10:$G$10,"*"&$A27&"*")+COUNTIF('Game 2'!$B$10:$G$10,"*"&$A27&"*")+COUNTIF('Game 3'!$B$10:$G$10,"*"&$A27&"*")+COUNTIF('Game 4'!$B$10:$G$10,"*"&$A27&"*")+COUNTIF('Game 5'!$B$10:$G$10,"*"&$A27&"*")+COUNTIF('Game 6'!$B$10:$G$10,"*"&$A27&"*")+COUNTIF('Game 7'!$B$10:$G$10,"*"&$A27&"*")+COUNTIF('Game 8'!$B$10:$G$10,"*"&$A27&"*")+COUNTIF('Game 9'!$B$10:$G$10,"*"&$A27&"*")+COUNTIF('Game 10'!$B$10:$G$10,"*"&$A27&"*")+COUNTIF('Game 11'!$B$10:$G$10,"*"&$A27&"*")+COUNTIF('Game 12'!$B$10:$G$10,"*"&$A27&"*")+COUNTIF('Game 13'!$B$10:$G$10,"*"&$A27&"*")+COUNTIF('Game 14'!$B$10:$G$10,"*"&$A27&"*")+COUNTIF('Game 15'!$B$10:$G$10,"*"&$A27&"*")+COUNTIF('Game 16'!$B$10:$G$10,"*"&$A27&"*") -> 0 | F27: =COUNTIF('Game 1'!$B$9:$G$9,"*"&$A27&"*")+COUNTIF('Game 2'!$B$9:$G$9,"*"&$A27&"*")+COUNTIF('Game 3'!$B$9:$G$9,"*"&$A27&"*")+COUNTIF('Game 4'!$B$9:$G$9,"*"&$A27&"*")+COUNTIF('Game 5'!$B$9:$G$9,"*"&$A27&"*")+COUNTIF('Game 6'!$B$9:$G$9,"*"&$A27&"*")+COUNTIF('Game 7'!$B$9:$G$9,"*"&$A27&"*")+COUNTIF('Game 8'!$B$9:$G$9,"*"&$A27&"*")+COUNTIF('Game 9'!$B$9:$G$9,"*"&$A27&"*")+COUNTIF('Game 10'!$B$9:$G$9,"*"&$A27&"*")+COUNTIF('Game 11'!$B$9:$G$9,"*"&$A27&"*")+COUNTIF('Game 12'!$B$9:$G$9,"*"&$A27&"*")+COUNTIF('Game 13'!$B$9:$G$9,"*"&$A27&"*")+COUNTIF('Game 14'!$B$9:$G$9,"*"&$A27&"*")+COUNTIF('Game 15'!$B$9:$G$9,"*"&$A27&"*")+COUNTIF('Game 16'!$B$9:$G$9,"*"&$A27&"*") -> 0 | G27: =COUNTIF('Game 1'!$B$8:$G$8,"*"&$A27&"*")+COUNTIF('Game 2'!$B$8:$G$8,"*"&$A27&"*")+COUNTIF('Game 3'!$B$8:$G$8,"*"&$A27&"*")+COUNTIF('Game 4'!$B$8:$G$8,"*"&$A27&"*")+COUNTIF('Game 5'!$B$8:$G$8,"*"&$A27&"*")+COUNTIF('Game 6'!$B$8:$G$8,"*"&$A27&"*")+COUNTIF('Game 7'!$B$8:$G$8,"*"&$A27&"*")+COUNTIF('Game 8'!$B$8:$G$8,"*"&$A27&"*")+COUNTIF('Game 9'!$B$8:$G$8,"*"&$A27&"*")+COUNTIF('Game 10'!$B$8:$G$8,"*"&$A27&"*")+COUNTIF('Game 11'!$B$8:$G$8,"*"&$A27&"*")+COUNTIF('Game 12'!$B$8:$G$8,"*"&$A27&"*")+COUNTIF('Game 13'!$B$8:$G$8,"*"&$A27&"*")+COUNTIF('Game 14'!$B$8:$G$8,"*"&$A27&"*")+COUNTIF('Game 15'!$B$8:$G$8,"*"&$A27&"*")+COUNTIF('Game 16'!$B$8:$G$8,"*"&$A27&"*") -> 0 | H27: =COUNTIF('Game 1'!$B$4:$G$4,"*"&$A27&"*")+COUNTIF('Game 2'!$B$4:$G$4,"*"&$A27&"*")+COUNTIF('Game 3'!$B$4:$G$4,"*"&$A27&"*")+COUNTIF('Game 4'!$B$4:$G$4,"*"&$A27&"*")+COUNTIF('Game 5'!$B$4:$G$4,"*"&$A27&"*")+COUNTIF('Game 6'!$B$4:$G$4,"*"&$A27&"*")+COUNTIF('Game 7'!$B$4:$G$4,"*"&$A27&"*")+COUNTIF('Game 8'!$B$4:$G$4,"*"&$A27&"*")+COUNTIF('Game 9'!$B$4:$G$4,"*"&$A27&"*")+COUNTIF('Game 10'!$B$4:$G$4,"*"&$A27&"*")+COUNTIF('Game 11'!$B$4:$G$4,"*"&$A27&"*")+COUNTIF('Game 12'!$B$4:$G$4,"*"&$A27&"*")+COUNTIF('Game 13'!$B$4:$G$4,"*"&$A27&"*")+COUNTIF('Game 14'!$B$4:$G$4,"*"&$A27&"*")+COUNTIF('Game 15'!$B$4:$G$4,"*"&$A27&"*")+COUNTIF('Game 16'!$B$4:$G$4,"*"&$A27&"*") -> 0 | I27: =COUNTIF('Game 1'!$B$5:$G$5,"*"&$A27&"*")+COUNTIF('Game 2'!$B$5:$G$5,"*"&$A27&"*")+COUNTIF('Game 3'!$B$5:$G$5,"*"&$A27&"*")+COUNTIF('Game 4'!$B$5:$G$5,"*"&$A27&"*")+COUNTIF('Game 5'!$B$5:$G$5,"*"&$A27&"*")+COUNTIF('Game 6'!$B$5:$G$5,"*"&$A27&"*")+COUNTIF('Game 7'!$B$5:$G$5,"*"&$A27&"*")+COUNTIF('Game 8'!$B$5:$G$5,"*"&$A27&"*")+COUNTIF('Game 9'!$B$5:$G$5,"*"&$A27&"*")+COUNTIF('Game 10'!$B$5:$G$5,"*"&$A27&"*")+COUNTIF('Game 11'!$B$5:$G$5,"*"&$A27&"*")+COUNTIF('Game 12'!$B$5:$G$5,"*"&$A27&"*")+COUNTIF('Game 13'!$B$5:$G$5,"*"&$A27&"*")+COUNTIF('Game 14'!$B$5:$G$5,"*"&$A27&"*")+COUNTIF('Game 15'!$B$5:$G$5,"*"&$A27&"*")+COUNTIF('Game 16'!$B$5:$G$5,"*"&$A27&"*") -> 0 | J27: =COUNTIF('Game 1'!$B$6:$G$6,"*"&$A27&"*")+COUNTIF('Game 2'!$B$6:$G$6,"*"&$A27&"*")+COUNTIF('Game 3'!$B$6:$G$6,"*"&$A27&"*")+COUNTIF('Game 4'!$B$6:$G$6,"*"&$A27&"*")+COUNTIF('Game 5'!$B$6:$G$6,"*"&$A27&"*")+COUNTIF('Game 6'!$B$6:$G$6,"*"&$A27&"*")+COUNTIF('Game 7'!$B$6:$G$6,"*"&$A27&"*")+COUNTIF('Game 8'!$B$6:$G$6,"*"&$A27&"*")+COUNTIF('Game 9'!$B$6:$G$6,"*"&$A27&"*")+COUNTIF('Game 10'!$B$6:$G$6,"*"&$A27&"*")+COUNTIF('Game 11'!$B$6:$G$6,"*"&$A27&"*")+COUNTIF('Game 12'!$B$6:$G$6,"*"&$A27&"*")+COUNTIF('Game 13'!$B$6:$G$6,"*"&$A27&"*")+COUNTIF('Game 14'!$B$6:$G$6,"*"&$A27&"*")+COUNTIF('Game 15'!$B$6:$G$6,"*"&$A27&"*")+COUNTIF('Game 16'!$B$6:$G$6,"*"&$A27&"*") -> 0 | K27: =COUNTIF('Game 1'!$B$7:$G$7,"*"&$A27&"*")+COUNTIF('Game 2'!$B$7:$G$7,"*"&$A27&"*")+COUNTIF('Game 3'!$B$7:$G$7,"*"&$A27&"*")+COUNTIF('Game 4'!$B$7:$G$7,"*"&$A27&"*")+COUNTIF('Game 5'!$B$7:$G$7,"*"&$A27&"*")+COUNTIF('Game 6'!$B$7:$G$7,"*"&$A27&"*")+COUNTIF('Game 7'!$B$7:$G$7,"*"&$A27&"*")+COUNTIF('Game 8'!$B$7:$G$7,"*"&$A27&"*")+COUNTIF('Game 9'!$B$7:$G$7,"*"&$A27&"*")+COUNTIF('Game 10'!$B$7:$G$7,"*"&$A27&"*")+COUNTIF('Game 11'!$B$7:$G$7,"*"&$A27&"*")+COUNTIF('Game 12'!$B$7:$G$7,"*"&$A27&"*")+COUNTIF('Game 13'!$B$7:$G$7,"*"&$A27&"*")+COUNTIF('Game 14'!$B$7:$G$7,"*"&$A27&"*")+COUNTIF('Game 15'!$B$7:$G$7,"*"&$A27&"*")+COUNTIF('Game 16'!$B$7:$G$7,"*"&$A27&"*") -> 0 | L27: =COUNTIF('Game 1'!$B$14:$G$14,"*"&$A27&"*")+COUNTIF('Game 1'!$B$15:$G$15,"*"&$A27&"*")+COUNTIF('Game 1'!$B$16:$G$16,"*"&$A27&"*")+COUNTIF('Game 2'!$B$14:$G$14,"*"&$A27&"*")+COUNTIF('Game 2'!$B$15:$G$15,"*"&$A27&"*")+COUNTIF('Game 2'!$B$16:$G$16,"*"&$A27&"*")+COUNTIF('Game 3'!$B$14:$G$14,"*"&$A27&"*")+COUNTIF('Game 3'!$B$15:$G$15,"*"&$A27&"*")+COUNTIF('Game 3'!$B$16:$G$16,"*"&$A27&"*")+COUNTIF('Game 4'!$B$14:$G$14,"*"&$A27&"*")+COUNTIF('Game 4'!$B$15:$G$15,"*"&$A27&"*")+COUNTIF('Game 4'!$B$16:$G$16,"*"&$A27&"*")+COUNTIF('Game 5'!$B$14:$G$14,"*"&$A27&"*")+COUNTIF('Game 5'!$B$15:$G$15,"*"&$A27&"*")+COUNTIF('Game 5'!$B$16:$G$16,"*"&$A27&"*")+COUNTIF('Game 6'!$B$14:$G$14,"*"&$A27&"*")+COUNTIF('Game 6'!$B$15:$G$15,"*"&$A27&"*")+COUNTIF('Game 6'!$B$16:$G$16,"*"&$A27&"*")+COUNTIF('Game 7'!$B$14:$G$14,"*"&$A27&"*")+COUNTIF('Game 7'!$B$15:$G$15,"*"&$A27&"*")+COUNTIF('Game 7'!$B$16:$G$16,"*"&$A27&"*")+COUNTIF('Game 8'!$B$14:$G$14,"*"&$A27&"*")+COUNTIF('Game 8'!$B$15:$G$15,"*"&$A27&"*")+COUNTIF('Game 8'!$B$16:$G$16,"*"&$A27&"*")+COUNTIF('Game 9'!$B$14:$G$14,"*"&$A27&"*")+COUNTIF('Game 9'!$B$15:$G$15,"*"&$A27&"*")+COUNTIF('Game 9'!$B$16:$G$16,"*"&$A27&"*")+COUNTIF('Game 10'!$B$14:$G$14,"*"&$A27&"*")+COUNTIF('Game 10'!$B$15:$G$15,"*"&$A27&"*")+COUNTIF('Game 10'!$B$16:$G$16,"*"&$A27&"*")+COUNTIF('Game 11'!$B$14:$G$14,"*"&$A27&"*")+COUNTIF('Game 11'!$B$15:$G$15,"*"&$A27&"*")+COUNTIF('Game 11'!$B$16:$G$16,"*"&$A27&"*")+COUNTIF('Game 12'!$B$14:$G$14,"*"&$A27&"*")+COUNTIF('Game 12'!$B$15:$G$15,"*"&$A27&"*")+COUNTIF('Game 12'!$B$16:$G$16,"*"&$A27&"*")+COUNTIF('Game 13'!$B$14:$G$14,"*"&$A27&"*")+COUNTIF('Game 13'!$B$15:$G$15,"*"&$A27&"*")+COUNTIF('Game 13'!$B$16:$G$16,"*"&$A27&"*")+COUNTIF('Game 14'!$B$14:$G$14,"*"&$A27&"*")+COUNTIF('Game 14'!$B$15:$G$15,"*"&$A27&"*")+COUNTIF('Game 14'!$B$16:$G$16,"*"&$A27&"*")+COUNTIF('Game 15'!$B$14:$G$14,"*"&$A27&"*")+COUNTIF('Game 15'!$B$15:$G$15,"*"&$A27&"*")+COUNTIF('Game 15'!$B$16:$G$16,"*"&$A27&"*")+COUNTIF('Game 16'!$B$14:$G$14,"*"&$A27&"*")+COUNTIF('Game 16'!$B$15:$G$15,"*"&$A27&"*")+COUNTIF('Game 16'!$B$16:$G$16,"*"&$A27&"*") -> 0 | M27: =SUM(B27:G27) -> 0 | N27: =SUM(H27:K27) -> 0 | O27: =L27 -> 0 | P27: =SUM(M27:O27) -> 0 | Q27: =IF(P27=0,0,M27/P27) -> 0 | R27: =IF(P27=0,0,N27/P27) -> 0 | S27: =IF(P27=0,0,O27/P27) -> 0 | T27: =IF($U$18=0,0,P27/$U$18) -> 0 | V27: ='Game 1'!Z11+'Game 2'!Z11+'Game 3'!Z11+'Game 4'!Z11+'Game 5'!Z11+'Game 6'!Z11+'Game 7'!Z11+'Game 8'!Z11+'Game 9'!Z11+'Game 10'!Z11+'Game 11'!Z11+'Game 12'!Z11+'Game 13'!Z11+'Game 14'!Z11+'Game 15'!Z11+'Game 16'!Z11 -> 0 | W27: =COUNTIF('Game 1'!$J$5,"*"&$A27&"*")+COUNTIF('Game 2'!$J$5,"*"&$A27&"*")+COUNTIF('Game 3'!$J$5,"*"&$A27&"*")+COUNTIF('Game 4'!$J$5,"*"&$A27&"*")+COUNTIF('Game 5'!$J$5,"*"&$A27&"*")+COUNTIF('Game 6'!$J$5,"*"&$A27&"*")+COUNTIF('Game 7'!$J$5,"*"&$A27&"*")+COUNTIF('Game 8'!$J$5,"*"&$A27&"*")+COUNTIF('Game 9'!$J$5,"*"&$A27&"*")+COUNTIF('Game 10'!$J$5,"*"&$A27&"*")+COUNTIF('Game 11'!$J$5,"*"&$A27&"*")+COUNTIF('Game 12'!$J$5,"*"&$A27&"*")+COUNTIF('Game 13'!$J$5,"*"&$A27&"*")+COUNTIF('Game 14'!$J$5,"*"&$A27&"*")+COUNTIF('Game 15'!$J$5,"*"&$A27&"*")+COUNTIF('Game 16'!$J$5,"*"&$A27&"*") -> 0 | X27: =COUNTIF('Game 1'!$J$6,"*"&$A27&"*")+COUNTIF('Game 2'!$J$6,"*"&$A27&"*")+COUNTIF('Game 3'!$J$6,"*"&$A27&"*")+COUNTIF('Game 4'!$J$6,"*"&$A27&"*")+COUNTIF('Game 5'!$J$6,"*"&$A27&"*")+COUNTIF('Game 6'!$J$6,"*"&$A27&"*")+COUNTIF('Game 7'!$J$6,"*"&$A27&"*")+COUNTIF('Game 8'!$J$6,"*"&$A27&"*")+COUNTIF('Game 9'!$J$6,"*"&$A27&"*")+COUNTIF('Game 10'!$J$6,"*"&$A27&"*")+COUNTIF('Game 11'!$J$6,"*"&$A27&"*")+COUNTIF('Game 12'!$J$6,"*"&$A27&"*")+COUNTIF('Game 13'!$J$6,"*"&$A27&"*")+COUNTIF('Game 14'!$J$6,"*"&$A27&"*")+COUNTIF('Game 15'!$J$6,"*"&$A27&"*")+COUNTIF('Game 16'!$J$6,"*"&$A27&"*") -> 0 | Y27: =COUNTIF('Game 1'!$J$7,"*"&$A27&"*")+COUNTIF('Game 2'!$J$7,"*"&$A27&"*")+COUNTIF('Game 3'!$J$7,"*"&$A27&"*")+COUNTIF('Game 4'!$J$7,"*"&$A27&"*")+COUNTIF('Game 5'!$J$7,"*"&$A27&"*")+COUNTIF('Game 6'!$J$7,"*"&$A27&"*")+COUNTIF('Game 7'!$J$7,"*"&$A27&"*")+COUNTIF('Game 8'!$J$7,"*"&$A27&"*")+COUNTIF('Game 9'!$J$7,"*"&$A27&"*")+COUNTIF('Game 10'!$J$7,"*"&$A27&"*")+COUNTIF('Game 11'!$J$7,"*"&$A27&"*")+COUNTIF('Game 12'!$J$7,"*"&$A27&"*")+COUNTIF('Game 13'!$J$7,"*"&$A27&"*")+COUNTIF('Game 14'!$J$7,"*"&$A27&"*")+COUNTIF('Game 15'!$J$7,"*"&$A27&"*")+COUNTIF('Game 16'!$J$7,"*"&$A27&"*") -> 0 | Z27: =COUNTIF('Game 1'!$J$8,"*"&$A27&"*")+COUNTIF('Game 2'!$J$8,"*"&$A27&"*")+COUNTIF('Game 3'!$J$8,"*"&$A27&"*")+COUNTIF('Game 4'!$J$8,"*"&$A27&"*")+COUNTIF('Game 5'!$J$8,"*"&$A27&"*")+COUNTIF('Game 6'!$J$8,"*"&$A27&"*")+COUNTIF('Game 7'!$J$8,"*"&$A27&"*")+COUNTIF('Game 8'!$J$8,"*"&$A27&"*")+COUNTIF('Game 9'!$J$8,"*"&$A27&"*")+COUNTIF('Game 10'!$J$8,"*"&$A27&"*")+COUNTIF('Game 11'!$J$8,"*"&$A27&"*")+COUNTIF('Game 12'!$J$8,"*"&$A27&"*")+COUNTIF('Game 13'!$J$8,"*"&$A27&"*")+COUNTIF('Game 14'!$J$8,"*"&$A27&"*")+COUNTIF('Game 15'!$J$8,"*"&$A27&"*")+COUNTIF('Game 16'!$J$8,"*"&$A27&"*") -> 0 | AA27: =COUNTIF('Game 1'!$J$9,"*"&$A27&"*")+COUNTIF('Game 2'!$J$9,"*"&$A27&"*")+COUNTIF('Game 3'!$J$9,"*"&$A27&"*")+COUNTIF('Game 4'!$J$9,"*"&$A27&"*")+COUNTIF('Game 5'!$J$9,"*"&$A27&"*")+COUNTIF('Game 6'!$J$9,"*"&$A27&"*")+COUNTIF('Game 7'!$J$9,"*"&$A27&"*")+COUNTIF('Game 8'!$J$9,"*"&$A27&"*")+COUNTIF('Game 9'!$J$9,"*"&$A27&"*")+COUNTIF('Game 10'!$J$9,"*"&$A27&"*")+COUNTIF('Game 11'!$J$9,"*"&$A27&"*")+COUNTIF('Game 12'!$J$9,"*"&$A27&"*")+COUNTIF('Game 13'!$J$9,"*"&$A27&"*")+COUNTIF('Game 14'!$J$9,"*"&$A27&"*")+COUNTIF('Game 15'!$J$9,"*"&$A27&"*")+COUNTIF('Game 16'!$J$9,"*"&$A27&"*") -> 0 | AB27: =COUNTIF('Game 1'!$J$10,"*"&$A27&"*")+COUNTIF('Game 2'!$J$10,"*"&$A27&"*")+COUNTIF('Game 3'!$J$10,"*"&$A27&"*")+COUNTIF('Game 4'!$J$10,"*"&$A27&"*")+COUNTIF('Game 5'!$J$10,"*"&$A27&"*")+COUNTIF('Game 6'!$J$10,"*"&$A27&"*")+COUNTIF('Game 7'!$J$10,"*"&$A27&"*")+COUNTIF('Game 8'!$J$10,"*"&$A27&"*")+COUNTIF('Game 9'!$J$10,"*"&$A27&"*")+COUNTIF('Game 10'!$J$10,"*"&$A27&"*")+COUNTIF('Game 11'!$J$10,"*"&$A27&"*")+COUNTIF('Game 12'!$J$10,"*"&$A27&"*")+COUNTIF('Game 13'!$J$10,"*"&$A27&"*")+COUNTIF('Game 14'!$J$10,"*"&$A27&"*")+COUNTIF('Game 15'!$J$10,"*"&$A27&"*")+COUNTIF('Game 16'!$J$10,"*"&$A27&"*") -> 0 | AC27: =COUNTIF('Game 1'!$J$11,"*"&$A27&"*")+COUNTIF('Game 2'!$J$11,"*"&$A27&"*")+COUNTIF('Game 3'!$J$11,"*"&$A27&"*")+COUNTIF('Game 4'!$J$11,"*"&$A27&"*")+COUNTIF('Game 5'!$J$11,"*"&$A27&"*")+COUNTIF('Game 6'!$J$11,"*"&$A27&"*")+COUNTIF('Game 7'!$J$11,"*"&$A27&"*")+COUNTIF('Game 8'!$J$11,"*"&$A27&"*")+COUNTIF('Game 9'!$J$11,"*"&$A27&"*")+COUNTIF('Game 10'!$J$11,"*"&$A27&"*")+COUNTIF('Game 11'!$J$11,"*"&$A27&"*")+COUNTIF('Game 12'!$J$11,"*"&$A27&"*")+COUNTIF('Game 13'!$J$11,"*"&$A27&"*")+COUNTIF('Game 14'!$J$11,"*"&$A27&"*")+COUNTIF('Game 15'!$J$11,"*"&$A27&"*")+COUNTIF('Game 16'!$J$11,"*"&$A27&"*") -> 0 | AD27: =COUNTIF('Game 1'!$J$12,"*"&$A27&"*")+COUNTIF('Game 2'!$J$12,"*"&$A27&"*")+COUNTIF('Game 3'!$J$12,"*"&$A27&"*")+COUNTIF('Game 4'!$J$12,"*"&$A27&"*")+COUNTIF('Game 5'!$J$12,"*"&$A27&"*")+COUNTIF('Game 6'!$J$12,"*"&$A27&"*")+COUNTIF('Game 7'!$J$12,"*"&$A27&"*")+COUNTIF('Game 8'!$J$12,"*"&$A27&"*")+COUNTIF('Game 9'!$J$12,"*"&$A27&"*")+COUNTIF('Game 10'!$J$12,"*"&$A27&"*")+COUNTIF('Game 11'!$J$12,"*"&$A27&"*")+COUNTIF('Game 12'!$J$12,"*"&$A27&"*")+COUNTIF('Game 13'!$J$12,"*"&$A27&"*")+COUNTIF('Game 14'!$J$12,"*"&$A27&"*")+COUNTIF('Game 15'!$J$12,"*"&$A27&"*")+COUNTIF('Game 16'!$J$12,"*"&$A27&"*") -> 0 | AE27: =COUNTIF('Game 1'!$J$13,"*"&$A27&"*")+COUNTIF('Game 2'!$J$13,"*"&$A27&"*")+COUNTIF('Game 3'!$J$13,"*"&$A27&"*")+COUNTIF('Game 4'!$J$13,"*"&$A27&"*")+COUNTIF('Game 5'!$J$13,"*"&$A27&"*")+COUNTIF('Game 6'!$J$13,"*"&$A27&"*")+COUNTIF('Game 7'!$J$13,"*"&$A27&"*")+COUNTIF('Game 8'!$J$13,"*"&$A27&"*")+COUNTIF('Game 9'!$J$13,"*"&$A27&"*")+COUNTIF('Game 10'!$J$13,"*"&$A27&"*")+COUNTIF('Game 11'!$J$13,"*"&$A27&"*")+COUNTIF('Game 12'!$J$13,"*"&$A27&"*")+COUNTIF('Game 13'!$J$13,"*"&$A27&"*")+COUNTIF('Game 14'!$J$13,"*"&$A27&"*")+COUNTIF('Game 15'!$J$13,"*"&$A27&"*")+COUNTIF('Game 16'!$J$13,"*"&$A27&"*") -> 0 | AF27: =COUNTIF('Game 1'!$J$14,"*"&$A27&"*")+COUNTIF('Game 2'!$J$14,"*"&$A27&"*")+COUNTIF('Game 3'!$J$14,"*"&$A27&"*")+COUNTIF('Game 4'!$J$14,"*"&$A27&"*")+COUNTIF('Game 5'!$J$14,"*"&$A27&"*")+COUNTIF('Game 6'!$J$14,"*"&$A27&"*")+COUNTIF('Game 7'!$J$14,"*"&$A27&"*")+COUNTIF('Game 8'!$J$14,"*"&$A27&"*")+COUNTIF('Game 9'!$J$14,"*"&$A27&"*")+COUNTIF('Game 10'!$J$14,"*"&$A27&"*")+COUNTIF('Game 11'!$J$14,"*"&$A27&"*")+COUNTIF('Game 12'!$J$14,"*"&$A27&"*")+COUNTIF('Game 13'!$J$14,"*"&$A27&"*")+COUNTIF('Game 14'!$J$14,"*"&$A27&"*")+COUNTIF('Game 15'!$J$14,"*"&$A27&"*")+COUNTIF('Game 16'!$J$14,"*"&$A27&"*") -> 0 | AG27: =COUNTIF('Game 1'!$J$15,"*"&$A27&"*")+COUNTIF('Game 2'!$J$15,"*"&$A27&"*")+COUNTIF('Game 3'!$J$15,"*"&$A27&"*")+COUNTIF('Game 4'!$J$15,"*"&$A27&"*")+COUNTIF('Game 5'!$J$15,"*"&$A27&"*")+COUNTIF('Game 6'!$J$15,"*"&$A27&"*")+COUNTIF('Game 7'!$J$15,"*"&$A27&"*")+COUNTIF('Game 8'!$J$15,"*"&$A27&"*")+COUNTIF('Game 9'!$J$15,"*"&$A27&"*")+COUNTIF('Game 10'!$J$15,"*"&$A27&"*")+COUNTIF('Game 11'!$J$15,"*"&$A27&"*")+COUNTIF('Game 12'!$J$15,"*"&$A27&"*")+COUNTIF('Game 13'!$J$15,"*"&$A27&"*")+COUNTIF('Game 14'!$J$15,"*"&$A27&"*")+COUNTIF('Game 15'!$J$15,"*"&$A27&"*")+COUNTIF('Game 16'!$J$15,"*"&$A27&"*") -> 0 | AH27: =COUNTIF('Game 1'!$J$16,"*"&$A27&"*")+COUNTIF('Game 2'!$J$16,"*"&$A27&"*")+COUNTIF('Game 3'!$J$16,"*"&$A27&"*")+COUNTIF('Game 4'!$J$16,"*"&$A27&"*")+COUNTIF('Game 5'!$J$16,"*"&$A27&"*")+COUNTIF('Game 6'!$J$16,"*"&$A27&"*")+COUNTIF('Game 7'!$J$16,"*"&$A27&"*")+COUNTIF('Game 8'!$J$16,"*"&$A27&"*")+COUNTIF('Game 9'!$J$16,"*"&$A27&"*")+COUNTIF('Game 10'!$J$16,"*"&$A27&"*")+COUNTIF('Game 11'!$J$16,"*"&$A27&"*")+COUNTIF('Game 12'!$J$16,"*"&$A27&"*")+COUNTIF('Game 13'!$J$16,"*"&$A27&"*")+COUNTIF('Game 14'!$J$16,"*"&$A27&"*")+COUNTIF('Game 15'!$J$16,"*"&$A27&"*")+COUNTIF('Game 16'!$J$16,"*"&$A27&"*") -> 0 | AI27: =COUNTIF('Game 1'!$J$17,"*"&$A27&"*")+COUNTIF('Game 2'!$J$17,"*"&$A27&"*")+COUNTIF('Game 3'!$J$17,"*"&$A27&"*")+COUNTIF('Game 4'!$J$17,"*"&$A27&"*")+COUNTIF('Game 5'!$J$17,"*"&$A27&"*")+COUNTIF('Game 6'!$J$17,"*"&$A27&"*")+COUNTIF('Game 7'!$J$17,"*"&$A27&"*")+COUNTIF('Game 8'!$J$17,"*"&$A27&"*")+COUNTIF('Game 9'!$J$17,"*"&$A27&"*")+COUNTIF('Game 10'!$J$17,"*"&$A27&"*")+COUNTIF('Game 11'!$J$17,"*"&$A27&"*")+COUNTIF('Game 12'!$J$17,"*"&$A27&"*")+COUNTIF('Game 13'!$J$17,"*"&$A27&"*")+COUNTIF('Game 14'!$J$17,"*"&$A27&"*")+COUNTIF('Game 15'!$J$17,"*"&$A27&"*")+COUNTIF('Game 16'!$J$17,"*"&$A27&"*") -> 0 | AJ27: =COUNTIF('Game 1'!$L$15,"*"&$A27&"*")+COUNTIF('Game 2'!$L$15,"*"&$A27&"*")+COUNTIF('Game 3'!$L$15,"*"&$A27&"*")+COUNTIF('Game 4'!$L$15,"*"&$A27&"*")+COUNTIF('Game 5'!$L$15,"*"&$A27&"*")+COUNTIF('Game 6'!$L$15,"*"&$A27&"*")+COUNTIF('Game 7'!$L$15,"*"&$A27&"*")+COUNTIF('Game 8'!$L$15,"*"&$A27&"*")+COUNTIF('Game 9'!$L$15,"*"&$A27&"*")+COUNTIF('Game 10'!$L$15,"*"&$A27&"*")+COUNTIF('Game 11'!$L$15,"*"&$A27&"*")+COUNTIF('Game 12'!$L$15,"*"&$A27&"*")+COUNTIF('Game 13'!$L$15,"*"&$A27&"*")+COUNTIF('Game 14'!$L$15,"*"&$A27&"*")+COUNTIF('Game 15'!$L$15,"*"&$A27&"*")+COUNTIF('Game 16'!$L$15,"*"&$A27&"*") -> 0
A28: =A12 -> Player 11 | B28: =COUNTIF('Game 1'!$B$13:$G$13,"*"&$A28&"*")+COUNTIF('Game 2'!$B$13:$G$13,"*"&$A28&"*")+COUNTIF('Game 3'!$B$13:$G$13,"*"&$A28&"*")+COUNTIF('Game 4'!$B$13:$G$13,"*"&$A28&"*")+COUNTIF('Game 5'!$B$13:$G$13,"*"&$A28&"*")+COUNTIF('Game 6'!$B$13:$G$13,"*"&$A28&"*")+COUNTIF('Game 7'!$B$13:$G$13,"*"&$A28&"*")+COUNTIF('Game 8'!$B$13:$G$13,"*"&$A28&"*")+COUNTIF('Game 9'!$B$13:$G$13,"*"&$A28&"*")+COUNTIF('Game 10'!$B$13:$G$13,"*"&$A28&"*")+COUNTIF('Game 11'!$B$13:$G$13,"*"&$A28&"*")+COUNTIF('Game 12'!$B$13:$G$13,"*"&$A28&"*")+COUNTIF('Game 13'!$B$13:$G$13,"*"&$A28&"*")+COUNTIF('Game 14'!$B$13:$G$13,"*"&$A28&"*")+COUNTIF('Game 15'!$B$13:$G$13,"*"&$A28&"*")+COUNTIF('Game 16'!$B$13:$G$13,"*"&$A28&"*") -> 0 | C28: =COUNTIF('Game 1'!$B$12:$G$12,"*"&$A28&"*")+COUNTIF('Game 2'!$B$12:$G$12,"*"&$A28&"*")+COUNTIF('Game 3'!$B$12:$G$12,"*"&$A28&"*")+COUNTIF('Game 4'!$B$12:$G$12,"*"&$A28&"*")+COUNTIF('Game 5'!$B$12:$G$12,"*"&$A28&"*")+COUNTIF('Game 6'!$B$12:$G$12,"*"&$A28&"*")+COUNTIF('Game 7'!$B$12:$G$12,"*"&$A28&"*")+COUNTIF('Game 8'!$B$12:$G$12,"*"&$A28&"*")+COUNTIF('Game 9'!$B$12:$G$12,"*"&$A28&"*")+COUNTIF('Game 10'!$B$12:$G$12,"*"&$A28&"*")+COUNTIF('Game 11'!$B$12:$G$12,"*"&$A28&"*")+COUNTIF('Game 12'!$B$12:$G$12,"*"&$A28&"*")+COUNTIF('Game 13'!$B$12:$G$12,"*"&$A28&"*")+COUNTIF('Game 14'!$B$12:$G$12,"*"&$A28&"*")+COUNTIF('Game 15'!$B$12:$G$12,"*"&$A28&"*")+COUNTIF('Game 16'!$B$12:$G$12,"*"&$A28&"*") -> 0 | D28: =COUNTIF('Game 1'!$B$11:$G$11,"*"&$A28&"*")+COUNTIF('Game 2'!$B$11:$G$11,"*"&$A28&"*")+COUNTIF('Game 3'!$B$11:$G$11,"*"&$A28&"*")+COUNTIF('Game 4'!$B$11:$G$11,"*"&$A28&"*")+COUNTIF('Game 5'!$B$11:$G$11,"*"&$A28&"*")+COUNTIF('Game 6'!$B$11:$G$11,"*"&$A28&"*")+COUNTIF('Game 7'!$B$11:$G$11,"*"&$A28&"*")+COUNTIF('Game 8'!$B$11:$G$11,"*"&$A28&"*")+COUNTIF('Game 9'!$B$11:$G$11,"*"&$A28&"*")+COUNTIF('Game 10'!$B$11:$G$11,"*"&$A28&"*")+COUNTIF('Game 11'!$B$11:$G$11,"*"&$A28&"*")+COUNTIF('Game 12'!$B$11:$G$11,"*"&$A28&"*")+COUNTIF('Game 13'!$B$11:$G$11,"*"&$A28&"*")+COUNTIF('Game 14'!$B$11:$G$11,"*"&$A28&"*")+COUNTIF('Game 15'!$B$11:$G$11,"*"&$A28&"*")+COUNTIF('Game 16'!$B$11:$G$11,"*"&$A28&"*") -> 0 | E28: =COUNTIF('Game 1'!$B$10:$G$10,"*"&$A28&"*")+COUNTIF('Game 2'!$B$10:$G$10,"*"&$A28&"*")+COUNTIF('Game 3'!$B$10:$G$10,"*"&$A28&"*")+COUNTIF('Game 4'!$B$10:$G$10,"*"&$A28&"*")+COUNTIF('Game 5'!$B$10:$G$10,"*"&$A28&"*")+COUNTIF('Game 6'!$B$10:$G$10,"*"&$A28&"*")+COUNTIF('Game 7'!$B$10:$G$10,"*"&$A28&"*")+COUNTIF('Game 8'!$B$10:$G$10,"*"&$A28&"*")+COUNTIF('Game 9'!$B$10:$G$10,"*"&$A28&"*")+COUNTIF('Game 10'!$B$10:$G$10,"*"&$A28&"*")+COUNTIF('Game 11'!$B$10:$G$10,"*"&$A28&"*")+COUNTIF('Game 12'!$B$10:$G$10,"*"&$A28&"*")+COUNTIF('Game 13'!$B$10:$G$10,"*"&$A28&"*")+COUNTIF('Game 14'!$B$10:$G$10,"*"&$A28&"*")+COUNTIF('Game 15'!$B$10:$G$10,"*"&$A28&"*")+COUNTIF('Game 16'!$B$10:$G$10,"*"&$A28&"*") -> 0 | F28: =COUNTIF('Game 1'!$B$9:$G$9,"*"&$A28&"*")+COUNTIF('Game 2'!$B$9:$G$9,"*"&$A28&"*")+COUNTIF('Game 3'!$B$9:$G$9,"*"&$A28&"*")+COUNTIF('Game 4'!$B$9:$G$9,"*"&$A28&"*")+COUNTIF('Game 5'!$B$9:$G$9,"*"&$A28&"*")+COUNTIF('Game 6'!$B$9:$G$9,"*"&$A28&"*")+COUNTIF('Game 7'!$B$9:$G$9,"*"&$A28&"*")+COUNTIF('Game 8'!$B$9:$G$9,"*"&$A28&"*")+COUNTIF('Game 9'!$B$9:$G$9,"*"&$A28&"*")+COUNTIF('Game 10'!$B$9:$G$9,"*"&$A28&"*")+COUNTIF('Game 11'!$B$9:$G$9,"*"&$A28&"*")+COUNTIF('Game 12'!$B$9:$G$9,"*"&$A28&"*")+COUNTIF('Game 13'!$B$9:$G$9,"*"&$A28&"*")+COUNTIF('Game 14'!$B$9:$G$9,"*"&$A28&"*")+COUNTIF('Game 15'!$B$9:$G$9,"*"&$A28&"*")+COUNTIF('Game 16'!$B$9:$G$9,"*"&$A28&"*") -> 0 | G28: =COUNTIF('Game 1'!$B$8:$G$8,"*"&$A28&"*")+COUNTIF('Game 2'!$B$8:$G$8,"*"&$A28&"*")+COUNTIF('Game 3'!$B$8:$G$8,"*"&$A28&"*")+COUNTIF('Game 4'!$B$8:$G$8,"*"&$A28&"*")+COUNTIF('Game 5'!$B$8:$G$8,"*"&$A28&"*")+COUNTIF('Game 6'!$B$8:$G$8,"*"&$A28&"*")+COUNTIF('Game 7'!$B$8:$G$8,"*"&$A28&"*")+COUNTIF('Game 8'!$B$8:$G$8,"*"&$A28&"*")+COUNTIF('Game 9'!$B$8:$G$8,"*"&$A28&"*")+COUNTIF('Game 10'!$B$8:$G$8,"*"&$A28&"*")+COUNTIF('Game 11'!$B$8:$G$8,"*"&$A28&"*")+COUNTIF('Game 12'!$B$8:$G$8,"*"&$A28&"*")+COUNTIF('Game 13'!$B$8:$G$8,"*"&$A28&"*")+COUNTIF('Game 14'!$B$8:$G$8,"*"&$A28&"*")+COUNTIF('Game 15'!$B$8:$G$8,"*"&$A28&"*")+COUNTIF('Game 16'!$B$8:$G$8,"*"&$A28&"*") -> 0 | H28: =COUNTIF('Game 1'!$B$4:$G$4,"*"&$A28&"*")+COUNTIF('Game 2'!$B$4:$G$4,"*"&$A28&"*")+COUNTIF('Game 3'!$B$4:$G$4,"*"&$A28&"*")+COUNTIF('Game 4'!$B$4:$G$4,"*"&$A28&"*")+COUNTIF('Game 5'!$B$4:$G$4,"*"&$A28&"*")+COUNTIF('Game 6'!$B$4:$G$4,"*"&$A28&"*")+COUNTIF('Game 7'!$B$4:$G$4,"*"&$A28&"*")+COUNTIF('Game 8'!$B$4:$G$4,"*"&$A28&"*")+COUNTIF('Game 9'!$B$4:$G$4,"*"&$A28&"*")+COUNTIF('Game 10'!$B$4:$G$4,"*"&$A28&"*")+COUNTIF('Game 11'!$B$4:$G$4,"*"&$A28&"*")+COUNTIF('Game 12'!$B$4:$G$4,"*"&$A28&"*")+COUNTIF('Game 13'!$B$4:$G$4,"*"&$A28&"*")+COUNTIF('Game 14'!$B$4:$G$4,"*"&$A28&"*")+COUNTIF('Game 15'!$B$4:$G$4,"*"&$A28&"*")+COUNTIF('Game 16'!$B$4:$G$4,"*"&$A28&"*") -> 0 | I28: =COUNTIF('Game 1'!$B$5:$G$5,"*"&$A28&"*")+COUNTIF('Game 2'!$B$5:$G$5,"*"&$A28&"*")+COUNTIF('Game 3'!$B$5:$G$5,"*"&$A28&"*")+COUNTIF('Game 4'!$B$5:$G$5,"*"&$A28&"*")+COUNTIF('Game 5'!$B$5:$G$5,"*"&$A28&"*")+COUNTIF('Game 6'!$B$5:$G$5,"*"&$A28&"*")+COUNTIF('Game 7'!$B$5:$G$5,"*"&$A28&"*")+COUNTIF('Game 8'!$B$5:$G$5,"*"&$A28&"*")+COUNTIF('Game 9'!$B$5:$G$5,"*"&$A28&"*")+COUNTIF('Game 10'!$B$5:$G$5,"*"&$A28&"*")+COUNTIF('Game 11'!$B$5:$G$5,"*"&$A28&"*")+COUNTIF('Game 12'!$B$5:$G$5,"*"&$A28&"*")+COUNTIF('Game 13'!$B$5:$G$5,"*"&$A28&"*")+COUNTIF('Game 14'!$B$5:$G$5,"*"&$A28&"*")+COUNTIF('Game 15'!$B$5:$G$5,"*"&$A28&"*")+COUNTIF('Game 16'!$B$5:$G$5,"*"&$A28&"*") -> 0 | J28: =COUNTIF('Game 1'!$B$6:$G$6,"*"&$A28&"*")+COUNTIF('Game 2'!$B$6:$G$6,"*"&$A28&"*")+COUNTIF('Game 3'!$B$6:$G$6,"*"&$A28&"*")+COUNTIF('Game 4'!$B$6:$G$6,"*"&$A28&"*")+COUNTIF('Game 5'!$B$6:$G$6,"*"&$A28&"*")+COUNTIF('Game 6'!$B$6:$G$6,"*"&$A28&"*")+COUNTIF('Game 7'!$B$6:$G$6,"*"&$A28&"*")+COUNTIF('Game 8'!$B$6:$G$6,"*"&$A28&"*")+COUNTIF('Game 9'!$B$6:$G$6,"*"&$A28&"*")+COUNTIF('Game 10'!$B$6:$G$6,"*"&$A28&"*")+COUNTIF('Game 11'!$B$6:$G$6,"*"&$A28&"*")+COUNTIF('Game 12'!$B$6:$G$6,"*"&$A28&"*")+COUNTIF('Game 13'!$B$6:$G$6,"*"&$A28&"*")+COUNTIF('Game 14'!$B$6:$G$6,"*"&$A28&"*")+COUNTIF('Game 15'!$B$6:$G$6,"*"&$A28&"*")+COUNTIF('Game 16'!$B$6:$G$6,"*"&$A28&"*") -> 0 | K28: =COUNTIF('Game 1'!$B$7:$G$7,"*"&$A28&"*")+COUNTIF('Game 2'!$B$7:$G$7,"*"&$A28&"*")+COUNTIF('Game 3'!$B$7:$G$7,"*"&$A28&"*")+COUNTIF('Game 4'!$B$7:$G$7,"*"&$A28&"*")+COUNTIF('Game 5'!$B$7:$G$7,"*"&$A28&"*")+COUNTIF('Game 6'!$B$7:$G$7,"*"&$A28&"*")+COUNTIF('Game 7'!$B$7:$G$7,"*"&$A28&"*")+COUNTIF('Game 8'!$B$7:$G$7,"*"&$A28&"*")+COUNTIF('Game 9'!$B$7:$G$7,"*"&$A28&"*")+COUNTIF('Game 10'!$B$7:$G$7,"*"&$A28&"*")+COUNTIF('Game 11'!$B$7:$G$7,"*"&$A28&"*")+COUNTIF('Game 12'!$B$7:$G$7,"*"&$A28&"*")+COUNTIF('Game 13'!$B$7:$G$7,"*"&$A28&"*")+COUNTIF('Game 14'!$B$7:$G$7,"*"&$A28&"*")+COUNTIF('Game 15'!$B$7:$G$7,"*"&$A28&"*")+COUNTIF('Game 16'!$B$7:$G$7,"*"&$A28&"*") -> 0 | L28: =COUNTIF('Game 1'!$B$14:$G$14,"*"&$A28&"*")+COUNTIF('Game 1'!$B$15:$G$15,"*"&$A28&"*")+COUNTIF('Game 1'!$B$16:$G$16,"*"&$A28&"*")+COUNTIF('Game 2'!$B$14:$G$14,"*"&$A28&"*")+COUNTIF('Game 2'!$B$15:$G$15,"*"&$A28&"*")+COUNTIF('Game 2'!$B$16:$G$16,"*"&$A28&"*")+COUNTIF('Game 3'!$B$14:$G$14,"*"&$A28&"*")+COUNTIF('Game 3'!$B$15:$G$15,"*"&$A28&"*")+COUNTIF('Game 3'!$B$16:$G$16,"*"&$A28&"*")+COUNTIF('Game 4'!$B$14:$G$14,"*"&$A28&"*")+COUNTIF('Game 4'!$B$15:$G$15,"*"&$A28&"*")+COUNTIF('Game 4'!$B$16:$G$16,"*"&$A28&"*")+COUNTIF('Game 5'!$B$14:$G$14,"*"&$A28&"*")+COUNTIF('Game 5'!$B$15:$G$15,"*"&$A28&"*")+COUNTIF('Game 5'!$B$16:$G$16,"*"&$A28&"*")+COUNTIF('Game 6'!$B$14:$G$14,"*"&$A28&"*")+COUNTIF('Game 6'!$B$15:$G$15,"*"&$A28&"*")+COUNTIF('Game 6'!$B$16:$G$16,"*"&$A28&"*")+COUNTIF('Game 7'!$B$14:$G$14,"*"&$A28&"*")+COUNTIF('Game 7'!$B$15:$G$15,"*"&$A28&"*")+COUNTIF('Game 7'!$B$16:$G$16,"*"&$A28&"*")+COUNTIF('Game 8'!$B$14:$G$14,"*"&$A28&"*")+COUNTIF('Game 8'!$B$15:$G$15,"*"&$A28&"*")+COUNTIF('Game 8'!$B$16:$G$16,"*"&$A28&"*")+COUNTIF('Game 9'!$B$14:$G$14,"*"&$A28&"*")+COUNTIF('Game 9'!$B$15:$G$15,"*"&$A28&"*")+COUNTIF('Game 9'!$B$16:$G$16,"*"&$A28&"*")+COUNTIF('Game 10'!$B$14:$G$14,"*"&$A28&"*")+COUNTIF('Game 10'!$B$15:$G$15,"*"&$A28&"*")+COUNTIF('Game 10'!$B$16:$G$16,"*"&$A28&"*")+COUNTIF('Game 11'!$B$14:$G$14,"*"&$A28&"*")+COUNTIF('Game 11'!$B$15:$G$15,"*"&$A28&"*")+COUNTIF('Game 11'!$B$16:$G$16,"*"&$A28&"*")+COUNTIF('Game 12'!$B$14:$G$14,"*"&$A28&"*")+COUNTIF('Game 12'!$B$15:$G$15,"*"&$A28&"*")+COUNTIF('Game 12'!$B$16:$G$16,"*"&$A28&"*")+COUNTIF('Game 13'!$B$14:$G$14,"*"&$A28&"*")+COUNTIF('Game 13'!$B$15:$G$15,"*"&$A28&"*")+COUNTIF('Game 13'!$B$16:$G$16,"*"&$A28&"*")+COUNTIF('Game 14'!$B$14:$G$14,"*"&$A28&"*")+COUNTIF('Game 14'!$B$15:$G$15,"*"&$A28&"*")+COUNTIF('Game 14'!$B$16:$G$16,"*"&$A28&"*")+COUNTIF('Game 15'!$B$14:$G$14,"*"&$A28&"*")+COUNTIF('Game 15'!$B$15:$G$15,"*"&$A28&"*")+COUNTIF('Game 15'!$B$16:$G$16,"*"&$A28&"*")+COUNTIF('Game 16'!$B$14:$G$14,"*"&$A28&"*")+COUNTIF('Game 16'!$B$15:$G$15,"*"&$A28&"*")+COUNTIF('Game 16'!$B$16:$G$16,"*"&$A28&"*") -> 0 | M28: =SUM(B28:G28) -> 0 | N28: =SUM(H28:K28) -> 0 | O28: =L28 -> 0 | P28: =SUM(M28:O28) -> 0 | Q28: =IF(P28=0,0,M28/P28) -> 0 | R28: =IF(P28=0,0,N28/P28) -> 0 | S28: =IF(P28=0,0,O28/P28) -> 0 | T28: =IF($U$18=0,0,P28/$U$18) -> 0 | V28: ='Game 1'!Z12+'Game 2'!Z12+'Game 3'!Z12+'Game 4'!Z12+'Game 5'!Z12+'Game 6'!Z12+'Game 7'!Z12+'Game 8'!Z12+'Game 9'!Z12+'Game 10'!Z12+'Game 11'!Z12+'Game 12'!Z12+'Game 13'!Z12+'Game 14'!Z12+'Game 15'!Z12+'Game 16'!Z12 -> 0 | W28: =COUNTIF('Game 1'!$J$5,"*"&$A28&"*")+COUNTIF('Game 2'!$J$5,"*"&$A28&"*")+COUNTIF('Game 3'!$J$5,"*"&$A28&"*")+COUNTIF('Game 4'!$J$5,"*"&$A28&"*")+COUNTIF('Game 5'!$J$5,"*"&$A28&"*")+COUNTIF('Game 6'!$J$5,"*"&$A28&"*")+COUNTIF('Game 7'!$J$5,"*"&$A28&"*")+COUNTIF('Game 8'!$J$5,"*"&$A28&"*")+COUNTIF('Game 9'!$J$5,"*"&$A28&"*")+COUNTIF('Game 10'!$J$5,"*"&$A28&"*")+COUNTIF('Game 11'!$J$5,"*"&$A28&"*")+COUNTIF('Game 12'!$J$5,"*"&$A28&"*")+COUNTIF('Game 13'!$J$5,"*"&$A28&"*")+COUNTIF('Game 14'!$J$5,"*"&$A28&"*")+COUNTIF('Game 15'!$J$5,"*"&$A28&"*")+COUNTIF('Game 16'!$J$5,"*"&$A28&"*") -> 0 | X28: =COUNTIF('Game 1'!$J$6,"*"&$A28&"*")+COUNTIF('Game 2'!$J$6,"*"&$A28&"*")+COUNTIF('Game 3'!$J$6,"*"&$A28&"*")+COUNTIF('Game 4'!$J$6,"*"&$A28&"*")+COUNTIF('Game 5'!$J$6,"*"&$A28&"*")+COUNTIF('Game 6'!$J$6,"*"&$A28&"*")+COUNTIF('Game 7'!$J$6,"*"&$A28&"*")+COUNTIF('Game 8'!$J$6,"*"&$A28&"*")+COUNTIF('Game 9'!$J$6,"*"&$A28&"*")+COUNTIF('Game 10'!$J$6,"*"&$A28&"*")+COUNTIF('Game 11'!$J$6,"*"&$A28&"*")+COUNTIF('Game 12'!$J$6,"*"&$A28&"*")+COUNTIF('Game 13'!$J$6,"*"&$A28&"*")+COUNTIF('Game 14'!$J$6,"*"&$A28&"*")+COUNTIF('Game 15'!$J$6,"*"&$A28&"*")+COUNTIF('Game 16'!$J$6,"*"&$A28&"*") -> 0 | Y28: =COUNTIF('Game 1'!$J$7,"*"&$A28&"*")+COUNTIF('Game 2'!$J$7,"*"&$A28&"*")+COUNTIF('Game 3'!$J$7,"*"&$A28&"*")+COUNTIF('Game 4'!$J$7,"*"&$A28&"*")+COUNTIF('Game 5'!$J$7,"*"&$A28&"*")+COUNTIF('Game 6'!$J$7,"*"&$A28&"*")+COUNTIF('Game 7'!$J$7,"*"&$A28&"*")+COUNTIF('Game 8'!$J$7,"*"&$A28&"*")+COUNTIF('Game 9'!$J$7,"*"&$A28&"*")+COUNTIF('Game 10'!$J$7,"*"&$A28&"*")+COUNTIF('Game 11'!$J$7,"*"&$A28&"*")+COUNTIF('Game 12'!$J$7,"*"&$A28&"*")+COUNTIF('Game 13'!$J$7,"*"&$A28&"*")+COUNTIF('Game 14'!$J$7,"*"&$A28&"*")+COUNTIF('Game 15'!$J$7,"*"&$A28&"*")+COUNTIF('Game 16'!$J$7,"*"&$A28&"*") -> 0 | Z28: =COUNTIF('Game 1'!$J$8,"*"&$A28&"*")+COUNTIF('Game 2'!$J$8,"*"&$A28&"*")+COUNTIF('Game 3'!$J$8,"*"&$A28&"*")+COUNTIF('Game 4'!$J$8,"*"&$A28&"*")+COUNTIF('Game 5'!$J$8,"*"&$A28&"*")+COUNTIF('Game 6'!$J$8,"*"&$A28&"*")+COUNTIF('Game 7'!$J$8,"*"&$A28&"*")+COUNTIF('Game 8'!$J$8,"*"&$A28&"*")+COUNTIF('Game 9'!$J$8,"*"&$A28&"*")+COUNTIF('Game 10'!$J$8,"*"&$A28&"*")+COUNTIF('Game 11'!$J$8,"*"&$A28&"*")+COUNTIF('Game 12'!$J$8,"*"&$A28&"*")+COUNTIF('Game 13'!$J$8,"*"&$A28&"*")+COUNTIF('Game 14'!$J$8,"*"&$A28&"*")+COUNTIF('Game 15'!$J$8,"*"&$A28&"*")+COUNTIF('Game 16'!$J$8,"*"&$A28&"*") -> 0 | AA28: =COUNTIF('Game 1'!$J$9,"*"&$A28&"*")+COUNTIF('Game 2'!$J$9,"*"&$A28&"*")+COUNTIF('Game 3'!$J$9,"*"&$A28&"*")+COUNTIF('Game 4'!$J$9,"*"&$A28&"*")+COUNTIF('Game 5'!$J$9,"*"&$A28&"*")+COUNTIF('Game 6'!$J$9,"*"&$A28&"*")+COUNTIF('Game 7'!$J$9,"*"&$A28&"*")+COUNTIF('Game 8'!$J$9,"*"&$A28&"*")+COUNTIF('Game 9'!$J$9,"*"&$A28&"*")+COUNTIF('Game 10'!$J$9,"*"&$A28&"*")+COUNTIF('Game 11'!$J$9,"*"&$A28&"*")+COUNTIF('Game 12'!$J$9,"*"&$A28&"*")+COUNTIF('Game 13'!$J$9,"*"&$A28&"*")+COUNTIF('Game 14'!$J$9,"*"&$A28&"*")+COUNTIF('Game 15'!$J$9,"*"&$A28&"*")+COUNTIF('Game 16'!$J$9,"*"&$A28&"*") -> 0 | AB28: =COUNTIF('Game 1'!$J$10,"*"&$A28&"*")+COUNTIF('Game 2'!$J$10,"*"&$A28&"*")+COUNTIF('Game 3'!$J$10,"*"&$A28&"*")+COUNTIF('Game 4'!$J$10,"*"&$A28&"*")+COUNTIF('Game 5'!$J$10,"*"&$A28&"*")+COUNTIF('Game 6'!$J$10,"*"&$A28&"*")+COUNTIF('Game 7'!$J$10,"*"&$A28&"*")+COUNTIF('Game 8'!$J$10,"*"&$A28&"*")+COUNTIF('Game 9'!$J$10,"*"&$A28&"*")+COUNTIF('Game 10'!$J$10,"*"&$A28&"*")+COUNTIF('Game 11'!$J$10,"*"&$A28&"*")+COUNTIF('Game 12'!$J$10,"*"&$A28&"*")+COUNTIF('Game 13'!$J$10,"*"&$A28&"*")+COUNTIF('Game 14'!$J$10,"*"&$A28&"*")+COUNTIF('Game 15'!$J$10,"*"&$A28&"*")+COUNTIF('Game 16'!$J$10,"*"&$A28&"*") -> 0 | AC28: =COUNTIF('Game 1'!$J$11,"*"&$A28&"*")+COUNTIF('Game 2'!$J$11,"*"&$A28&"*")+COUNTIF('Game 3'!$J$11,"*"&$A28&"*")+COUNTIF('Game 4'!$J$11,"*"&$A28&"*")+COUNTIF('Game 5'!$J$11,"*"&$A28&"*")+COUNTIF('Game 6'!$J$11,"*"&$A28&"*")+COUNTIF('Game 7'!$J$11,"*"&$A28&"*")+COUNTIF('Game 8'!$J$11,"*"&$A28&"*")+COUNTIF('Game 9'!$J$11,"*"&$A28&"*")+COUNTIF('Game 10'!$J$11,"*"&$A28&"*")+COUNTIF('Game 11'!$J$11,"*"&$A28&"*")+COUNTIF('Game 12'!$J$11,"*"&$A28&"*")+COUNTIF('Game 13'!$J$11,"*"&$A28&"*")+COUNTIF('Game 14'!$J$11,"*"&$A28&"*")+COUNTIF('Game 15'!$J$11,"*"&$A28&"*")+COUNTIF('Game 16'!$J$11,"*"&$A28&"*") -> 0 | AD28: =COUNTIF('Game 1'!$J$12,"*"&$A28&"*")+COUNTIF('Game 2'!$J$12,"*"&$A28&"*")+COUNTIF('Game 3'!$J$12,"*"&$A28&"*")+COUNTIF('Game 4'!$J$12,"*"&$A28&"*")+COUNTIF('Game 5'!$J$12,"*"&$A28&"*")+COUNTIF('Game 6'!$J$12,"*"&$A28&"*")+COUNTIF('Game 7'!$J$12,"*"&$A28&"*")+COUNTIF('Game 8'!$J$12,"*"&$A28&"*")+COUNTIF('Game 9'!$J$12,"*"&$A28&"*")+COUNTIF('Game 10'!$J$12,"*"&$A28&"*")+COUNTIF('Game 11'!$J$12,"*"&$A28&"*")+COUNTIF('Game 12'!$J$12,"*"&$A28&"*")+COUNTIF('Game 13'!$J$12,"*"&$A28&"*")+COUNTIF('Game 14'!$J$12,"*"&$A28&"*")+COUNTIF('Game 15'!$J$12,"*"&$A28&"*")+COUNTIF('Game 16'!$J$12,"*"&$A28&"*") -> 0 | AE28: =COUNTIF('Game 1'!$J$13,"*"&$A28&"*")+COUNTIF('Game 2'!$J$13,"*"&$A28&"*")+COUNTIF('Game 3'!$J$13,"*"&$A28&"*")+COUNTIF('Game 4'!$J$13,"*"&$A28&"*")+COUNTIF('Game 5'!$J$13,"*"&$A28&"*")+COUNTIF('Game 6'!$J$13,"*"&$A28&"*")+COUNTIF('Game 7'!$J$13,"*"&$A28&"*")+COUNTIF('Game 8'!$J$13,"*"&$A28&"*")+COUNTIF('Game 9'!$J$13,"*"&$A28&"*")+COUNTIF('Game 10'!$J$13,"*"&$A28&"*")+COUNTIF('Game 11'!$J$13,"*"&$A28&"*")+COUNTIF('Game 12'!$J$13,"*"&$A28&"*")+COUNTIF('Game 13'!$J$13,"*"&$A28&"*")+COUNTIF('Game 14'!$J$13,"*"&$A28&"*")+COUNTIF('Game 15'!$J$13,"*"&$A28&"*")+COUNTIF('Game 16'!$J$13,"*"&$A28&"*") -> 0 | AF28: =COUNTIF('Game 1'!$J$14,"*"&$A28&"*")+COUNTIF('Game 2'!$J$14,"*"&$A28&"*")+COUNTIF('Game 3'!$J$14,"*"&$A28&"*")+COUNTIF('Game 4'!$J$14,"*"&$A28&"*")+COUNTIF('Game 5'!$J$14,"*"&$A28&"*")+COUNTIF('Game 6'!$J$14,"*"&$A28&"*")+COUNTIF('Game 7'!$J$14,"*"&$A28&"*")+COUNTIF('Game 8'!$J$14,"*"&$A28&"*")+COUNTIF('Game 9'!$J$14,"*"&$A28&"*")+COUNTIF('Game 10'!$J$14,"*"&$A28&"*")+COUNTIF('Game 11'!$J$14,"*"&$A28&"*")+COUNTIF('Game 12'!$J$14,"*"&$A28&"*")+COUNTIF('Game 13'!$J$14,"*"&$A28&"*")+COUNTIF('Game 14'!$J$14,"*"&$A28&"*")+COUNTIF('Game 15'!$J$14,"*"&$A28&"*")+COUNTIF('Game 16'!$J$14,"*"&$A28&"*") -> 0 | AG28: =COUNTIF('Game 1'!$J$15,"*"&$A28&"*")+COUNTIF('Game 2'!$J$15,"*"&$A28&"*")+COUNTIF('Game 3'!$J$15,"*"&$A28&"*")+COUNTIF('Game 4'!$J$15,"*"&$A28&"*")+COUNTIF('Game 5'!$J$15,"*"&$A28&"*")+COUNTIF('Game 6'!$J$15,"*"&$A28&"*")+COUNTIF('Game 7'!$J$15,"*"&$A28&"*")+COUNTIF('Game 8'!$J$15,"*"&$A28&"*")+COUNTIF('Game 9'!$J$15,"*"&$A28&"*")+COUNTIF('Game 10'!$J$15,"*"&$A28&"*")+COUNTIF('Game 11'!$J$15,"*"&$A28&"*")+COUNTIF('Game 12'!$J$15,"*"&$A28&"*")+COUNTIF('Game 13'!$J$15,"*"&$A28&"*")+COUNTIF('Game 14'!$J$15,"*"&$A28&"*")+COUNTIF('Game 15'!$J$15,"*"&$A28&"*")+COUNTIF('Game 16'!$J$15,"*"&$A28&"*") -> 0 | AH28: =COUNTIF('Game 1'!$J$16,"*"&$A28&"*")+COUNTIF('Game 2'!$J$16,"*"&$A28&"*")+COUNTIF('Game 3'!$J$16,"*"&$A28&"*")+COUNTIF('Game 4'!$J$16,"*"&$A28&"*")+COUNTIF('Game 5'!$J$16,"*"&$A28&"*")+COUNTIF('Game 6'!$J$16,"*"&$A28&"*")+COUNTIF('Game 7'!$J$16,"*"&$A28&"*")+COUNTIF('Game 8'!$J$16,"*"&$A28&"*")+COUNTIF('Game 9'!$J$16,"*"&$A28&"*")+COUNTIF('Game 10'!$J$16,"*"&$A28&"*")+COUNTIF('Game 11'!$J$16,"*"&$A28&"*")+COUNTIF('Game 12'!$J$16,"*"&$A28&"*")+COUNTIF('Game 13'!$J$16,"*"&$A28&"*")+COUNTIF('Game 14'!$J$16,"*"&$A28&"*")+COUNTIF('Game 15'!$J$16,"*"&$A28&"*")+COUNTIF('Game 16'!$J$16,"*"&$A28&"*") -> 0 | AI28: =COUNTIF('Game 1'!$J$17,"*"&$A28&"*")+COUNTIF('Game 2'!$J$17,"*"&$A28&"*")+COUNTIF('Game 3'!$J$17,"*"&$A28&"*")+COUNTIF('Game 4'!$J$17,"*"&$A28&"*")+COUNTIF('Game 5'!$J$17,"*"&$A28&"*")+COUNTIF('Game 6'!$J$17,"*"&$A28&"*")+COUNTIF('Game 7'!$J$17,"*"&$A28&"*")+COUNTIF('Game 8'!$J$17,"*"&$A28&"*")+COUNTIF('Game 9'!$J$17,"*"&$A28&"*")+COUNTIF('Game 10'!$J$17,"*"&$A28&"*")+COUNTIF('Game 11'!$J$17,"*"&$A28&"*")+COUNTIF('Game 12'!$J$17,"*"&$A28&"*")+COUNTIF('Game 13'!$J$17,"*"&$A28&"*")+COUNTIF('Game 14'!$J$17,"*"&$A28&"*")+COUNTIF('Game 15'!$J$17,"*"&$A28&"*")+COUNTIF('Game 16'!$J$17,"*"&$A28&"*") -> 0 | AJ28: =COUNTIF('Game 1'!$L$15,"*"&$A28&"*")+COUNTIF('Game 2'!$L$15,"*"&$A28&"*")+COUNTIF('Game 3'!$L$15,"*"&$A28&"*")+COUNTIF('Game 4'!$L$15,"*"&$A28&"*")+COUNTIF('Game 5'!$L$15,"*"&$A28&"*")+COUNTIF('Game 6'!$L$15,"*"&$A28&"*")+COUNTIF('Game 7'!$L$15,"*"&$A28&"*")+COUNTIF('Game 8'!$L$15,"*"&$A28&"*")+COUNTIF('Game 9'!$L$15,"*"&$A28&"*")+COUNTIF('Game 10'!$L$15,"*"&$A28&"*")+COUNTIF('Game 11'!$L$15,"*"&$A28&"*")+COUNTIF('Game 12'!$L$15,"*"&$A28&"*")+COUNTIF('Game 13'!$L$15,"*"&$A28&"*")+COUNTIF('Game 14'!$L$15,"*"&$A28&"*")+COUNTIF('Game 15'!$L$15,"*"&$A28&"*")+COUNTIF('Game 16'!$L$15,"*"&$A28&"*") -> 0
